{"text_format":"1","workbook":"xlsx","n_sheets":12,"sheets":["Al","E1","E2","E3","E4","E5","E6","E7","E8","E9","E10","Indicadores"],"not_rendered":{"charts":179,"images":2,"macros":1,"external_links":0,"defined_names":299,"comments":0,"pivot_tables":0},"unopened":[],"bounds":{"document_bytes":16777216,"sheet_cells":100000,"rows_first":2000,"rows_last":500,"rows_between":2000,"halvings":0,"cell_chars":16384,"cell_head_chars":4096},"cells_cut":0,"cells_raw":0,"read":"whole","date_system":"1900"}

{"sheet":"Al","index":0,"n_rows":36,"n_cols":4,"rows_kept":36,"cut":false,"hidden":false,"merged":[[3,1,3,2],[4,1,4,2],[1,1,1,2],[6,2,6,3]]}
[null,null,null,"REGISTRO DE EVALUACIÓN"]
[null,"CENTRO",null,"AVE MARÍA ALBOLOTE"]
[]
[null,"CURSO",null,"INSTRUMENTO"]
[null,"1º",null,"RÚBRICAS LENGUA"]
[]
[null,null,"ALUMNADO"]
[]
[null,null,1]
[null,null,2]
[null,null,3]
[" ",null,4]
[null,null,5]
[null,null,6]
[null,null,7]
[null,null,8]
[null,null,9]
[null,null,10]
[null,null,11]
[null,null,12]
[null,null,13]
[null,null,14]
[null,null,15]
[null,null,16]
[null,null,17]
[null,null,18]
[null,null,19]
[null,null,20]
[null,null,21]
[null,null,22]
[null,null,23]
[null,null,24]
[null,null,25]
[null,null,26]
[null,null,27]
[null,null,28]

{"sheet":"E1","index":1,"n_rows":60,"n_cols":68,"rows_kept":60,"cut":false,"hidden":false,"merged":[[38,38,38,41],[38,2,38,5],[1,66,1,67],[33,4,33,5],[33,2,33,3],[34,2,34,3],[34,4,34,5],[35,2,35,3],[35,4,35,5],[36,2,36,3],[36,4,36,5],[37,2,37,3],[37,4,37,5],[38,62,38,65],[36,64,36,65],[37,46,37,47],[37,48,37,49],[37,50,37,51],[37,52,37,53],[37,54,37,55],[37,56,37,57],[37,58,37,59],[37,60,37,61],[37,62,37,63],[37,64,37,65],[36,46,36,47],[36,48,36,49],[36,50,36,51],[36,52,36,53],[36,54,36,55],[36,56,36,57],[36,58,36,59],[36,60,36,61],[36,62,36,63],[34,64,34,65],[35,46,35,47],[35,48,35,49],[35,50,35,51],[35,52,35,53],[35,54,35,55],[35,56,35,57],[35,58,35,59],[35,60,35,61],[35,62,35,63],[35,64,35,65],[34,46,34,47],[34,48,34,49],[34,50,34,51],[34,52,34,53],[34,54,34,55],[34,56,34,57],[34,58,34,59],[34,60,34,61],[34,62,34,63],[1,46,1,49],[1,50,1,53],[1,54,1,57],[1,58,1,61],[1,62,1,65],[33,46,33,47],[33,48,33,49],[33,50,33,51],[33,52,33,53],[33,54,33,55],[33,56,33,57],[33,58,33,59],[33,60,33,61],[33,62,33,63],[33,64,33,65],[1,0,1,1],[38,42,38,45],[1,10,1,13],[1,14,1,17],[1,18,1,21],[1,42,1,45],[1,22,1,25],[1,26,1,29],[1,30,1,33],[1,34,1,37],[1,38,1,41],[33,8,33,9],[35,8,35,9],[36,8,36,9],[37,8,37,9],[33,6,33,7],[35,6,35,7],[36,6,36,7],[37,6,37,7],[1,6,1,9],[34,6,34,7],[34,8,34,9],[37,10,37,11],[37,12,37,13],[33,14,33,15],[33,16,33,17],[35,14,35,15],[35,16,35,17],[36,14,36,15],[36,16,36,17],[37,14,37,15],[37,16,37,17],[33,10,33,11],[33,12,33,13],[35,10,35,11],[35,12,35,13],[36,10,36,11],[36,12,36,13],[34,10,34,11],[34,12,34,13],[34,14,34,15],[34,16,34,17],[37,18,37,19],[37,20,37,21],[33,22,33,23],[33,24,33,25],[35,22,35,23],[35,24,35,25],[36,22,36,23],[36,24,36,25],[37,22,37,23],[37,24,37,25],[33,18,33,19],[33,20,33,21],[35,18,35,19],[35,20,35,21],[36,18,36,19],[36,20,36,21],[34,18,34,19],[34,20,34,21],[34,22,34,23],[34,24,34,25],[33,30,33,31],[33,32,33,33],[35,30,35,31],[35,32,35,33],[36,30,36,31],[36,32,36,33],[37,30,37,31],[37,32,37,33],[33,26,33,27],[33,28,33,29],[35,26,35,27],[35,28,35,29],[36,26,36,27],[36,28,36,29],[34,26,34,27],[34,28,34,29],[34,30,34,31],[34,32,34,33],[35,34,35,35],[35,36,35,37],[36,34,36,35],[36,36,36,37],[34,34,34,35],[34,36,34,37],[34,38,34,39],[34,40,34,41],[37,26,37,27],[37,28,37,29],[2,0,2,1],[2,66,2,67],[37,42,37,43],[37,44,37,45],[33,42,33,43],[33,44,33,45],[35,42,35,43],[35,44,35,45],[36,42,36,43],[36,44,36,45],[34,42,34,43],[34,44,34,45],[37,34,37,35],[37,36,37,37],[33,38,33,39],[33,40,33,41],[35,38,35,39],[35,40,35,41],[36,38,36,39],[36,40,36,41],[37,38,37,39],[37,40,37,41],[33,34,33,35],[33,36,33,37]]}
[null,null,null,null,null,null,{"$f":"IF(J3=\"\",0,IF(J32>0,J1,0))","v":0},null,null,{"$f":"IF(J3=\"\",\"\",VLOOKUP(J3,Indicadores,2,FALSE))","v":""},{"$f":"IF(N3=\"\",0,IF(N32>0,N1,0))","v":0},null,null,{"$f":"IF(N3=\"\",\"\",VLOOKUP(N3,Indicadores,2,FALSE))","v":""},{"$f":"IF(R3=\"\",0,IF(R32>0,R1,0))","v":0},null,null,{"$f":"IF(R3=\"\",\"\",VLOOKUP(R3,Indicadores,2,FALSE))","v":""},{"$f":"IF(V3=\"\",0,IF(V32>0,V1,0))","v":0},null,null,{"$f":"IF(V3=\"\",\"\",VLOOKUP(V3,Indicadores,2,FALSE))","v":""},{"$f":"IF(Z3=\"\",0,IF(Z32>0,Z1,0))","v":0},null,null,{"$f":"IF(Z3=\"\",\"\",VLOOKUP(Z3,Indicadores,2,FALSE))","v":""},{"$f":"IF(AD3=\"\",0,IF(AD32>0,AD1,0))","v":0},null,null,{"$f":"IF(AD3=\"\",\"\",VLOOKUP(AD3,Indicadores,2,FALSE))","v":""},{"$f":"IF(AH3=\"\",0,IF(AH32>0,AH1,0))","v":0},null,null,{"$f":"IF(AH3=\"\",\"\",VLOOKUP(AH3,Indicadores,2,FALSE))","v":""},{"$f":"IF(AL3=\"\",0,IF(AL32>0,AL1,0))","v":0},null,null,{"$f":"IF(AL3=\"\",\"\",VLOOKUP(AL3,Indicadores,2,FALSE))","v":""},{"$f":"IF(AP3=\"\",0,IF(AP32>0,AP1,0))","v":0},null,null,{"$f":"IF(AP3=\"\",\"\",VLOOKUP(AP3,Indicadores,2,FALSE))","v":""},{"$f":"IF(AT3=\"\",0,IF(AT32>0,AT1,0))","v":0},null,null,{"$f":"IF(AT3=\"\",\"\",VLOOKUP(AT3,Indicadores,2,FALSE))","v":""},{"$f":"IF(AX3=\"\",0,IF(AX32>0,AX1,0))","v":0},null,null,{"$f":"IF(AX3=\"\",\"\",VLOOKUP(AX3,Indicadores,2,FALSE))","v":""},{"$f":"IF(BB3=\"\",0,IF(BB32>0,BB1,0))","v":0},null,null,{"$f":"IF(BB3=\"\",\"\",VLOOKUP(BB3,Indicadores,2,FALSE))","v":""},{"$f":"IF(BF3=\"\",0,IF(BF32>0,BF1,0))","v":0},null,null,{"$f":"IF(BF3=\"\",\"\",VLOOKUP(BF3,Indicadores,2,FALSE))","v":""},{"$f":"IF(BJ3=\"\",0,IF(BJ32>0,BJ1,0))","v":0},null,null,{"$f":"IF(BJ3=\"\",\"\",VLOOKUP(BJ3,Indicadores,2,FALSE))","v":""},{"$f":"IF(BN3=\"\",0,IF(BN32>0,BN1,0))","v":0},null,null,{"$f":"IF(BN3=\"\",\"\",VLOOKUP(BN3,Indicadores,2,FALSE))","v":""}]
[{"$f":"Al!D2 & CHAR(10)  & Al!D5  & CHAR(32) & Al!B5","v":"AVE MARÍA ALBOLOTE\nRÚBRICAS LENGUA 1º"},null,null,"Total puntos","Puntuación sobre 4","Puntuación sobre 10",{"$f":"IF(J3=\"\",\"\",VLOOKUP(J3,Indicadores,3,FALSE))","v":""},null,null,null,{"$f":"IF(N3=\"\",\"\",VLOOKUP(N3,Indicadores,3,FALSE))","v":""},null,null,null,{"$f":"IF(R3=\"\",\"\",VLOOKUP(R3,Indicadores,3,FALSE))","v":""},null,null,null,{"$f":"IF(V3=\"\",\"\",VLOOKUP(V3,Indicadores,3,FALSE))","v":""},null,null,null,{"$f":"IF(Z3=\"\",\"\",VLOOKUP(Z3,Indicadores,3,FALSE))","v":""},null,null,null,{"$f":"IF(AD3=\"\",\"\",VLOOKUP(AD3,Indicadores,3,FALSE))","v":""},null,null,null,{"$f":"IF(AH3=\"\",\"\",VLOOKUP(AH3,Indicadores,3,FALSE))","v":""},null,null,null,{"$f":"IF(AL3=\"\",\"\",VLOOKUP(AL3,Indicadores,3,FALSE))","v":""},null,null,null,{"$f":"IF(AP3=\"\",\"\",VLOOKUP(AP3,Indicadores,3,FALSE))","v":""},null,null,null,{"$f":"IF(AT3=\"\",\"\",VLOOKUP(AT3,Indicadores,3,FALSE))","v":""},null,null,null,{"$f":"IF(AX3=\"\",\"\",VLOOKUP(AX3,Indicadores,3,FALSE))","v":""},null,null,null,{"$f":"IF(BB3=\"\",\"\",VLOOKUP(BB3,Indicadores,3,FALSE))","v":""},null,null,null,{"$f":"IF(BF3=\"\",\"\",VLOOKUP(BF3,Indicadores,3,FALSE))","v":""},null,null,null,{"$f":"IF(BJ3=\"\",\"\",VLOOKUP(BJ3,Indicadores,3,FALSE))","v":""},null,null,null,{"$f":"IF(BN3=\"\",\"\",VLOOKUP(BN3,Indicadores,3,FALSE))","v":""}]
[null,null,null,{"$f":"SUM(Valores)*4","v":0},4,10,null,null,null,null,null,null,null,null,null,null,null,null,null,null,null,null,null,null,null,null,null,null,null,null,null,null,null,null,null,null,null,null,null,null,null,null,null,null,null,null,null,null,null,null,null,null,null,null,null,null,null,null,null,null,null,null,null,null,null,null,{"$f":"A3","v":0}]
[{"$f":"IF(Al!D9=\"\",\"\",Al!C9)","v":""},{"$f":"IF(Al!D9=\"\",\"\",Al!D9)","v":""},null,{"$f":"IF((J4*V.01+N4*V.02+R4*V.03+V4*V.04+Z4*V.05+AD4*V.06+AH4*V.07+AL4*V.08+AP4*V.09+AT4*V.10+AX4*V.11+BB4*V.12+BF4*V.13+BJ4*V.14+BN4*V.15)=0,\"\",J4*V.01+N4*V.02+R4*V.03+V4*V.04+Z4*V.05+AD4*V.06+AH4*V.07+AL4*V.08+AP4*V.09+AT4*V.10+AX4*V.11+BB4*V.12+BF4*V.13+BJ4*V.14+BN4*V.15)","v":""},{"$f":"IF(D4=\"\",\"\",D4*Punt4/total)","v":""},{"$f":"IF(D4=\"\",\"\",D4*Punt10/total)","v":""},null,null,null,{"$f":"IFERROR(AVERAGE(G4:I4),0)","v":0},null,null,null,{"$f":"IFERROR(AVERAGE(K4:M4),0)","v":0},null,null,null,{"$f":"IFERROR(AVERAGE(O4:Q4),0)","v":0},null,null,null,{"$f":"IFERROR(AVERAGE(S4:U4),0)","v":0},null,null,null,{"$f":"IFERROR(AVERAGE(W4:Y4),0)","v":0},null,null,null,{"$f":"IFERROR(AVERAGE(AA4:AC4),0)","v":0},null,null,null,{"$f":"IFERROR(AVERAGE(AE4:AG4),0)","v":0},null,null,null,{"$f":"IFERROR(AVERAGE(AI4:AK4),0)","v":0},null,null,null,{"$f":"IFERROR(AVERAGE(AM4:AO4),0)","v":0},null,null,null,{"$f":"IFERROR(AVERAGE(AQ4:AS4),0)","v":0},null,null,null,{"$f":"IFERROR(AVERAGE(AU4:AW4),0)","v":0},null,null,null,{"$f":"IFERROR(AVERAGE(AY4:BA4),0)","v":0},null,null,null,{"$f":"IFERROR(AVERAGE(BC4:BE4),0)","v":0},null,null,null,{"$f":"IFERROR(AVERAGE(BG4:BI4),0)","v":0},null,null,null,{"$f":"IFERROR(AVERAGE(BK4:BM4),0)","v":0},{"$f":"A4","v":""},{"$f":"B4","v":""}]
[{"$f":"IF(Al!D10=\"\",\"\",Al!C10)","v":""},{"$f":"IF(Al!D10=\"\",\"\",Al!D10)","v":""},null,"","","",null,null,null,0,null,null,null,0,null,null,null,0,null,null,null,0,null,null,null,0,null,null,null,0,null,null,null,0,null,null,null,0,null,null,null,0,null,null,null,0,null,null,null,0,null,null,null,0,null,null,null,0,null,null,null,0,null,null,null,0,{"$f":"A5","v":""},{"$f":"B5","v":""}]
[{"$f":"IF(Al!D11=\"\",\"\",Al!C11)","v":""},{"$f":"IF(Al!D11=\"\",\"\",Al!D11)","v":""},null,"","","",null,null,null,0,null,null,null,0,null,null,null,0,null,null,null,0,null,null,null,0,null,null,null,0,null,null,null,0,null,null,null,0,null,null,null,0,null,null,null,0,null,null,null,0,null,null,null,0,null,null,null,0,null,null,null,0,null,null,null,0,"",""]
[{"$f":"IF(Al!D12=\"\",\"\",Al!C12)","v":""},{"$f":"IF(Al!D12=\"\",\"\",Al!D12)","v":""},null,"","","",null,null,null,0,null,null,null,0,null,null,null,0,null,null,null,0,null,null,null,0,null,null,null,0,null,null,null,0,null,null,null,0,null,null,null,0,null,null,null,0,null,null,null,0,null,null,null,0,null,null,null,0,null,null,null,0,null,null,null,0,"",""]
[{"$f":"IF(Al!D13=\"\",\"\",Al!C13)","v":""},{"$f":"IF(Al!D13=\"\",\"\",Al!D13)","v":""},null,"","","",null,null,null,0,null,null,null,0,null,null,null,0,null,null,null,0,null,null,null,0,null,null,null,0,null,null,null,0,null,null,null,0,null,null,null,0,null,null,null,0,null,null,null,0,null,null,null,0,null,null,null,0,null,null,null,0,null,null,null,0,"",""]
[{"$f":"IF(Al!D14=\"\",\"\",Al!C14)","v":""},{"$f":"IF(Al!D14=\"\",\"\",Al!D14)","v":""},null,"","","",null,null,null,0,null,null,null,0,null,null,null,0,null,null,null,0,null,null,null,0,null,null,null,0,null,null,null,0,null,null,null,0,null,null,null,0,null,null,null,0,null,null,null,0,null,null,null,0,null,null,null,0,null,null,null,0,null,null,null,0,"",""]
[{"$f":"IF(Al!D15=\"\",\"\",Al!C15)","v":""},{"$f":"IF(Al!D15=\"\",\"\",Al!D15)","v":""},null,"","","",null,null,null,{"$f":"IFERROR(AVERAGE(G10:I10),0)","v":0},null,null,null,{"$f":"IFERROR(AVERAGE(K10:M10),0)","v":0},null,null,null,{"$f":"IFERROR(AVERAGE(O10:Q10),0)","v":0},null,null,null,{"$f":"IFERROR(AVERAGE(S10:U10),0)","v":0},null,null,null,{"$f":"IFERROR(AVERAGE(W10:Y10),0)","v":0},null,null,null,{"$f":"IFERROR(AVERAGE(AA10:AC10),0)","v":0},null,null,null,{"$f":"IFERROR(AVERAGE(AE10:AG10),0)","v":0},null,null,null,{"$f":"IFERROR(AVERAGE(AI10:AK10),0)","v":0},null,null,null,{"$f":"IFERROR(AVERAGE(AM10:AO10),0)","v":0},null,null,null,{"$f":"IFERROR(AVERAGE(AQ10:AS10),0)","v":0},null,null,null,{"$f":"IFERROR(AVERAGE(AU10:AW10),0)","v":0},null,null,null,{"$f":"IFERROR(AVERAGE(AY10:BA10),0)","v":0},null,null,null,{"$f":"IFERROR(AVERAGE(BC10:BE10),0)","v":0},null,null,null,{"$f":"IFERROR(AVERAGE(BG10:BI10),0)","v":0},null,null,null,{"$f":"IFERROR(AVERAGE(BK10:BM10),0)","v":0},"",""]
[{"$f":"IF(Al!D16=\"\",\"\",Al!C16)","v":""},{"$f":"IF(Al!D16=\"\",\"\",Al!D16)","v":""},null,"","","",null,null,null,0,null,null,null,0,null,null,null,0,null,null,null,0,null,null,null,0,null,null,null,0,null,null,null,0,null,null,null,0,null,null,null,0,null,null,null,0,null,null,null,0,null,null,null,0,null,null,null,0,null,null,null,0,null,null,null,0,"",""]
[{"$f":"IF(Al!D17=\"\",\"\",Al!C17)","v":""},{"$f":"IF(Al!D17=\"\",\"\",Al!D17)","v":""},null,"","","",null,null,null,0,null,null,null,0,null,null,null,0,null,null,null,0,null,null,null,0,null,null,null,0,null,null,null,0,null,null,null,0,null,null,null,0,null,null,null,0,null,null,null,0,null,null,null,0,null,null,null,0,null,null,null,0,null,null,null,0,"",""]
[{"$f":"IF(Al!D18=\"\",\"\",Al!C18)","v":""},{"$f":"IF(Al!D18=\"\",\"\",Al!D18)","v":""},null,"","","",null,null,null,0,null,null,null,0,null,null,null,0,null,null,null,0,null,null,null,0,null,null,null,0,null,null,null,0,null,null,null,0,null,null,null,0,null,null,null,0,null,null,null,0,null,null,null,0,null,null,null,0,null,null,null,0,null,null,null,0,"",""]
[{"$f":"IF(Al!D19=\"\",\"\",Al!C19)","v":""},{"$f":"IF(Al!D19=\"\",\"\",Al!D19)","v":""},null,"","","",null,null,null,0,null,null,null,0,null,null,null,0,null,null,null,0,null,null,null,0,null,null,null,0,null,null,null,0,null,null,null,0,null,null,null,0,null,null,null,0,null,null,null,0,null,null,null,0,null,null,null,0,null,null,null,0,null,null,null,0,"",""]
[{"$f":"IF(Al!D20=\"\",\"\",Al!C20)","v":""},{"$f":"IF(Al!D20=\"\",\"\",Al!D20)","v":""},null,"","","",null,null,null,0,null,null,null,0,null,null,null,0,null,null,null,0,null,null,null,0,null,null,null,0,null,null,null,0,null,null,null,0,null,null,null,0,null,null,null,0,null,null,null,0,null,null,null,0,null,null,null,0,null,null,null,0,null,null,null,0,"",""]
[{"$f":"IF(Al!D21=\"\",\"\",Al!C21)","v":""},{"$f":"IF(Al!D21=\"\",\"\",Al!D21)","v":""},null,"","","",null,null,null,0,null,null,null,0,null,null,null,0,null,null,null,0,null,null,null,0,null,null,null,0,null,null,null,0,null,null,null,0,null,null,null,0,null,null,null,0,null,null,null,0,null,null,null,0,null,null,null,0,null,null,null,0,null,null,null,0,"",""]
[{"$f":"IF(Al!D22=\"\",\"\",Al!C22)","v":""},{"$f":"IF(Al!D22=\"\",\"\",Al!D22)","v":""},null,"","","",null,null,null,0,null,null,null,0,null,null,null,0,null,null,null,0,null,null,null,0,null,null,null,0,null,null,null,0,null,null,null,0,null,null,null,0,null,null,null,0,null,null,null,0,null,null,null,0,null,null,null,0,null,null,null,0,null,null,null,0,"",""]
[{"$f":"IF(Al!D23=\"\",\"\",Al!C23)","v":""},{"$f":"IF(Al!D23=\"\",\"\",Al!D23)","v":""},null,"","","",null,null,null,0,null,null,null,0,null,null,null,0,null,null,null,0,null,null,null,0,null,null,null,0,null,null,null,0,null,null,null,0,null,null,null,0,null,null,null,0,null,null,null,0,null,null,null,0,null,null,null,0,null,null,null,0,null,null,null,0,"",""]
[{"$f":"IF(Al!D24=\"\",\"\",Al!C24)","v":""},{"$f":"IF(Al!D24=\"\",\"\",Al!D24)","v":""},null,"","","",null,null,null,0,null,null,null,0,null,null,null,0,null,null,null,0,null,null,null,0,null,null,null,0,null,null,null,0,null,null,null,0,null,null,null,0,null,null,null,0,null,null,null,0,null,null,null,0,null,null,null,0,null,null,null,0,null,null,null,0,"",""]
[{"$f":"IF(Al!D25=\"\",\"\",Al!C25)","v":""},{"$f":"IF(Al!D25=\"\",\"\",Al!D25)","v":""},null,"","","",null,null,null,0,null,null,null,0,null,null,null,0,null,null,null,0,null,null,null,0,null,null,null,0,null,null,null,0,null,null,null,0,null,null,null,0,null,null,null,0,null,null,null,0,null,null,null,0,null,null,null,0,null,null,null,0,null,null,null,0,"",""]
[{"$f":"IF(Al!D26=\"\",\"\",Al!C26)","v":""},{"$f":"IF(Al!D26=\"\",\"\",Al!D26)","v":""},null,"","","",null,null,null,0,null,null,null,0,null,null,null,0,null,null,null,0,null,null,null,0,null,null,null,0,null,null,null,0,null,null,null,0,null,null,null,0,null,null,null,0,null,null,null,0,null,null,null,0,null,null,null,0,null,null,null,0,null,null,null,0,"",""]
[{"$f":"IF(Al!D27=\"\",\"\",Al!C27)","v":""},{"$f":"IF(Al!D27=\"\",\"\",Al!D27)","v":""},null,"","","",null,null,null,0,null,null,null,0,null,null,null,0,null,null,null,0,null,null,null,0,null,null,null,0,null,null,null,0,null,null,null,0,null,null,null,0,null,null,null,0,null,null,null,0,null,null,null,0,null,null,null,0,null,null,null,0,null,null,null,0,"",""]
[{"$f":"IF(Al!D28=\"\",\"\",Al!C28)","v":""},{"$f":"IF(Al!D28=\"\",\"\",Al!D28)","v":""},null,"","","",null,null,null,{"$f":"IFERROR(AVERAGE(G23:I23),0)","v":0},null,null,null,{"$f":"IFERROR(AVERAGE(K23:M23),0)","v":0},null,null,null,{"$f":"IFERROR(AVERAGE(O23:Q23),0)","v":0},null,null,null,{"$f":"IFERROR(AVERAGE(S23:U23),0)","v":0},null,null,null,{"$f":"IFERROR(AVERAGE(W23:Y23),0)","v":0},null,null,null,{"$f":"IFERROR(AVERAGE(AA23:AC23),0)","v":0},null,null,null,{"$f":"IFERROR(AVERAGE(AE23:AG23),0)","v":0},null,null,null,{"$f":"IFERROR(AVERAGE(AI23:AK23),0)","v":0},null,null,null,{"$f":"IFERROR(AVERAGE(AM23:AO23),0)","v":0},null,null,null,{"$f":"IFERROR(AVERAGE(AQ23:AS23),0)","v":0},null,null,null,0,null,null,null,0,null,null,null,0,null,null,null,0,null,null,null,0,"",""]
[{"$f":"IF(Al!D29=\"\",\"\",Al!C29)","v":""},{"$f":"IF(Al!D29=\"\",\"\",Al!D29)","v":""},null,"","","",null,null,null,0,null,null,null,0,null,null,null,0,null,null,null,0,null,null,null,0,null,null,null,0,null,null,null,0,null,null,null,0,null,null,null,0,null,null,null,0,null,null,null,0,null,null,null,0,null,null,null,0,null,null,null,0,null,null,null,0,"",""]
[{"$f":"IF(Al!D30=\"\",\"\",Al!C30)","v":""},{"$f":"IF(Al!D30=\"\",\"\",Al!D30)","v":""},null,"","","",null,null,null,0,null,null,null,0,null,null,null,0,null,null,null,0,null,null,null,0,null,null,null,0,null,null,null,0,null,null,null,0,null,null,null,0,null,null,null,0,null,null,null,0,null,null,null,0,null,null,null,0,null,null,null,0,null,null,null,0,"",""]
[{"$f":"IF(Al!D31=\"\",\"\",Al!C31)","v":""},{"$f":"IF(Al!D31=\"\",\"\",Al!D31)","v":""},null,"","","",null,null,null,0,null,null,null,0,null,null,null,0,null,null,null,0,null,null,null,0,null,null,null,0,null,null,null,0,null,null,null,0,null,null,null,0,null,null,null,0,null,null,null,0,null,null,null,0,null,null,null,0,null,null,null,0,null,null,null,0,"",""]
[{"$f":"IF(Al!D32=\"\",\"\",Al!C32)","v":""},{"$f":"IF(Al!D32=\"\",\"\",Al!D32)","v":""},null,"","","",null,null,null,0,null,null,null,0,null,null,null,0,null,null,null,0,null,null,null,0,null,null,null,0,null,null,null,0,null,null,null,0,null,null,null,0,null,null,null,0,null,null,null,0,null,null,null,0,null,null,null,0,null,null,null,0,null,null,null,0,"",""]
[{"$f":"IF(Al!D33=\"\",\"\",Al!C33)","v":""},{"$f":"IF(Al!D33=\"\",\"\",Al!D33)","v":""},null,"","","",null,null,null,0,null,null,null,0,null,null,null,0,null,null,null,0,null,null,null,0,null,null,null,0,null,null,null,0,null,null,null,0,null,null,null,0,null,null,null,0,null,null,null,0,null,null,null,0,null,null,null,0,null,null,null,0,null,null,null,0,"",""]
[{"$f":"IF(Al!D34=\"\",\"\",Al!C34)","v":""},{"$f":"IF(Al!D34=\"\",\"\",Al!D34)","v":""},null,"","","",null,null,null,0,null,null,null,0,null,null,null,0,null,null,null,0,null,null,null,0,null,null,null,0,null,null,null,0,null,null,null,0,null,null,null,0,null,null,null,0,null,null,null,0,null,null,null,0,null,null,null,0,null,null,null,0,null,null,null,0,"",""]
[{"$f":"IF(Al!D35=\"\",\"\",Al!C35)","v":""},{"$f":"IF(Al!D35=\"\",\"\",Al!D35)","v":""},null,"","","",null,null,null,0,null,null,null,0,null,null,null,0,null,null,null,0,null,null,null,0,null,null,null,0,null,null,null,0,null,null,null,0,null,null,null,0,null,null,null,0,null,null,null,0,null,null,null,0,null,null,null,0,null,null,null,0,null,null,null,0,"",""]
[{"$f":"IF(Al!D36=\"\",\"\",Al!C36)","v":""},{"$f":"IF(Al!D36=\"\",\"\",Al!D36)","v":""},null,"","","",null,null,null,0,null,null,null,0,null,null,null,0,null,null,null,0,null,null,null,0,null,null,null,0,null,null,null,0,null,null,null,0,null,null,null,0,null,null,null,0,null,null,null,0,null,null,null,0,null,null,null,0,null,null,null,0,null,null,null,0,"",""]
["G","GLOBAL",null,null,{"$f":"IFERROR(AVERAGEIF(E4:E31,\">0\"),0)","v":0},{"$f":"IFERROR(AVERAGEIF(F4:F31,\">0\"),0)","v":0},null,null,null,{"$f":"IFERROR(AVERAGEIF(J4:J31,\">0\"),0)","v":0},null,null,null,{"$f":"IFERROR(AVERAGEIF(N4:N31,\">0\"),0)","v":0},null,null,null,{"$f":"IFERROR(AVERAGEIF(R4:R31,\">0\"),0)","v":0},null,null,null,{"$f":"IFERROR(AVERAGEIF(V4:V31,\">0\"),0)","v":0},null,null,null,{"$f":"IFERROR(AVERAGEIF(Z4:Z31,\">0\"),0)","v":0},null,null,null,{"$f":"IFERROR(AVERAGEIF(AD4:AD31,\">0\"),0)","v":0},null,null,null,{"$f":"IFERROR(AVERAGEIF(AH4:AH31,\">0\"),0)","v":0},null,null,null,{"$f":"IFERROR(AVERAGEIF(AL4:AL31,\">0\"),0)","v":0},null,null,null,{"$f":"IFERROR(AVERAGEIF(AP4:AP31,\">0\"),0)","v":0},null,null,null,{"$f":"IFERROR(AVERAGEIF(AT4:AT31,\">0\"),0)","v":0},null,null,null,{"$f":"IFERROR(AVERAGEIF(AX4:AX31,\">0\"),0)","v":0},null,null,null,{"$f":"IFERROR(AVERAGEIF(BB4:BB31,\">0\"),0)","v":0},null,null,null,{"$f":"IFERROR(AVERAGEIF(BF4:BF31,\">0\"),0)","v":0},null,null,null,{"$f":"IFERROR(AVERAGEIF(BJ4:BJ31,\">0\"),0)","v":0},null,null,null,{"$f":"IFERROR(AVERAGEIF(BN4:BN31,\">0\"),0)","v":0}]
[]
[null,"Insuficiente",{"$f":"COUNTIF(F4:F31,\"<4,5\")-COUNTIF(F4:F31,\"=0\")","v":0},null,{"$f":"IFERROR(C34/C$38,\"\")","v":""},null,{"$f":"COUNTIF(J4:J31,\"<1,9\")-COUNTIF(J4:J31,\"=0\")","v":0},null,{"$f":"IFERROR(G34/G$38,\"\")","v":""},null,{"$f":"COUNTIF(N4:N31,\"<1,9\")-COUNTIF(N4:N31,\"=0\")","v":0},null,{"$f":"IFERROR(K34/K$38,\"\")","v":""},null,{"$f":"COUNTIF(R4:R31,\"<1,9\")-COUNTIF(R4:R31,\"=0\")","v":0},null,{"$f":"IFERROR(O34/O$38,\"\")","v":""},null,{"$f":"COUNTIF(V4:V31,\"<1,9\")-COUNTIF(V4:V31,\"=0\")","v":0},null,{"$f":"IFERROR(S34/S$38,\"\")","v":""},null,{"$f":"COUNTIF(Z4:Z31,\"<1,9\")-COUNTIF(Z4:Z31,\"=0\")","v":0},null,{"$f":"IFERROR(W34/W$38,\"\")","v":""},null,{"$f":"COUNTIF(AD4:AD31,\"<1,9\")-COUNTIF(AD4:AD31,\"=0\")","v":0},null,{"$f":"IFERROR(AA34/AA$38,\"\")","v":""},null,{"$f":"COUNTIF(AH4:AH31,\"<1,9\")-COUNTIF(AH4:AH31,\"=0\")","v":0},null,{"$f":"IFERROR(AE34/AE$38,\"\")","v":""},null,{"$f":"COUNTIF(AL4:AL31,\"<1,9\")-COUNTIF(AL4:AL31,\"=0\")","v":0},null,{"$f":"IFERROR(AI34/AI$38,\"\")","v":""},null,{"$f":"COUNTIF(AP4:AP31,\"<1,9\")-COUNTIF(AP4:AP31,\"=0\")","v":0},null,{"$f":"IFERROR(AM34/AM$38,\"\")","v":""},null,{"$f":"COUNTIF(AT4:AT31,\"<1,9\")-COUNTIF(AT4:AT31,\"=0\")","v":0},null,{"$f":"IFERROR(AQ34/AQ$38,\"\")","v":""},null,{"$f":"COUNTIF(AX4:AX31,\"<1,9\")-COUNTIF(AX4:AX31,\"=0\")","v":0},null,{"$f":"IFERROR(AU34/AU$38,\"\")","v":""},null,{"$f":"COUNTIF(BB4:BB31,\"<1,9\")-COUNTIF(BB4:BB31,\"=0\")","v":0},null,{"$f":"IFERROR(AY34/AY$38,\"\")","v":""},null,{"$f":"COUNTIF(BF4:BF31,\"<1,9\")-COUNTIF(BF4:BF31,\"=0\")","v":0},null,{"$f":"IFERROR(BC34/BC$38,\"\")","v":""},null,{"$f":"COUNTIF(BJ4:BJ31,\"<1,9\")-COUNTIF(BJ4:BJ31,\"=0\")","v":0},null,{"$f":"IFERROR(BG34/BG$38,\"\")","v":""},null,{"$f":"COUNTIF(BN4:BN31,\"<1,9\")-COUNTIF(BN4:BN31,\"=0\")","v":0},null,{"$f":"IFERROR(BK34/BK$38,\"\")","v":""},null,null,"Insuficiente"]
[null,"Bien",{"$f":"COUNTIF(F4:F31,\">4,5\")-COUNTIF(F4:F31,\">=6,5\")","v":0},null,{"$f":"IFERROR(C35/C$38,\"\")","v":""},null,{"$f":"COUNTIF(J4:J31,\">=1,9\")-COUNTIF(J4:J31,\">=2,7\")","v":0},null,{"$f":"IFERROR(G35/G$38,\"\")","v":""},null,{"$f":"COUNTIF(N4:N31,\">=1,9\")-COUNTIF(N4:N31,\">=2,7\")","v":0},null,{"$f":"IFERROR(K35/K$38,\"\")","v":""},null,{"$f":"COUNTIF(R4:R31,\">=1,9\")-COUNTIF(R4:R31,\">=2,7\")","v":0},null,{"$f":"IFERROR(O35/O$38,\"\")","v":""},null,{"$f":"COUNTIF(V4:V31,\">=1,9\")-COUNTIF(V4:V31,\">=2,7\")","v":0},null,{"$f":"IFERROR(S35/S$38,\"\")","v":""},null,{"$f":"COUNTIF(Z4:Z31,\">=1,9\")-COUNTIF(Z4:Z31,\">=2,7\")","v":0},null,{"$f":"IFERROR(W35/W$38,\"\")","v":""},null,{"$f":"COUNTIF(AD4:AD31,\">=1,9\")-COUNTIF(AD4:AD31,\">=2,7\")","v":0},null,{"$f":"IFERROR(AA35/AA$38,\"\")","v":""},null,{"$f":"COUNTIF(AH4:AH31,\">=1,9\")-COUNTIF(AH4:AH31,\">=2,7\")","v":0},null,{"$f":"IFERROR(AE35/AE$38,\"\")","v":""},null,{"$f":"COUNTIF(AL4:AL31,\">=1,9\")-COUNTIF(AL4:AL31,\">=2,7\")","v":0},null,{"$f":"IFERROR(AI35/AI$38,\"\")","v":""},null,{"$f":"COUNTIF(AP4:AP31,\">=1,9\")-COUNTIF(AP4:AP31,\">=2,7\")","v":0},null,{"$f":"IFERROR(AM35/AM$38,\"\")","v":""},null,{"$f":"COUNTIF(AT4:AT31,\">=1,9\")-COUNTIF(AT4:AT31,\">=2,7\")","v":0},null,{"$f":"IFERROR(AQ35/AQ$38,\"\")","v":""},null,{"$f":"COUNTIF(AX4:AX31,\">=1,9\")-COUNTIF(AX4:AX31,\">=2,7\")","v":0},null,{"$f":"IFERROR(AU35/AU$38,\"\")","v":""},null,{"$f":"COUNTIF(BB4:BB31,\">=1,9\")-COUNTIF(BB4:BB31,\">=2,7\")","v":0},null,{"$f":"IFERROR(AY35/AY$38,\"\")","v":""},null,{"$f":"COUNTIF(BF4:BF31,\">=1,9\")-COUNTIF(BF4:BF31,\">=2,7\")","v":0},null,{"$f":"IFERROR(BC35/BC$38,\"\")","v":""},null,{"$f":"COUNTIF(BJ4:BJ31,\">=1,9\")-COUNTIF(BJ4:BJ31,\">=2,7\")","v":0},null,{"$f":"IFERROR(BG35/BG$38,\"\")","v":""},null,{"$f":"COUNTIF(BN4:BN31,\">=1,9\")-COUNTIF(BN4:BN31,\">=2,7\")","v":0},null,{"$f":"IFERROR(BK35/BK$38,\"\")","v":""},null,null,"Bien"]
[null,"Notable",{"$f":"COUNTIF(F4:F31,\">6,5\")-COUNTIF(F4:F31,\">8,5\")","v":0},null,{"$f":"IFERROR(C36/C$38,\"\")","v":""},null,{"$f":"COUNTIF(J4:J31,\">=2,7\")-COUNTIF(J4:J31,\">=3,5\")","v":0},null,{"$f":"IFERROR(G36/G$38,\"\")","v":""},null,{"$f":"COUNTIF(N4:N31,\">=2,7\")-COUNTIF(N4:N31,\">=3,5\")","v":0},null,{"$f":"IFERROR(K36/K$38,\"\")","v":""},null,{"$f":"COUNTIF(R4:R31,\">=2,7\")-COUNTIF(R4:R31,\">=3,5\")","v":0},null,{"$f":"IFERROR(O36/O$38,\"\")","v":""},null,{"$f":"COUNTIF(V4:V31,\">=2,7\")-COUNTIF(V4:V31,\">=3,5\")","v":0},null,{"$f":"IFERROR(S36/S$38,\"\")","v":""},null,{"$f":"COUNTIF(Z4:Z31,\">=2,7\")-COUNTIF(Z4:Z31,\">=3,5\")","v":0},null,{"$f":"IFERROR(W36/W$38,\"\")","v":""},null,{"$f":"COUNTIF(AD4:AD31,\">=2,7\")-COUNTIF(AD4:AD31,\">=3,5\")","v":0},null,{"$f":"IFERROR(AA36/AA$38,\"\")","v":""},null,{"$f":"COUNTIF(AH4:AH31,\">=2,7\")-COUNTIF(AH4:AH31,\">=3,5\")","v":0},null,{"$f":"IFERROR(AE36/AE$38,\"\")","v":""},null,{"$f":"COUNTIF(AL4:AL31,\">=2,7\")-COUNTIF(AL4:AL31,\">=3,5\")","v":0},null,{"$f":"IFERROR(AI36/AI$38,\"\")","v":""},null,{"$f":"COUNTIF(AP4:AP31,\">=2,7\")-COUNTIF(AP4:AP31,\">=3,5\")","v":0},null,{"$f":"IFERROR(AM36/AM$38,\"\")","v":""},null,{"$f":"COUNTIF(AT4:AT31,\">=2,7\")-COUNTIF(AT4:AT31,\">=3,5\")","v":0},null,{"$f":"IFERROR(AQ36/AQ$38,\"\")","v":""},null,{"$f":"COUNTIF(AX4:AX31,\">=2,7\")-COUNTIF(AX4:AX31,\">=3,5\")","v":0},null,{"$f":"IFERROR(AU36/AU$38,\"\")","v":""},null,{"$f":"COUNTIF(BB4:BB31,\">=2,7\")-COUNTIF(BB4:BB31,\">=3,5\")","v":0},null,{"$f":"IFERROR(AY36/AY$38,\"\")","v":""},null,{"$f":"COUNTIF(BF4:BF31,\">=2,7\")-COUNTIF(BF4:BF31,\">=3,5\")","v":0},null,{"$f":"IFERROR(BC36/BC$38,\"\")","v":""},null,{"$f":"COUNTIF(BJ4:BJ31,\">=2,7\")-COUNTIF(BJ4:BJ31,\">=3,5\")","v":0},null,{"$f":"IFERROR(BG36/BG$38,\"\")","v":""},null,{"$f":"COUNTIF(BN4:BN31,\">=2,7\")-COUNTIF(BN4:BN31,\">=3,5\")","v":0},null,{"$f":"IFERROR(BK36/BK$38,\"\")","v":""},null,null,"Notable"]
[null,"Sobresaliente",{"$f":"COUNTIF(F4:F31,\">8,5\")","v":0},null,{"$f":"IFERROR(C37/C$38,\"\")","v":""},null,{"$f":"COUNTIF(J4:J31,\">=3,5\")","v":0},null,{"$f":"IFERROR(G37/G$38,\"\")","v":""},null,{"$f":"COUNTIF(N4:N31,\">=3,5\")","v":0},null,{"$f":"IFERROR(K37/K$38,\"\")","v":""},null,{"$f":"COUNTIF(R4:R31,\">=3,5\")","v":0},null,{"$f":"IFERROR(O37/O$38,\"\")","v":""},null,{"$f":"COUNTIF(V4:V31,\">=3,5\")","v":0},null,{"$f":"IFERROR(S37/S$38,\"\")","v":""},null,{"$f":"COUNTIF(Z4:Z31,\">=3,5\")","v":0},null,{"$f":"IFERROR(W37/W$38,\"\")","v":""},null,{"$f":"COUNTIF(AD4:AD31,\">=3,5\")","v":0},null,{"$f":"IFERROR(AA37/AA$38,\"\")","v":""},null,{"$f":"COUNTIF(AH4:AH31,\">=3,5\")","v":0},null,{"$f":"IFERROR(AE37/AE$38,\"\")","v":""},null,{"$f":"COUNTIF(AL4:AL31,\">=3,5\")","v":0},null,{"$f":"IFERROR(AI37/AI$38,\"\")","v":""},null,{"$f":"COUNTIF(AP4:AP31,\">=3,5\")","v":0},null,{"$f":"IFERROR(AM37/AM$38,\"\")","v":""},null,{"$f":"COUNTIF(AT4:AT31,\">=3,5\")","v":0},null,{"$f":"IFERROR(AQ37/AQ$38,\"\")","v":""},null,{"$f":"COUNTIF(AX4:AX31,\">=3,5\")","v":0},null,{"$f":"IFERROR(AU37/AU$38,\"\")","v":""},null,{"$f":"COUNTIF(BB4:BB31,\">=3,5\")","v":0},null,{"$f":"IFERROR(AY37/AY$38,\"\")","v":""},null,{"$f":"COUNTIF(BF4:BF31,\">=3,5\")","v":0},null,{"$f":"IFERROR(BC37/BC$38,\"\")","v":""},null,{"$f":"COUNTIF(BJ4:BJ31,\">=3,5\")","v":0},null,{"$f":"IFERROR(BG37/BG$38,\"\")","v":""},null,{"$f":"COUNTIF(BN4:BN31,\">=3,5\")","v":0},null,{"$f":"IFERROR(BK37/BK$38,\"\")","v":""},null,null,"Sobresaliente"]
[null,"Evaluados",{"$f":"SUM(C34:D37)","v":0},null,{"$f":"SUM(E34:F37)","v":0},null,{"$f":"SUM(G34:H37)","v":0},null,{"$f":"SUM(I34:J37)","v":0},null,{"$f":"SUM(K34:L37)","v":0},null,{"$f":"SUM(M34:N37)","v":0},null,{"$f":"SUM(O34:P37)","v":0},null,{"$f":"SUM(Q34:R37)","v":0},null,{"$f":"SUM(S34:T37)","v":0},null,{"$f":"SUM(U34:V37)","v":0},null,{"$f":"SUM(W34:X37)","v":0},null,{"$f":"SUM(Y34:Z37)","v":0},null,{"$f":"SUM(AA34:AB37)","v":0},null,{"$f":"SUM(AC34:AD37)","v":0},null,{"$f":"SUM(AE34:AF37)","v":0},null,{"$f":"SUM(AG34:AH37)","v":0},null,{"$f":"SUM(AI34:AJ37)","v":0},null,{"$f":"SUM(AK34:AL37)","v":0},null,{"$f":"SUM(AM34:AN37)","v":0},null,{"$f":"SUM(AO34:AP37)","v":0},null,{"$f":"SUM(AQ34:AR37)","v":0},null,{"$f":"SUM(AS34:AT37)","v":0},null,{"$f":"SUM(AU34:AV37)","v":0},null,{"$f":"SUM(AW34:AX37)","v":0},null,{"$f":"SUM(AY34:AZ37)","v":0},null,{"$f":"SUM(BA34:BB37)","v":0},null,{"$f":"SUM(BC34:BD37)","v":0},null,{"$f":"SUM(BE34:BF37)","v":0},null,{"$f":"SUM(BG34:BH37)","v":0},null,{"$f":"SUM(BI34:BJ37)","v":0},null,{"$f":"SUM(BK34:BL37)","v":0},null,{"$f":"SUM(BM34:BN37)","v":0},null,null,"Evaluados"]
[]
[]
[null,2,null,null,null,null,10,14,18,22,26,30,34,38,42,46,50,54,58,62,66,null,null,null,null,null,null,null,null,null,null,null,null,null,null,null,null,null,null,null,null,null,null,null,null,null,null,null,null,null,null,null,null,null,null,null,null,null,null,null,null,null,null,null,null,null,null,2]
["G","CLASE",null,null,null,{"$f":"IFERROR(VLOOKUP($A$42,$A$4:$AT$32,F41),\"\")","v":""},{"$f":"IFERROR(VLOOKUP(clase,todo,G41),\"\")","v":0},0,0,0,0,0,0,0,0,0,0,0,0,0,0,{"$f":"IFERROR(VLOOKUP($A$42,$A$4:$AT$32,V41),\"\")","v":""},{"$f":"IFERROR(VLOOKUP($A$42,$A$4:$AT$32,W41),\"\")","v":""},{"$f":"IFERROR(VLOOKUP($A$42,$A$4:$AT$32,X41),\"\")","v":""}]
[1,{"$f":"IFERROR(VLOOKUP($A$43,$A$4:$AT$32,B$41),\"\")","v":""},null,null,null,null,{"$f":"IFERROR(VLOOKUP(alumno,todo,G41),\"\")","v":""},"","","","","","","","","","","","","",""]
[null,"(Comparar con la clase)",null,null,null,null,{"$f":"IF(J3=0,\"\",J3)","v":""},{"$f":"IF(N3=0,\"\",N3)","v":""},{"$f":"IF(R3=0,\"\",R3)","v":""},{"$f":"IF(V3=0,\"\",V3)","v":""},{"$f":"IF(Z3=0,\"\",Z3)","v":""},{"$f":"IF(AD3=0,\"\",AD3)","v":""},{"$f":"IF(AH3=0,\"\",AH3)","v":""},{"$f":"IF(AL3=0,\"\",AL3)","v":""},{"$f":"IF(AP3=0,\"\",AP3)","v":""},{"$f":"IF(AT3=0,\"\",AT3)","v":""},{"$f":"IF(AX3=0,\"\",AX3)","v":""},{"$f":"IF(BB3=0,\"\",BB3)","v":""},{"$f":"IF(BF3=0,\"\",BF3)","v":""},{"$f":"IF(BJ3=0,\"\",BJ3)","v":""},{"$f":"IF(BN3=0,\"\",BN3)","v":""}]
[]
[]
[]
[]
[]
[]
[]
[]
[]
[]
[]
[]
[]
[]
[]
[null,".",null,null,null,null,null,null,null,null,null,null,null,null,null,null,null,null,null,null,null,null,null,null,null,null,null,null,null,null,null,null,null,null,null,null,null,null,null,null,null,null,null,null,null,null,null,null,null,null,null,null,null,null,null,null,null,null,null,null,null,null,null,null,null,null,null,"."]

{"sheet":"E2","index":2,"n_rows":60,"n_cols":68,"rows_kept":60,"cut":false,"hidden":false,"merged":[[38,38,38,41],[37,64,37,65],[38,2,38,5],[38,42,38,45],[38,62,38,65],[37,52,37,53],[37,54,37,55],[37,56,37,57],[37,58,37,59],[37,60,37,61],[37,62,37,63],[37,40,37,41],[37,42,37,43],[37,44,37,45],[37,46,37,47],[37,48,37,49],[37,50,37,51],[37,28,37,29],[37,30,37,31],[37,32,37,33],[37,34,37,35],[37,36,37,37],[37,38,37,39],[37,16,37,17],[37,18,37,19],[37,20,37,21],[37,22,37,23],[37,24,37,25],[37,26,37,27],[36,60,36,61],[36,62,36,63],[36,64,36,65],[37,2,37,3],[37,4,37,5],[37,6,37,7],[37,8,37,9],[37,10,37,11],[37,12,37,13],[37,14,37,15],[36,48,36,49],[36,50,36,51],[36,52,36,53],[36,54,36,55],[36,56,36,57],[36,58,36,59],[36,36,36,37],[36,38,36,39],[36,40,36,41],[36,12,36,13],[36,14,36,15],[36,16,36,17],[36,18,36,19],[36,20,36,21],[36,22,36,23],[35,56,35,57],[35,58,35,59],[35,60,35,61],[35,30,35,31],[36,42,36,43],[36,44,36,45],[36,46,36,47],[36,24,36,25],[36,26,36,27],[36,28,36,29],[36,30,36,31],[36,32,36,33],[36,34,36,35],[35,62,35,63],[35,64,35,65],[36,2,36,3],[36,4,36,5],[36,6,36,7],[36,8,36,9],[36,10,36,11],[35,44,35,45],[35,46,35,47],[35,48,35,49],[35,50,35,51],[35,52,35,53],[35,54,35,55],[35,32,35,33],[35,34,35,35],[35,36,35,37],[35,38,35,39],[35,40,35,41],[35,42,35,43],[35,20,35,21],[35,22,35,23],[35,24,35,25],[35,26,35,27],[35,28,35,29],[34,64,34,65],[35,2,35,3],[35,4,35,5],[35,6,35,7],[35,8,35,9],[35,10,35,11],[35,12,35,13],[35,14,35,15],[35,16,35,17],[35,18,35,19],[34,52,34,53],[34,54,34,55],[34,56,34,57],[34,58,34,59],[34,60,34,61],[34,62,34,63],[34,40,34,41],[34,42,34,43],[34,44,34,45],[34,46,34,47],[34,48,34,49],[34,50,34,51],[34,28,34,29],[34,30,34,31],[34,32,34,33],[34,34,34,35],[34,36,34,37],[34,38,34,39],[34,16,34,17],[34,18,34,19],[34,20,34,21],[34,22,34,23],[34,24,34,25],[34,26,34,27],[33,60,33,61],[33,62,33,63],[33,64,33,65],[34,2,34,3],[34,4,34,5],[34,6,34,7],[34,8,34,9],[34,10,34,11],[34,12,34,13],[34,14,34,15],[33,48,33,49],[33,50,33,51],[33,52,33,53],[33,54,33,55],[33,56,33,57],[33,58,33,59],[33,36,33,37],[33,38,33,39],[33,40,33,41],[33,42,33,43],[33,44,33,45],[33,46,33,47],[33,24,33,25],[33,26,33,27],[33,2,33,3],[33,4,33,5],[33,6,33,7],[33,8,33,9],[33,10,33,11],[1,26,1,29],[1,30,1,33],[1,34,1,37],[1,38,1,41],[33,28,33,29],[33,30,33,31],[33,32,33,33],[33,34,33,35],[33,12,33,13],[33,14,33,15],[33,16,33,17],[33,18,33,19],[33,20,33,21],[33,22,33,23],[2,0,2,1],[2,66,2,67],[1,0,1,1],[1,6,1,9],[1,10,1,13],[1,14,1,17],[1,18,1,21],[1,22,1,25],[1,50,1,53],[1,54,1,57],[1,58,1,61],[1,62,1,65],[1,66,1,67],[1,42,1,45],[1,46,1,49]]}
[null,null,null,null,null,null,{"$f":"IF(J3=\"\",0,IF(J32>0,J1,0))","v":0},null,null,{"$f":"IF(J3=\"\",\"\",VLOOKUP(J3,Indicadores,2,FALSE))","v":""},{"$f":"IF(N3=\"\",0,IF(N32>0,N1,0))","v":0},null,null,{"$f":"IF(N3=\"\",\"\",VLOOKUP(N3,Indicadores,2,FALSE))","v":""},{"$f":"IF(R3=\"\",0,IF(R32>0,R1,0))","v":0},null,null,{"$f":"IF(R3=\"\",\"\",VLOOKUP(R3,Indicadores,2,FALSE))","v":""},{"$f":"IF(V3=\"\",0,IF(V32>0,V1,0))","v":0},null,null,{"$f":"IF(V3=\"\",\"\",VLOOKUP(V3,Indicadores,2,FALSE))","v":""},{"$f":"IF(Z3=\"\",0,IF(Z32>0,Z1,0))","v":0},null,null,{"$f":"IF(Z3=\"\",\"\",VLOOKUP(Z3,Indicadores,2,FALSE))","v":""},{"$f":"IF(AD3=\"\",0,IF(AD32>0,AD1,0))","v":0},null,null,{"$f":"IF(AD3=\"\",\"\",VLOOKUP(AD3,Indicadores,2,FALSE))","v":""},{"$f":"IF(AH3=\"\",0,IF(AH32>0,AH1,0))","v":0},null,null,{"$f":"IF(AH3=\"\",\"\",VLOOKUP(AH3,Indicadores,2,FALSE))","v":""},{"$f":"IF(AL3=\"\",0,IF(AL32>0,AL1,0))","v":0},null,null,{"$f":"IF(AL3=\"\",\"\",VLOOKUP(AL3,Indicadores,2,FALSE))","v":""},{"$f":"IF(AP3=\"\",0,IF(AP32>0,AP1,0))","v":0},null,null,{"$f":"IF(AP3=\"\",\"\",VLOOKUP(AP3,Indicadores,2,FALSE))","v":""},{"$f":"IF(AT3=\"\",0,IF(AT32>0,AT1,0))","v":0},null,null,{"$f":"IF(AT3=\"\",\"\",VLOOKUP(AT3,Indicadores,2,FALSE))","v":""},{"$f":"IF(AX3=\"\",0,IF(AX32>0,AX1,0))","v":0},null,null,{"$f":"IF(AX3=\"\",\"\",VLOOKUP(AX3,Indicadores,2,FALSE))","v":""},{"$f":"IF(BB3=\"\",0,IF(BB32>0,BB1,0))","v":0},null,null,{"$f":"IF(BB3=\"\",\"\",VLOOKUP(BB3,Indicadores,2,FALSE))","v":""},{"$f":"IF(BF3=\"\",0,IF(BF32>0,BF1,0))","v":0},null,null,{"$f":"IF(BF3=\"\",\"\",VLOOKUP(BF3,Indicadores,2,FALSE))","v":""},{"$f":"IF(BJ3=\"\",0,IF(BJ32>0,BJ1,0))","v":0},null,null,{"$f":"IF(BJ3=\"\",\"\",VLOOKUP(BJ3,Indicadores,2,FALSE))","v":""},{"$f":"IF(BN3=\"\",0,IF(BN32>0,BN1,0))","v":0},null,null,{"$f":"IF(BN3=\"\",\"\",VLOOKUP(BN3,Indicadores,2,FALSE))","v":""}]
[{"$f":"Al!D2 & CHAR(10)  & Al!D5  & CHAR(32) & Al!B5","v":"AVE MARÍA ALBOLOTE\nRÚBRICAS LENGUA 1º"},null,null,"Total puntos","Puntuación sobre 4","Puntuación sobre 10",{"$f":"IF(J3=\"\",\"\",VLOOKUP(J3,Indicadores,3,FALSE))","v":""},null,null,null,{"$f":"IF(N3=\"\",\"\",VLOOKUP(N3,Indicadores,3,FALSE))","v":""},null,null,null,{"$f":"IF(R3=\"\",\"\",VLOOKUP(R3,Indicadores,3,FALSE))","v":""},null,null,null,{"$f":"IF(V3=\"\",\"\",VLOOKUP(V3,Indicadores,3,FALSE))","v":""},null,null,null,{"$f":"IF(Z3=\"\",\"\",VLOOKUP(Z3,Indicadores,3,FALSE))","v":""},null,null,null,{"$f":"IF(AD3=\"\",\"\",VLOOKUP(AD3,Indicadores,3,FALSE))","v":""},null,null,null,{"$f":"IF(AH3=\"\",\"\",VLOOKUP(AH3,Indicadores,3,FALSE))","v":""},null,null,null,{"$f":"IF(AL3=\"\",\"\",VLOOKUP(AL3,Indicadores,3,FALSE))","v":""},null,null,null,{"$f":"IF(AP3=\"\",\"\",VLOOKUP(AP3,Indicadores,3,FALSE))","v":""},null,null,null,{"$f":"IF(AT3=\"\",\"\",VLOOKUP(AT3,Indicadores,3,FALSE))","v":""},null,null,null,{"$f":"IF(AX3=\"\",\"\",VLOOKUP(AX3,Indicadores,3,FALSE))","v":""},null,null,null,{"$f":"IF(BB3=\"\",\"\",VLOOKUP(BB3,Indicadores,3,FALSE))","v":""},null,null,null,{"$f":"IF(BF3=\"\",\"\",VLOOKUP(BF3,Indicadores,3,FALSE))","v":""},null,null,null,{"$f":"IF(BJ3=\"\",\"\",VLOOKUP(BJ3,Indicadores,3,FALSE))","v":""},null,null,null,{"$f":"IF(BN3=\"\",\"\",VLOOKUP(BN3,Indicadores,3,FALSE))","v":""}]
[null,null,null,{"$f":"SUM(Valores)*4","v":0},4,10,null,null,null,null,null,null,null,null,null,null,null,null,null,null,null,null,null,null,null,null,null,null,null,null,null,null,null,null,null,null,null,null,null,null,null,null,null,null,null,null,null,null,null,null,null,null,null,null,null,null,null,null,null,null,null,null,null,null,null,null,{"$f":"A3","v":0}]
[{"$f":"IF(Al!D9=\"\",\"\",Al!C9)","v":""},{"$f":"IF(Al!D9=\"\",\"\",Al!D9)","v":""},null,{"$f":"IF((J4*V.01+N4*V.02+R4*V.03+V4*V.04+Z4*V.05+AD4*V.06+AH4*V.07+AL4*V.08+AP4*V.09+AT4*V.10+AX4*V.11+BB4*V.12+BF4*V.13+BJ4*V.14+BN4*V.15)=0,\"\",J4*V.01+N4*V.02+R4*V.03+V4*V.04+Z4*V.05+AD4*V.06+AH4*V.07+AL4*V.08+AP4*V.09+AT4*V.10+AX4*V.11+BB4*V.12+BF4*V.13+BJ4*V.14+BN4*V.15)","v":""},{"$f":"IF(D4=\"\",\"\",D4*Punt4/total)","v":""},{"$f":"IF(D4=\"\",\"\",D4*Punt10/total)","v":""},null,null,null,{"$f":"IFERROR(AVERAGE(G4:I4),0)","v":0},null,null,null,{"$f":"IFERROR(AVERAGE(K4:M4),0)","v":0},null,null,null,{"$f":"IFERROR(AVERAGE(O4:Q4),0)","v":0},null,null,null,{"$f":"IFERROR(AVERAGE(S4:U4),0)","v":0},null,null,null,{"$f":"IFERROR(AVERAGE(W4:Y4),0)","v":0},null,null,null,{"$f":"IFERROR(AVERAGE(AA4:AC4),0)","v":0},null,null,null,{"$f":"IFERROR(AVERAGE(AE4:AG4),0)","v":0},null,null,null,{"$f":"IFERROR(AVERAGE(AI4:AK4),0)","v":0},null,null,null,{"$f":"IFERROR(AVERAGE(AM4:AO4),0)","v":0},null,null,null,{"$f":"IFERROR(AVERAGE(AQ4:AS4),0)","v":0},null,null,null,{"$f":"IFERROR(AVERAGE(AU4:AW4),0)","v":0},null,null,null,{"$f":"IFERROR(AVERAGE(AY4:BA4),0)","v":0},null,null,null,{"$f":"IFERROR(AVERAGE(BC4:BE4),0)","v":0},null,null,null,{"$f":"IFERROR(AVERAGE(BG4:BI4),0)","v":0},null,null,null,{"$f":"IFERROR(AVERAGE(BK4:BM4),0)","v":0},{"$f":"A4","v":""},{"$f":"B4","v":""}]
[{"$f":"IF(Al!D10=\"\",\"\",Al!C10)","v":""},{"$f":"IF(Al!D10=\"\",\"\",Al!D10)","v":""},null,"","","",null,null,null,0,null,null,null,0,null,null,null,0,null,null,null,0,null,null,null,0,null,null,null,0,null,null,null,0,null,null,null,0,null,null,null,0,null,null,null,0,null,null,null,0,null,null,null,0,null,null,null,0,null,null,null,0,null,null,null,0,{"$f":"A5","v":""},""]
[{"$f":"IF(Al!D11=\"\",\"\",Al!C11)","v":""},{"$f":"IF(Al!D11=\"\",\"\",Al!D11)","v":""},null,"","","",null,null,null,0,null,null,null,0,null,null,null,0,null,null,null,0,null,null,null,0,null,null,null,0,null,null,null,0,null,null,null,0,null,null,null,0,null,null,null,0,null,null,null,0,null,null,null,0,null,null,null,0,null,null,null,0,null,null,null,0,"",""]
[{"$f":"IF(Al!D12=\"\",\"\",Al!C12)","v":""},{"$f":"IF(Al!D12=\"\",\"\",Al!D12)","v":""},null,"","","",null,null,null,0,null,null,null,0,null,null,null,0,null,null,null,0,null,null,null,0,null,null,null,0,null,null,null,0,null,null,null,0,null,null,null,0,null,null,null,0,null,null,null,0,null,null,null,0,null,null,null,0,null,null,null,0,null,null,null,0,"",""]
[{"$f":"IF(Al!D13=\"\",\"\",Al!C13)","v":""},{"$f":"IF(Al!D13=\"\",\"\",Al!D13)","v":""},null,"","","",null,null,null,0,null,null,null,0,null,null,null,0,null,null,null,0,null,null,null,0,null,null,null,0,null,null,null,0,null,null,null,0,null,null,null,0,null,null,null,0,null,null,null,0,null,null,null,0,null,null,null,0,null,null,null,0,null,null,null,0,"",""]
[{"$f":"IF(Al!D14=\"\",\"\",Al!C14)","v":""},{"$f":"IF(Al!D14=\"\",\"\",Al!D14)","v":""},null,"","","",null,null,null,0,null,null,null,0,null,null,null,0,null,null,null,0,null,null,null,0,null,null,null,0,null,null,null,0,null,null,null,0,null,null,null,0,null,null,null,0,null,null,null,0,null,null,null,0,null,null,null,0,null,null,null,0,null,null,null,0,"",""]
[{"$f":"IF(Al!D15=\"\",\"\",Al!C15)","v":""},{"$f":"IF(Al!D15=\"\",\"\",Al!D15)","v":""},null,"","","",null,null,null,0,null,null,null,0,null,null,null,0,null,null,null,0,null,null,null,0,null,null,null,0,null,null,null,0,null,null,null,0,null,null,null,0,null,null,null,0,null,null,null,0,null,null,null,0,null,null,null,0,null,null,null,0,null,null,null,0,"",""]
[{"$f":"IF(Al!D16=\"\",\"\",Al!C16)","v":""},{"$f":"IF(Al!D16=\"\",\"\",Al!D16)","v":""},null,"","","",null,null,null,0,null,null,null,0,null,null,null,0,null,null,null,0,null,null,null,0,null,null,null,0,null,null,null,0,null,null,null,0,null,null,null,0,null,null,null,0,null,null,null,0,null,null,null,0,null,null,null,0,null,null,null,0,null,null,null,0,"",""]
[{"$f":"IF(Al!D17=\"\",\"\",Al!C17)","v":""},{"$f":"IF(Al!D17=\"\",\"\",Al!D17)","v":""},null,"","","",null,null,null,0,null,null,null,0,null,null,null,0,null,null,null,0,null,null,null,0,null,null,null,0,null,null,null,0,null,null,null,0,null,null,null,0,null,null,null,0,null,null,null,0,null,null,null,0,null,null,null,0,null,null,null,0,null,null,null,0,"",""]
[{"$f":"IF(Al!D18=\"\",\"\",Al!C18)","v":""},{"$f":"IF(Al!D18=\"\",\"\",Al!D18)","v":""},null,"","","",null,null,null,0,null,null,null,0,null,null,null,0,null,null,null,0,null,null,null,0,null,null,null,0,null,null,null,0,null,null,null,0,null,null,null,0,null,null,null,0,null,null,null,0,null,null,null,0,null,null,null,0,null,null,null,0,null,null,null,0,"",""]
[{"$f":"IF(Al!D19=\"\",\"\",Al!C19)","v":""},{"$f":"IF(Al!D19=\"\",\"\",Al!D19)","v":""},null,"","","",null,null,null,0,null,null,null,0,null,null,null,0,null,null,null,0,null,null,null,0,null,null,null,0,null,null,null,0,null,null,null,0,null,null,null,0,null,null,null,0,null,null,null,0,null,null,null,0,null,null,null,0,null,null,null,0,null,null,null,0,"",""]
[{"$f":"IF(Al!D20=\"\",\"\",Al!C20)","v":""},{"$f":"IF(Al!D20=\"\",\"\",Al!D20)","v":""},null,"","","",null,null,null,0,null,null,null,0,null,null,null,0,null,null,null,0,null,null,null,0,null,null,null,0,null,null,null,0,null,null,null,0,null,null,null,0,null,null,null,0,null,null,null,0,null,null,null,0,null,null,null,0,null,null,null,0,null,null,null,0,"",""]
[{"$f":"IF(Al!D21=\"\",\"\",Al!C21)","v":""},{"$f":"IF(Al!D21=\"\",\"\",Al!D21)","v":""},null,"","","",null,null,null,0,null,null,null,0,null,null,null,0,null,null,null,0,null,null,null,0,null,null,null,0,null,null,null,0,null,null,null,0,null,null,null,0,null,null,null,0,null,null,null,0,null,null,null,0,null,null,null,0,null,null,null,0,null,null,null,0,"",""]
[{"$f":"IF(Al!D22=\"\",\"\",Al!C22)","v":""},{"$f":"IF(Al!D22=\"\",\"\",Al!D22)","v":""},null,"","","",null,null,null,0,null,null,null,0,null,null,null,0,null,null,null,0,null,null,null,0,null,null,null,0,null,null,null,0,null,null,null,0,null,null,null,0,null,null,null,0,null,null,null,0,null,null,null,0,null,null,null,0,null,null,null,0,null,null,null,0,"",""]
[{"$f":"IF(Al!D23=\"\",\"\",Al!C23)","v":""},{"$f":"IF(Al!D23=\"\",\"\",Al!D23)","v":""},null,"","","",null,null,null,0,null,null,null,0,null,null,null,0,null,null,null,0,null,null,null,0,null,null,null,0,null,null,null,0,null,null,null,0,null,null,null,0,null,null,null,0,null,null,null,0,null,null,null,0,null,null,null,0,null,null,null,0,null,null,null,0,"",""]
[{"$f":"IF(Al!D24=\"\",\"\",Al!C24)","v":""},{"$f":"IF(Al!D24=\"\",\"\",Al!D24)","v":""},null,"","","",null,null,null,0,null,null,null,0,null,null,null,0,null,null,null,0,null,null,null,0,null,null,null,0,null,null,null,0,null,null,null,0,null,null,null,0,null,null,null,0,null,null,null,0,null,null,null,0,null,null,null,0,null,null,null,0,null,null,null,0,"",""]
[{"$f":"IF(Al!D25=\"\",\"\",Al!C25)","v":""},{"$f":"IF(Al!D25=\"\",\"\",Al!D25)","v":""},null,"","","",null,null,null,0,null,null,null,0,null,null,null,0,null,null,null,0,null,null,null,0,null,null,null,0,null,null,null,0,null,null,null,0,null,null,null,0,null,null,null,0,null,null,null,0,null,null,null,0,null,null,null,0,null,null,null,0,null,null,null,0,"",""]
[{"$f":"IF(Al!D26=\"\",\"\",Al!C26)","v":""},{"$f":"IF(Al!D26=\"\",\"\",Al!D26)","v":""},null,"","","",null,null,null,0,null,null,null,0,null,null,null,0,null,null,null,0,null,null,null,0,null,null,null,0,null,null,null,0,null,null,null,0,null,null,null,0,null,null,null,0,null,null,null,0,null,null,null,0,null,null,null,0,null,null,null,0,null,null,null,0,"",""]
[{"$f":"IF(Al!D27=\"\",\"\",Al!C27)","v":""},{"$f":"IF(Al!D27=\"\",\"\",Al!D27)","v":""},null,"","","",null,null,null,0,null,null,null,0,null,null,null,0,null,null,null,0,null,null,null,0,null,null,null,0,null,null,null,0,null,null,null,0,null,null,null,0,null,null,null,0,null,null,null,0,null,null,null,0,null,null,null,0,null,null,null,0,null,null,null,0,"",""]
[{"$f":"IF(Al!D28=\"\",\"\",Al!C28)","v":""},{"$f":"IF(Al!D28=\"\",\"\",Al!D28)","v":""},null,"","","",null,null,null,0,null,null,null,0,null,null,null,0,null,null,null,0,null,null,null,0,null,null,null,0,null,null,null,0,null,null,null,0,null,null,null,0,null,null,null,0,null,null,null,0,null,null,null,0,null,null,null,0,null,null,null,0,null,null,null,0,"",""]
[{"$f":"IF(Al!D29=\"\",\"\",Al!C29)","v":""},{"$f":"IF(Al!D29=\"\",\"\",Al!D29)","v":""},null,"","","",null,null,null,0,null,null,null,0,null,null,null,0,null,null,null,0,null,null,null,0,null,null,null,0,null,null,null,0,null,null,null,0,null,null,null,0,null,null,null,0,null,null,null,0,null,null,null,0,null,null,null,0,null,null,null,0,null,null,null,0,"",""]
[{"$f":"IF(Al!D30=\"\",\"\",Al!C30)","v":""},{"$f":"IF(Al!D30=\"\",\"\",Al!D30)","v":""},null,"","","",null,null,null,0,null,null,null,0,null,null,null,0,null,null,null,0,null,null,null,0,null,null,null,0,null,null,null,0,null,null,null,0,null,null,null,0,null,null,null,0,null,null,null,0,null,null,null,0,null,null,null,0,null,null,null,0,null,null,null,0,"",""]
[{"$f":"IF(Al!D31=\"\",\"\",Al!C31)","v":""},{"$f":"IF(Al!D31=\"\",\"\",Al!D31)","v":""},null,"","","",null,null,null,0,null,null,null,0,null,null,null,0,null,null,null,0,null,null,null,0,null,null,null,0,null,null,null,0,null,null,null,0,null,null,null,0,null,null,null,0,null,null,null,0,null,null,null,0,null,null,null,0,null,null,null,0,null,null,null,0,"",""]
[{"$f":"IF(Al!D32=\"\",\"\",Al!C32)","v":""},{"$f":"IF(Al!D32=\"\",\"\",Al!D32)","v":""},null,"","","",null,null,null,0,null,null,null,0,null,null,null,0,null,null,null,0,null,null,null,0,null,null,null,0,null,null,null,0,null,null,null,0,null,null,null,0,null,null,null,0,null,null,null,0,null,null,null,0,null,null,null,0,null,null,null,0,null,null,null,0,"",""]
[{"$f":"IF(Al!D33=\"\",\"\",Al!C33)","v":""},{"$f":"IF(Al!D33=\"\",\"\",Al!D33)","v":""},null,"","","",null,null,null,0,null,null,null,0,null,null,null,0,null,null,null,0,null,null,null,0,null,null,null,0,null,null,null,0,null,null,null,0,null,null,null,0,null,null,null,0,null,null,null,0,null,null,null,0,null,null,null,0,null,null,null,0,null,null,null,0,"",""]
[{"$f":"IF(Al!D34=\"\",\"\",Al!C34)","v":""},{"$f":"IF(Al!D34=\"\",\"\",Al!D34)","v":""},null,"","","",null,null,null,0,null,null,null,0,null,null,null,0,null,null,null,0,null,null,null,0,null,null,null,0,null,null,null,0,null,null,null,0,null,null,null,0,null,null,null,0,null,null,null,0,null,null,null,0,null,null,null,0,null,null,null,0,null,null,null,0,"",""]
[{"$f":"IF(Al!D35=\"\",\"\",Al!C35)","v":""},{"$f":"IF(Al!D35=\"\",\"\",Al!D35)","v":""},null,"","","",null,null,null,0,null,null,null,0,null,null,null,0,null,null,null,0,null,null,null,0,null,null,null,0,null,null,null,0,null,null,null,0,null,null,null,0,null,null,null,0,null,null,null,0,null,null,null,0,null,null,null,0,null,null,null,0,null,null,null,0,"",""]
[{"$f":"IF(Al!D36=\"\",\"\",Al!C36)","v":""},{"$f":"IF(Al!D36=\"\",\"\",Al!D36)","v":""},null,"","","",null,null,null,0,null,null,null,0,null,null,null,0,null,null,null,0,null,null,null,0,null,null,null,0,null,null,null,0,null,null,null,0,null,null,null,0,null,null,null,0,null,null,null,0,null,null,null,0,null,null,null,0,null,null,null,0,null,null,null,0,"",""]
["G","GLOBAL",null,null,{"$f":"IFERROR(AVERAGEIF(E4:E31,\">0\"),0)","v":0},{"$f":"IFERROR(AVERAGEIF(F4:F31,\">0\"),0)","v":0},null,null,null,{"$f":"IFERROR(AVERAGEIF(J4:J31,\">0\"),0)","v":0},null,null,null,{"$f":"IFERROR(AVERAGEIF(N4:N31,\">0\"),0)","v":0},null,null,null,{"$f":"IFERROR(AVERAGEIF(R4:R31,\">0\"),0)","v":0},null,null,null,{"$f":"IFERROR(AVERAGEIF(V4:V31,\">0\"),0)","v":0},null,null,null,{"$f":"IFERROR(AVERAGEIF(Z4:Z31,\">0\"),0)","v":0},null,null,null,{"$f":"IFERROR(AVERAGEIF(AD4:AD31,\">0\"),0)","v":0},null,null,null,{"$f":"IFERROR(AVERAGEIF(AH4:AH31,\">0\"),0)","v":0},null,null,null,{"$f":"IFERROR(AVERAGEIF(AL4:AL31,\">0\"),0)","v":0},null,null,null,{"$f":"IFERROR(AVERAGEIF(AP4:AP31,\">0\"),0)","v":0},null,null,null,{"$f":"IFERROR(AVERAGEIF(AT4:AT31,\">0\"),0)","v":0},null,null,null,{"$f":"IFERROR(AVERAGEIF(AX4:AX31,\">0\"),0)","v":0},null,null,null,{"$f":"IFERROR(AVERAGEIF(BB4:BB31,\">0\"),0)","v":0},null,null,null,{"$f":"IFERROR(AVERAGEIF(BF4:BF31,\">0\"),0)","v":0},null,null,null,{"$f":"IFERROR(AVERAGEIF(BJ4:BJ31,\">0\"),0)","v":0},null,null,null,{"$f":"IFERROR(AVERAGEIF(BN4:BN31,\">0\"),0)","v":0}]
[]
[null,"Insuficiente",{"$f":"COUNTIF(F4:F31,\"<4,5\")-COUNTIF(F4:F31,\"=0\")","v":0},null,{"$f":"IFERROR(C34/C$38,\"\")","v":""},null,{"$f":"COUNTIF(J4:J31,\"<1,9\")-COUNTIF(J4:J31,\"=0\")","v":0},null,{"$f":"IFERROR(G34/G$38,\"\")","v":""},null,{"$f":"COUNTIF(N4:N31,\"<1,9\")-COUNTIF(N4:N31,\"=0\")","v":0},null,{"$f":"IFERROR(K34/K$38,\"\")","v":""},null,{"$f":"COUNTIF(R4:R31,\"<1,9\")-COUNTIF(R4:R31,\"=0\")","v":0},null,{"$f":"IFERROR(O34/O$38,\"\")","v":""},null,{"$f":"COUNTIF(V4:V31,\"<1,9\")-COUNTIF(V4:V31,\"=0\")","v":0},null,{"$f":"IFERROR(S34/S$38,\"\")","v":""},null,{"$f":"COUNTIF(Z4:Z31,\"<1,9\")-COUNTIF(Z4:Z31,\"=0\")","v":0},null,{"$f":"IFERROR(W34/W$38,\"\")","v":""},null,{"$f":"COUNTIF(AD4:AD31,\"<1,9\")-COUNTIF(AD4:AD31,\"=0\")","v":0},null,{"$f":"IFERROR(AA34/AA$38,\"\")","v":""},null,{"$f":"COUNTIF(AH4:AH31,\"<1,9\")-COUNTIF(AH4:AH31,\"=0\")","v":0},null,{"$f":"IFERROR(AE34/AE$38,\"\")","v":""},null,{"$f":"COUNTIF(AL4:AL31,\"<1,9\")-COUNTIF(AL4:AL31,\"=0\")","v":0},null,{"$f":"IFERROR(AI34/AI$38,\"\")","v":""},null,{"$f":"COUNTIF(AP4:AP31,\"<1,9\")-COUNTIF(AP4:AP31,\"=0\")","v":0},null,{"$f":"IFERROR(AM34/AM$38,\"\")","v":""},null,{"$f":"COUNTIF(AT4:AT31,\"<1,9\")-COUNTIF(AT4:AT31,\"=0\")","v":0},null,{"$f":"IFERROR(AQ34/AQ$38,\"\")","v":""},null,{"$f":"COUNTIF(AX4:AX31,\"<1,9\")-COUNTIF(AX4:AX31,\"=0\")","v":0},null,{"$f":"IFERROR(AU34/AU$38,\"\")","v":""},null,{"$f":"COUNTIF(BB4:BB31,\"<1,9\")-COUNTIF(BB4:BB31,\"=0\")","v":0},null,{"$f":"IFERROR(AY34/AY$38,\"\")","v":""},null,{"$f":"COUNTIF(BF4:BF31,\"<1,9\")-COUNTIF(BF4:BF31,\"=0\")","v":0},null,{"$f":"IFERROR(BC34/BC$38,\"\")","v":""},null,{"$f":"COUNTIF(BJ4:BJ31,\"<1,9\")-COUNTIF(BJ4:BJ31,\"=0\")","v":0},null,{"$f":"IFERROR(BG34/BG$38,\"\")","v":""},null,{"$f":"COUNTIF(BN4:BN31,\"<1,9\")-COUNTIF(BN4:BN31,\"=0\")","v":0},null,{"$f":"IFERROR(BK34/BK$38,\"\")","v":""},null,null,"Insuficiente"]
[null,"Bien",{"$f":"COUNTIF(F4:F31,\">4,5\")-COUNTIF(F4:F31,\">=6,5\")","v":0},null,{"$f":"IFERROR(C35/C$38,\"\")","v":""},null,{"$f":"COUNTIF(J4:J31,\">=1,9\")-COUNTIF(J4:J31,\">=2,7\")","v":0},null,{"$f":"IFERROR(G35/G$38,\"\")","v":""},null,{"$f":"COUNTIF(N4:N31,\">=1,9\")-COUNTIF(N4:N31,\">=2,7\")","v":0},null,{"$f":"IFERROR(K35/K$38,\"\")","v":""},null,{"$f":"COUNTIF(R4:R31,\">=1,9\")-COUNTIF(R4:R31,\">=2,7\")","v":0},null,{"$f":"IFERROR(O35/O$38,\"\")","v":""},null,{"$f":"COUNTIF(V4:V31,\">=1,9\")-COUNTIF(V4:V31,\">=2,7\")","v":0},null,{"$f":"IFERROR(S35/S$38,\"\")","v":""},null,{"$f":"COUNTIF(Z4:Z31,\">=1,9\")-COUNTIF(Z4:Z31,\">=2,7\")","v":0},null,{"$f":"IFERROR(W35/W$38,\"\")","v":""},null,{"$f":"COUNTIF(AD4:AD31,\">=1,9\")-COUNTIF(AD4:AD31,\">=2,7\")","v":0},null,{"$f":"IFERROR(AA35/AA$38,\"\")","v":""},null,{"$f":"COUNTIF(AH4:AH31,\">=1,9\")-COUNTIF(AH4:AH31,\">=2,7\")","v":0},null,{"$f":"IFERROR(AE35/AE$38,\"\")","v":""},null,{"$f":"COUNTIF(AL4:AL31,\">=1,9\")-COUNTIF(AL4:AL31,\">=2,7\")","v":0},null,{"$f":"IFERROR(AI35/AI$38,\"\")","v":""},null,{"$f":"COUNTIF(AP4:AP31,\">=1,9\")-COUNTIF(AP4:AP31,\">=2,7\")","v":0},null,{"$f":"IFERROR(AM35/AM$38,\"\")","v":""},null,{"$f":"COUNTIF(AT4:AT31,\">=1,9\")-COUNTIF(AT4:AT31,\">=2,7\")","v":0},null,{"$f":"IFERROR(AQ35/AQ$38,\"\")","v":""},null,{"$f":"COUNTIF(AX4:AX31,\">=1,9\")-COUNTIF(AX4:AX31,\">=2,7\")","v":0},null,{"$f":"IFERROR(AU35/AU$38,\"\")","v":""},null,{"$f":"COUNTIF(BB4:BB31,\">=1,9\")-COUNTIF(BB4:BB31,\">=2,7\")","v":0},null,{"$f":"IFERROR(AY35/AY$38,\"\")","v":""},null,{"$f":"COUNTIF(BF4:BF31,\">=1,9\")-COUNTIF(BF4:BF31,\">=2,7\")","v":0},null,{"$f":"IFERROR(BC35/BC$38,\"\")","v":""},null,{"$f":"COUNTIF(BJ4:BJ31,\">=1,9\")-COUNTIF(BJ4:BJ31,\">=2,7\")","v":0},null,{"$f":"IFERROR(BG35/BG$38,\"\")","v":""},null,{"$f":"COUNTIF(BN4:BN31,\">=1,9\")-COUNTIF(BN4:BN31,\">=2,7\")","v":0},null,{"$f":"IFERROR(BK35/BK$38,\"\")","v":""},null,null,"Bien"]
[null,"Notable",{"$f":"COUNTIF(F4:F31,\">6,5\")-COUNTIF(F4:F31,\">8,5\")","v":0},null,{"$f":"IFERROR(C36/C$38,\"\")","v":""},null,{"$f":"COUNTIF(J4:J31,\">=2,7\")-COUNTIF(J4:J31,\">=3,5\")","v":0},null,{"$f":"IFERROR(G36/G$38,\"\")","v":""},null,{"$f":"COUNTIF(N4:N31,\">=2,7\")-COUNTIF(N4:N31,\">=3,5\")","v":0},null,{"$f":"IFERROR(K36/K$38,\"\")","v":""},null,{"$f":"COUNTIF(R4:R31,\">=2,7\")-COUNTIF(R4:R31,\">=3,5\")","v":0},null,{"$f":"IFERROR(O36/O$38,\"\")","v":""},null,{"$f":"COUNTIF(V4:V31,\">=2,7\")-COUNTIF(V4:V31,\">=3,5\")","v":0},null,{"$f":"IFERROR(S36/S$38,\"\")","v":""},null,{"$f":"COUNTIF(Z4:Z31,\">=2,7\")-COUNTIF(Z4:Z31,\">=3,5\")","v":0},null,{"$f":"IFERROR(W36/W$38,\"\")","v":""},null,{"$f":"COUNTIF(AD4:AD31,\">=2,7\")-COUNTIF(AD4:AD31,\">=3,5\")","v":0},null,{"$f":"IFERROR(AA36/AA$38,\"\")","v":""},null,{"$f":"COUNTIF(AH4:AH31,\">=2,7\")-COUNTIF(AH4:AH31,\">=3,5\")","v":0},null,{"$f":"IFERROR(AE36/AE$38,\"\")","v":""},null,{"$f":"COUNTIF(AL4:AL31,\">=2,7\")-COUNTIF(AL4:AL31,\">=3,5\")","v":0},null,{"$f":"IFERROR(AI36/AI$38,\"\")","v":""},null,{"$f":"COUNTIF(AP4:AP31,\">=2,7\")-COUNTIF(AP4:AP31,\">=3,5\")","v":0},null,{"$f":"IFERROR(AM36/AM$38,\"\")","v":""},null,{"$f":"COUNTIF(AT4:AT31,\">=2,7\")-COUNTIF(AT4:AT31,\">=3,5\")","v":0},null,{"$f":"IFERROR(AQ36/AQ$38,\"\")","v":""},null,{"$f":"COUNTIF(AX4:AX31,\">=2,7\")-COUNTIF(AX4:AX31,\">=3,5\")","v":0},null,{"$f":"IFERROR(AU36/AU$38,\"\")","v":""},null,{"$f":"COUNTIF(BB4:BB31,\">=2,7\")-COUNTIF(BB4:BB31,\">=3,5\")","v":0},null,{"$f":"IFERROR(AY36/AY$38,\"\")","v":""},null,{"$f":"COUNTIF(BF4:BF31,\">=2,7\")-COUNTIF(BF4:BF31,\">=3,5\")","v":0},null,{"$f":"IFERROR(BC36/BC$38,\"\")","v":""},null,{"$f":"COUNTIF(BJ4:BJ31,\">=2,7\")-COUNTIF(BJ4:BJ31,\">=3,5\")","v":0},null,{"$f":"IFERROR(BG36/BG$38,\"\")","v":""},null,{"$f":"COUNTIF(BN4:BN31,\">=2,7\")-COUNTIF(BN4:BN31,\">=3,5\")","v":0},null,{"$f":"IFERROR(BK36/BK$38,\"\")","v":""},null,null,"Notable"]
[null,"Sobresaliente",{"$f":"COUNTIF(F4:F31,\">8,5\")","v":0},null,{"$f":"IFERROR(C37/C$38,\"\")","v":""},null,{"$f":"COUNTIF(J4:J31,\">=3,5\")","v":0},null,{"$f":"IFERROR(G37/G$38,\"\")","v":""},null,{"$f":"COUNTIF(N4:N31,\">=3,5\")","v":0},null,{"$f":"IFERROR(K37/K$38,\"\")","v":""},null,{"$f":"COUNTIF(R4:R31,\">=3,5\")","v":0},null,{"$f":"IFERROR(O37/O$38,\"\")","v":""},null,{"$f":"COUNTIF(V4:V31,\">=3,5\")","v":0},null,{"$f":"IFERROR(S37/S$38,\"\")","v":""},null,{"$f":"COUNTIF(Z4:Z31,\">=3,5\")","v":0},null,{"$f":"IFERROR(W37/W$38,\"\")","v":""},null,{"$f":"COUNTIF(AD4:AD31,\">=3,5\")","v":0},null,{"$f":"IFERROR(AA37/AA$38,\"\")","v":""},null,{"$f":"COUNTIF(AH4:AH31,\">=3,5\")","v":0},null,{"$f":"IFERROR(AE37/AE$38,\"\")","v":""},null,{"$f":"COUNTIF(AL4:AL31,\">=3,5\")","v":0},null,{"$f":"IFERROR(AI37/AI$38,\"\")","v":""},null,{"$f":"COUNTIF(AP4:AP31,\">=3,5\")","v":0},null,{"$f":"IFERROR(AM37/AM$38,\"\")","v":""},null,{"$f":"COUNTIF(AT4:AT31,\">=3,5\")","v":0},null,{"$f":"IFERROR(AQ37/AQ$38,\"\")","v":""},null,{"$f":"COUNTIF(AX4:AX31,\">=3,5\")","v":0},null,{"$f":"IFERROR(AU37/AU$38,\"\")","v":""},null,{"$f":"COUNTIF(BB4:BB31,\">=3,5\")","v":0},null,{"$f":"IFERROR(AY37/AY$38,\"\")","v":""},null,{"$f":"COUNTIF(BF4:BF31,\">=3,5\")","v":0},null,{"$f":"IFERROR(BC37/BC$38,\"\")","v":""},null,{"$f":"COUNTIF(BJ4:BJ31,\">=3,5\")","v":0},null,{"$f":"IFERROR(BG37/BG$38,\"\")","v":""},null,{"$f":"COUNTIF(BN4:BN31,\">=3,5\")","v":0},null,{"$f":"IFERROR(BK37/BK$38,\"\")","v":""},null,null,"Sobresaliente"]
[null,"Evaluados",{"$f":"SUM(C34:D37)","v":0},null,{"$f":"SUM(E34:F37)","v":0},null,{"$f":"SUM(G34:H37)","v":0},null,{"$f":"SUM(I34:J37)","v":0},null,{"$f":"SUM(K34:L37)","v":0},null,{"$f":"SUM(M34:N37)","v":0},null,{"$f":"SUM(O34:P37)","v":0},null,{"$f":"SUM(Q34:R37)","v":0},null,{"$f":"SUM(S34:T37)","v":0},null,{"$f":"SUM(U34:V37)","v":0},null,{"$f":"SUM(W34:X37)","v":0},null,{"$f":"SUM(Y34:Z37)","v":0},null,{"$f":"SUM(AA34:AB37)","v":0},null,{"$f":"SUM(AC34:AD37)","v":0},null,{"$f":"SUM(AE34:AF37)","v":0},null,{"$f":"SUM(AG34:AH37)","v":0},null,{"$f":"SUM(AI34:AJ37)","v":0},null,{"$f":"SUM(AK34:AL37)","v":0},null,{"$f":"SUM(AM34:AN37)","v":0},null,{"$f":"SUM(AO34:AP37)","v":0},null,{"$f":"SUM(AQ34:AR37)","v":0},null,{"$f":"SUM(AS34:AT37)","v":0},null,{"$f":"SUM(AU34:AV37)","v":0},null,{"$f":"SUM(AW34:AX37)","v":0},null,{"$f":"SUM(AY34:AZ37)","v":0},null,{"$f":"SUM(BA34:BB37)","v":0},null,{"$f":"SUM(BC34:BD37)","v":0},null,{"$f":"SUM(BE34:BF37)","v":0},null,{"$f":"SUM(BG34:BH37)","v":0},null,{"$f":"SUM(BI34:BJ37)","v":0},null,{"$f":"SUM(BK34:BL37)","v":0},null,{"$f":"SUM(BM34:BN37)","v":0},null,null,"Evaluados"]
[]
[]
[null,2,null,null,null,null,10,14,18,22,26,30,34,38,42,46,50,54,58,62,66,null,null,null,null,null,null,null,null,null,null,null,null,null,null,null,null,null,null,null,null,null,null,null,null,null,null,null,null,null,null,null,null,null,null,null,null,null,null,null,null,null,null,null,null,null,null,2]
["G","CLASE",null,null,null,{"$f":"IFERROR(VLOOKUP($A$42,$A$4:$AT$32,F41),\"\")","v":""},{"$f":"IFERROR(VLOOKUP(clase,todo,G41),\"\")","v":0},0,0,0,0,0,0,0,0,0,0,0,0,0,0,{"$f":"IFERROR(VLOOKUP($A$42,$A$4:$AT$32,V41),\"\")","v":""},{"$f":"IFERROR(VLOOKUP($A$42,$A$4:$AT$32,W41),\"\")","v":""},{"$f":"IFERROR(VLOOKUP($A$42,$A$4:$AT$32,X41),\"\")","v":""}]
[1,{"$f":"IFERROR(VLOOKUP($A$43,$A$4:$AT$32,B$41),\"\")","v":""},null,null,null,null,{"$f":"IFERROR(VLOOKUP(alumno,todo,G41),\"\")","v":""},"","","","","","","","","","","","","",""]
[null,"(Comparar con la clase)",null,null,null,null,{"$f":"IF(J3=0,\"\",J3)","v":""},{"$f":"IF(N3=0,\"\",N3)","v":""},{"$f":"IF(R3=0,\"\",R3)","v":""},{"$f":"IF(V3=0,\"\",V3)","v":""},{"$f":"IF(Z3=0,\"\",Z3)","v":""},{"$f":"IF(AD3=0,\"\",AD3)","v":""},{"$f":"IF(AH3=0,\"\",AH3)","v":""},{"$f":"IF(AL3=0,\"\",AL3)","v":""},{"$f":"IF(AP3=0,\"\",AP3)","v":""},{"$f":"IF(AT3=0,\"\",AT3)","v":""},{"$f":"IF(AX3=0,\"\",AX3)","v":""},{"$f":"IF(BB3=0,\"\",BB3)","v":""},{"$f":"IF(BF3=0,\"\",BF3)","v":""},{"$f":"IF(BJ3=0,\"\",BJ3)","v":""},{"$f":"IF(BN3=0,\"\",BN3)","v":""}]
[]
[]
[]
[]
[]
[]
[]
[]
[]
[]
[]
[]
[]
[]
[]
[null,".",null,null,null,null,null,null,null,null,null,null,null,null,null,null,null,null,null,null,null,null,null,null,null,null,null,null,null,null,null,null,null,null,null,null,null,null,null,null,null,null,null,null,null,null,null,null,null,null,null,null,null,null,null,null,null,null,null,null,null,null,null,null,null,null,null,"."]

{"sheet":"E3","index":3,"n_rows":60,"n_cols":68,"rows_kept":60,"cut":false,"hidden":false,"merged":[[37,64,37,65],[38,2,38,5],[38,42,38,45],[38,62,38,65],[37,52,37,53],[37,54,37,55],[37,56,37,57],[37,58,37,59],[37,60,37,61],[37,62,37,63],[37,40,37,41],[37,42,37,43],[37,44,37,45],[37,46,37,47],[37,48,37,49],[37,50,37,51],[37,28,37,29],[37,30,37,31],[37,32,37,33],[37,34,37,35],[37,36,37,37],[37,38,37,39],[37,16,37,17],[37,18,37,19],[37,20,37,21],[37,22,37,23],[37,24,37,25],[37,26,37,27],[36,60,36,61],[36,62,36,63],[36,64,36,65],[37,2,37,3],[37,4,37,5],[37,6,37,7],[37,8,37,9],[37,10,37,11],[37,12,37,13],[37,14,37,15],[36,48,36,49],[36,50,36,51],[36,52,36,53],[36,54,36,55],[36,56,36,57],[36,58,36,59],[36,36,36,37],[36,38,36,39],[36,40,36,41],[36,42,36,43],[36,44,36,45],[36,46,36,47],[36,24,36,25],[36,26,36,27],[36,28,36,29],[36,30,36,31],[36,32,36,33],[36,34,36,35],[36,12,36,13],[36,14,36,15],[36,16,36,17],[36,18,36,19],[36,20,36,21],[36,22,36,23],[35,56,35,57],[35,58,35,59],[35,60,35,61],[35,62,35,63],[35,64,35,65],[36,2,36,3],[36,4,36,5],[36,6,36,7],[36,8,36,9],[36,10,36,11],[35,44,35,45],[35,46,35,47],[35,48,35,49],[35,50,35,51],[35,52,35,53],[35,54,35,55],[35,32,35,33],[35,34,35,35],[35,36,35,37],[35,38,35,39],[35,40,35,41],[35,42,35,43],[35,20,35,21],[35,22,35,23],[35,24,35,25],[35,26,35,27],[35,28,35,29],[35,30,35,31],[34,64,34,65],[35,2,35,3],[35,4,35,5],[35,6,35,7],[35,8,35,9],[35,10,35,11],[35,12,35,13],[35,14,35,15],[35,16,35,17],[35,18,35,19],[34,52,34,53],[34,54,34,55],[34,56,34,57],[34,58,34,59],[34,60,34,61],[34,62,34,63],[34,40,34,41],[34,42,34,43],[34,44,34,45],[34,46,34,47],[34,48,34,49],[34,50,34,51],[34,28,34,29],[34,30,34,31],[34,32,34,33],[34,34,34,35],[34,36,34,37],[34,38,34,39],[34,16,34,17],[34,18,34,19],[34,20,34,21],[34,22,34,23],[34,24,34,25],[34,26,34,27],[33,60,33,61],[33,62,33,63],[33,64,33,65],[34,2,34,3],[34,4,34,5],[34,6,34,7],[34,8,34,9],[34,10,34,11],[34,12,34,13],[34,14,34,15],[33,48,33,49],[33,50,33,51],[33,52,33,53],[33,54,33,55],[33,56,33,57],[33,58,33,59],[33,36,33,37],[33,38,33,39],[33,40,33,41],[33,42,33,43],[33,44,33,45],[33,46,33,47],[33,24,33,25],[33,26,33,27],[1,38,1,41],[33,28,33,29],[33,30,33,31],[33,32,33,33],[33,34,33,35],[33,12,33,13],[33,14,33,15],[33,16,33,17],[33,18,33,19],[33,20,33,21],[33,22,33,23],[38,38,38,41],[2,0,2,1],[2,66,2,67],[1,0,1,1],[1,6,1,9],[1,10,1,13],[1,14,1,17],[1,18,1,21],[1,22,1,25],[1,50,1,53],[1,54,1,57],[1,58,1,61],[1,62,1,65],[1,66,1,67],[1,42,1,45],[1,46,1,49],[33,2,33,3],[33,4,33,5],[33,6,33,7],[33,8,33,9],[33,10,33,11],[1,26,1,29],[1,30,1,33],[1,34,1,37]]}
[null,null,null,null,null,null,{"$f":"IF(J3=\"\",0,IF(J32>0,J1,0))","v":0},null,null,{"$f":"IF(J3=\"\",\"\",VLOOKUP(J3,Indicadores,2,FALSE))","v":""},{"$f":"IF(N3=\"\",0,IF(N32>0,N1,0))","v":0},null,null,{"$f":"IF(N3=\"\",\"\",VLOOKUP(N3,Indicadores,2,FALSE))","v":""},{"$f":"IF(R3=\"\",0,IF(R32>0,R1,0))","v":0},null,null,{"$f":"IF(R3=\"\",\"\",VLOOKUP(R3,Indicadores,2,FALSE))","v":""},{"$f":"IF(V3=\"\",0,IF(V32>0,V1,0))","v":0},null,null,{"$f":"IF(V3=\"\",\"\",VLOOKUP(V3,Indicadores,2,FALSE))","v":""},{"$f":"IF(Z3=\"\",0,IF(Z32>0,Z1,0))","v":0},null,null,{"$f":"IF(Z3=\"\",\"\",VLOOKUP(Z3,Indicadores,2,FALSE))","v":""},{"$f":"IF(AD3=\"\",0,IF(AD32>0,AD1,0))","v":0},null,null,{"$f":"IF(AD3=\"\",\"\",VLOOKUP(AD3,Indicadores,2,FALSE))","v":""},{"$f":"IF(AH3=\"\",0,IF(AH32>0,AH1,0))","v":0},null,null,{"$f":"IF(AH3=\"\",\"\",VLOOKUP(AH3,Indicadores,2,FALSE))","v":""},{"$f":"IF(AL3=\"\",0,IF(AL32>0,AL1,0))","v":0},null,null,{"$f":"IF(AL3=\"\",\"\",VLOOKUP(AL3,Indicadores,2,FALSE))","v":""},{"$f":"IF(AP3=\"\",0,IF(AP32>0,AP1,0))","v":0},null,null,{"$f":"IF(AP3=\"\",\"\",VLOOKUP(AP3,Indicadores,2,FALSE))","v":""},{"$f":"IF(AT3=\"\",0,IF(AT32>0,AT1,0))","v":0},null,null,{"$f":"IF(AT3=\"\",\"\",VLOOKUP(AT3,Indicadores,2,FALSE))","v":""},{"$f":"IF(AX3=\"\",0,IF(AX32>0,AX1,0))","v":0},null,null,{"$f":"IF(AX3=\"\",\"\",VLOOKUP(AX3,Indicadores,2,FALSE))","v":""},{"$f":"IF(BB3=\"\",0,IF(BB32>0,BB1,0))","v":0},null,null,{"$f":"IF(BB3=\"\",\"\",VLOOKUP(BB3,Indicadores,2,FALSE))","v":""},{"$f":"IF(BF3=\"\",0,IF(BF32>0,BF1,0))","v":0},null,null,{"$f":"IF(BF3=\"\",\"\",VLOOKUP(BF3,Indicadores,2,FALSE))","v":""},{"$f":"IF(BJ3=\"\",0,IF(BJ32>0,BJ1,0))","v":0},null,null,{"$f":"IF(BJ3=\"\",\"\",VLOOKUP(BJ3,Indicadores,2,FALSE))","v":""},{"$f":"IF(BN3=\"\",0,IF(BN32>0,BN1,0))","v":0},null,null,{"$f":"IF(BN3=\"\",\"\",VLOOKUP(BN3,Indicadores,2,FALSE))","v":""}]
[{"$f":"Al!D2 & CHAR(10)  & Al!D5  & CHAR(32) & Al!B5","v":"AVE MARÍA ALBOLOTE\nRÚBRICAS LENGUA 1º"},null,null,"Total puntos","Puntuación sobre 4","Puntuación sobre 10",{"$f":"IF(J3=\"\",\"\",VLOOKUP(J3,Indicadores,3,FALSE))","v":""},null,null,null,{"$f":"IF(N3=\"\",\"\",VLOOKUP(N3,Indicadores,3,FALSE))","v":""},null,null,null,{"$f":"IF(R3=\"\",\"\",VLOOKUP(R3,Indicadores,3,FALSE))","v":""},null,null,null,{"$f":"IF(V3=\"\",\"\",VLOOKUP(V3,Indicadores,3,FALSE))","v":""},null,null,null,{"$f":"IF(Z3=\"\",\"\",VLOOKUP(Z3,Indicadores,3,FALSE))","v":""},null,null,null,{"$f":"IF(AD3=\"\",\"\",VLOOKUP(AD3,Indicadores,3,FALSE))","v":""},null,null,null,{"$f":"IF(AH3=\"\",\"\",VLOOKUP(AH3,Indicadores,3,FALSE))","v":""},null,null,null,{"$f":"IF(AL3=\"\",\"\",VLOOKUP(AL3,Indicadores,3,FALSE))","v":""},null,null,null,{"$f":"IF(AP3=\"\",\"\",VLOOKUP(AP3,Indicadores,3,FALSE))","v":""},null,null,null,{"$f":"IF(AT3=\"\",\"\",VLOOKUP(AT3,Indicadores,3,FALSE))","v":""},null,null,null,{"$f":"IF(AX3=\"\",\"\",VLOOKUP(AX3,Indicadores,3,FALSE))","v":""},null,null,null,{"$f":"IF(BB3=\"\",\"\",VLOOKUP(BB3,Indicadores,3,FALSE))","v":""},null,null,null,{"$f":"IF(BF3=\"\",\"\",VLOOKUP(BF3,Indicadores,3,FALSE))","v":""},null,null,null,{"$f":"IF(BJ3=\"\",\"\",VLOOKUP(BJ3,Indicadores,3,FALSE))","v":""},null,null,null,{"$f":"IF(BN3=\"\",\"\",VLOOKUP(BN3,Indicadores,3,FALSE))","v":""}]
[null,null,null,{"$f":"SUM(Valores)*4","v":0},4,10,null,null,null,null,null,null,null,null,null,null,null,null,null,null,null,null,null,null,null,null,null,null,null,null,null,null,null,null,null,null,null,null,null,null,null,null,null,null,null,null,null,null,null,null,null,null,null,null,null,null,null,null,null,null,null,null,null,null,null,null,{"$f":"A3","v":0}]
[{"$f":"IF(Al!D9=\"\",\"\",Al!C9)","v":""},{"$f":"IF(Al!D9=\"\",\"\",Al!D9)","v":""},null,{"$f":"IF((J4*V.01+N4*V.02+R4*V.03+V4*V.04+Z4*V.05+AD4*V.06+AH4*V.07+AL4*V.08+AP4*V.09+AT4*V.10+AX4*V.11+BB4*V.12+BF4*V.13+BJ4*V.14+BN4*V.15)=0,\"\",J4*V.01+N4*V.02+R4*V.03+V4*V.04+Z4*V.05+AD4*V.06+AH4*V.07+AL4*V.08+AP4*V.09+AT4*V.10+AX4*V.11+BB4*V.12+BF4*V.13+BJ4*V.14+BN4*V.15)","v":""},{"$f":"IF(D4=\"\",\"\",D4*Punt4/total)","v":""},{"$f":"IF(D4=\"\",\"\",D4*Punt10/total)","v":""},null,null,null,{"$f":"IFERROR(AVERAGE(G4:I4),0)","v":0},null,null,null,{"$f":"IFERROR(AVERAGE(K4:M4),0)","v":0},null,null,null,{"$f":"IFERROR(AVERAGE(O4:Q4),0)","v":0},null,null,null,{"$f":"IFERROR(AVERAGE(S4:U4),0)","v":0},null,null,null,{"$f":"IFERROR(AVERAGE(W4:Y4),0)","v":0},null,null,null,{"$f":"IFERROR(AVERAGE(AA4:AC4),0)","v":0},null,null,null,{"$f":"IFERROR(AVERAGE(AE4:AG4),0)","v":0},null,null,null,{"$f":"IFERROR(AVERAGE(AI4:AK4),0)","v":0},null,null,null,{"$f":"IFERROR(AVERAGE(AM4:AO4),0)","v":0},null,null,null,{"$f":"IFERROR(AVERAGE(AQ4:AS4),0)","v":0},null,null,null,{"$f":"IFERROR(AVERAGE(AU4:AW4),0)","v":0},null,null,null,{"$f":"IFERROR(AVERAGE(AY4:BA4),0)","v":0},null,null,null,{"$f":"IFERROR(AVERAGE(BC4:BE4),0)","v":0},null,null,null,{"$f":"IFERROR(AVERAGE(BG4:BI4),0)","v":0},null,null,null,{"$f":"IFERROR(AVERAGE(BK4:BM4),0)","v":0},{"$f":"A4","v":""},{"$f":"B4","v":""}]
[{"$f":"IF(Al!D10=\"\",\"\",Al!C10)","v":""},{"$f":"IF(Al!D10=\"\",\"\",Al!D10)","v":""},null,"","","",null,null,null,0,null,null,null,0,null,null,null,0,null,null,null,0,null,null,null,0,null,null,null,0,null,null,null,0,null,null,null,0,null,null,null,0,null,null,null,0,null,null,null,0,null,null,null,0,null,null,null,0,null,null,null,0,null,null,null,0,{"$f":"A5","v":""},""]
[{"$f":"IF(Al!D11=\"\",\"\",Al!C11)","v":""},{"$f":"IF(Al!D11=\"\",\"\",Al!D11)","v":""},null,"","","",null,null,null,0,null,null,null,0,null,null,null,0,null,null,null,0,null,null,null,0,null,null,null,0,null,null,null,0,null,null,null,0,null,null,null,0,null,null,null,0,null,null,null,0,null,null,null,0,null,null,null,0,null,null,null,0,null,null,null,0,"",""]
[{"$f":"IF(Al!D12=\"\",\"\",Al!C12)","v":""},{"$f":"IF(Al!D12=\"\",\"\",Al!D12)","v":""},null,"","","",null,null,null,0,null,null,null,0,null,null,null,0,null,null,null,0,null,null,null,0,null,null,null,0,null,null,null,0,null,null,null,0,null,null,null,0,null,null,null,0,null,null,null,0,null,null,null,0,null,null,null,0,null,null,null,0,null,null,null,0,"",""]
[{"$f":"IF(Al!D13=\"\",\"\",Al!C13)","v":""},{"$f":"IF(Al!D13=\"\",\"\",Al!D13)","v":""},null,"","","",null,null,null,0,null,null,null,0,null,null,null,0,null,null,null,0,null,null,null,0,null,null,null,0,null,null,null,0,null,null,null,0,null,null,null,0,null,null,null,0,null,null,null,0,null,null,null,0,null,null,null,0,null,null,null,0,null,null,null,0,"",""]
[{"$f":"IF(Al!D14=\"\",\"\",Al!C14)","v":""},{"$f":"IF(Al!D14=\"\",\"\",Al!D14)","v":""},null,"","","",null,null,null,0,null,null,null,0,null,null,null,0,null,null,null,0,null,null,null,0,null,null,null,0,null,null,null,0,null,null,null,0,null,null,null,0,null,null,null,0,null,null,null,0,null,null,null,0,null,null,null,0,null,null,null,0,null,null,null,0,"",""]
[{"$f":"IF(Al!D15=\"\",\"\",Al!C15)","v":""},{"$f":"IF(Al!D15=\"\",\"\",Al!D15)","v":""},null,"","","",null,null,null,0,null,null,null,0,null,null,null,0,null,null,null,0,null,null,null,0,null,null,null,0,null,null,null,0,null,null,null,0,null,null,null,0,null,null,null,0,null,null,null,0,null,null,null,0,null,null,null,0,null,null,null,0,null,null,null,0,"",""]
[{"$f":"IF(Al!D16=\"\",\"\",Al!C16)","v":""},{"$f":"IF(Al!D16=\"\",\"\",Al!D16)","v":""},null,"","","",null,null,null,0,null,null,null,0,null,null,null,0,null,null,null,0,null,null,null,0,null,null,null,0,null,null,null,0,null,null,null,0,null,null,null,0,null,null,null,0,null,null,null,0,null,null,null,0,null,null,null,0,null,null,null,0,null,null,null,0,"",""]
[{"$f":"IF(Al!D17=\"\",\"\",Al!C17)","v":""},{"$f":"IF(Al!D17=\"\",\"\",Al!D17)","v":""},null,"","","",null,null,null,0,null,null,null,0,null,null,null,0,null,null,null,0,null,null,null,0,null,null,null,0,null,null,null,0,null,null,null,0,null,null,null,0,null,null,null,0,null,null,null,0,null,null,null,0,null,null,null,0,null,null,null,0,null,null,null,0,"",""]
[{"$f":"IF(Al!D18=\"\",\"\",Al!C18)","v":""},{"$f":"IF(Al!D18=\"\",\"\",Al!D18)","v":""},null,"","","",null,null,null,0,null,null,null,0,null,null,null,0,null,null,null,0,null,null,null,0,null,null,null,0,null,null,null,0,null,null,null,0,null,null,null,0,null,null,null,0,null,null,null,0,null,null,null,0,null,null,null,0,null,null,null,0,null,null,null,0,"",""]
[{"$f":"IF(Al!D19=\"\",\"\",Al!C19)","v":""},{"$f":"IF(Al!D19=\"\",\"\",Al!D19)","v":""},null,"","","",null,null,null,0,null,null,null,0,null,null,null,0,null,null,null,0,null,null,null,0,null,null,null,0,null,null,null,0,null,null,null,0,null,null,null,0,null,null,null,0,null,null,null,0,null,null,null,0,null,null,null,0,null,null,null,0,null,null,null,0,"",""]
[{"$f":"IF(Al!D20=\"\",\"\",Al!C20)","v":""},{"$f":"IF(Al!D20=\"\",\"\",Al!D20)","v":""},null,"","","",null,null,null,0,null,null,null,0,null,null,null,0,null,null,null,0,null,null,null,0,null,null,null,0,null,null,null,0,null,null,null,0,null,null,null,0,null,null,null,0,null,null,null,0,null,null,null,0,null,null,null,0,null,null,null,0,null,null,null,0,"",""]
[{"$f":"IF(Al!D21=\"\",\"\",Al!C21)","v":""},{"$f":"IF(Al!D21=\"\",\"\",Al!D21)","v":""},null,"","","",null,null,null,0,null,null,null,0,null,null,null,0,null,null,null,0,null,null,null,0,null,null,null,0,null,null,null,0,null,null,null,0,null,null,null,0,null,null,null,0,null,null,null,0,null,null,null,0,null,null,null,0,null,null,null,0,null,null,null,0,"",""]
[{"$f":"IF(Al!D22=\"\",\"\",Al!C22)","v":""},{"$f":"IF(Al!D22=\"\",\"\",Al!D22)","v":""},null,"","","",null,null,null,0,null,null,null,0,null,null,null,0,null,null,null,0,null,null,null,0,null,null,null,0,null,null,null,0,null,null,null,0,null,null,null,0,null,null,null,0,null,null,null,0,null,null,null,0,null,null,null,0,null,null,null,0,null,null,null,0,"",""]
[{"$f":"IF(Al!D23=\"\",\"\",Al!C23)","v":""},{"$f":"IF(Al!D23=\"\",\"\",Al!D23)","v":""},null,"","","",null,null,null,0,null,null,null,0,null,null,null,0,null,null,null,0,null,null,null,0,null,null,null,0,null,null,null,0,null,null,null,0,null,null,null,0,null,null,null,0,null,null,null,0,null,null,null,0,null,null,null,0,null,null,null,0,null,null,null,0,"",""]
[{"$f":"IF(Al!D24=\"\",\"\",Al!C24)","v":""},{"$f":"IF(Al!D24=\"\",\"\",Al!D24)","v":""},null,"","","",null,null,null,0,null,null,null,0,null,null,null,0,null,null,null,0,null,null,null,0,null,null,null,0,null,null,null,0,null,null,null,0,null,null,null,0,null,null,null,0,null,null,null,0,null,null,null,0,null,null,null,0,null,null,null,0,null,null,null,0,"",""]
[{"$f":"IF(Al!D25=\"\",\"\",Al!C25)","v":""},{"$f":"IF(Al!D25=\"\",\"\",Al!D25)","v":""},null,"","","",null,null,null,0,null,null,null,0,null,null,null,0,null,null,null,0,null,null,null,0,null,null,null,0,null,null,null,0,null,null,null,0,null,null,null,0,null,null,null,0,null,null,null,0,null,null,null,0,null,null,null,0,null,null,null,0,null,null,null,0,"",""]
[{"$f":"IF(Al!D26=\"\",\"\",Al!C26)","v":""},{"$f":"IF(Al!D26=\"\",\"\",Al!D26)","v":""},null,"","","",null,null,null,0,null,null,null,0,null,null,null,0,null,null,null,0,null,null,null,0,null,null,null,0,null,null,null,0,null,null,null,0,null,null,null,0,null,null,null,0,null,null,null,0,null,null,null,0,null,null,null,0,null,null,null,0,null,null,null,0,"",""]
[{"$f":"IF(Al!D27=\"\",\"\",Al!C27)","v":""},{"$f":"IF(Al!D27=\"\",\"\",Al!D27)","v":""},null,"","","",null,null,null,0,null,null,null,0,null,null,null,0,null,null,null,0,null,null,null,0,null,null,null,0,null,null,null,0,null,null,null,0,null,null,null,0,null,null,null,0,null,null,null,0,null,null,null,0,null,null,null,0,null,null,null,0,null,null,null,0,"",""]
[{"$f":"IF(Al!D28=\"\",\"\",Al!C28)","v":""},{"$f":"IF(Al!D28=\"\",\"\",Al!D28)","v":""},null,"","","",null,null,null,0,null,null,null,0,null,null,null,0,null,null,null,0,null,null,null,0,null,null,null,0,null,null,null,0,null,null,null,0,null,null,null,0,null,null,null,0,null,null,null,0,null,null,null,0,null,null,null,0,null,null,null,0,null,null,null,0,"",""]
[{"$f":"IF(Al!D29=\"\",\"\",Al!C29)","v":""},{"$f":"IF(Al!D29=\"\",\"\",Al!D29)","v":""},null,"","","",null,null,null,0,null,null,null,0,null,null,null,0,null,null,null,0,null,null,null,0,null,null,null,0,null,null,null,0,null,null,null,0,null,null,null,0,null,null,null,0,null,null,null,0,null,null,null,0,null,null,null,0,null,null,null,0,null,null,null,0,"",""]
[{"$f":"IF(Al!D30=\"\",\"\",Al!C30)","v":""},{"$f":"IF(Al!D30=\"\",\"\",Al!D30)","v":""},null,"","","",null,null,null,0,null,null,null,0,null,null,null,0,null,null,null,0,null,null,null,0,null,null,null,0,null,null,null,0,null,null,null,0,null,null,null,0,null,null,null,0,null,null,null,0,null,null,null,0,null,null,null,0,null,null,null,0,null,null,null,0,"",""]
[{"$f":"IF(Al!D31=\"\",\"\",Al!C31)","v":""},{"$f":"IF(Al!D31=\"\",\"\",Al!D31)","v":""},null,"","","",null,null,null,0,null,null,null,0,null,null,null,0,null,null,null,0,null,null,null,0,null,null,null,0,null,null,null,0,null,null,null,0,null,null,null,0,null,null,null,0,null,null,null,0,null,null,null,0,null,null,null,0,null,null,null,0,null,null,null,0,"",""]
[{"$f":"IF(Al!D32=\"\",\"\",Al!C32)","v":""},{"$f":"IF(Al!D32=\"\",\"\",Al!D32)","v":""},null,"","","",null,null,null,0,null,null,null,0,null,null,null,0,null,null,null,0,null,null,null,0,null,null,null,0,null,null,null,0,null,null,null,0,null,null,null,0,null,null,null,0,null,null,null,0,null,null,null,0,null,null,null,0,null,null,null,0,null,null,null,0,"",""]
[{"$f":"IF(Al!D33=\"\",\"\",Al!C33)","v":""},{"$f":"IF(Al!D33=\"\",\"\",Al!D33)","v":""},null,"","","",null,null,null,0,null,null,null,0,null,null,null,0,null,null,null,0,null,null,null,0,null,null,null,0,null,null,null,0,null,null,null,0,null,null,null,0,null,null,null,0,null,null,null,0,null,null,null,0,null,null,null,0,null,null,null,0,null,null,null,0,"",""]
[{"$f":"IF(Al!D34=\"\",\"\",Al!C34)","v":""},{"$f":"IF(Al!D34=\"\",\"\",Al!D34)","v":""},null,"","","",null,null,null,0,null,null,null,0,null,null,null,0,null,null,null,0,null,null,null,0,null,null,null,0,null,null,null,0,null,null,null,0,null,null,null,0,null,null,null,0,null,null,null,0,null,null,null,0,null,null,null,0,null,null,null,0,null,null,null,0,"",""]
[{"$f":"IF(Al!D35=\"\",\"\",Al!C35)","v":""},{"$f":"IF(Al!D35=\"\",\"\",Al!D35)","v":""},null,"","","",null,null,null,0,null,null,null,0,null,null,null,0,null,null,null,0,null,null,null,0,null,null,null,0,null,null,null,0,null,null,null,0,null,null,null,0,null,null,null,0,null,null,null,0,null,null,null,0,null,null,null,0,null,null,null,0,null,null,null,0,"",""]
[{"$f":"IF(Al!D36=\"\",\"\",Al!C36)","v":""},{"$f":"IF(Al!D36=\"\",\"\",Al!D36)","v":""},null,"","","",null,null,null,0,null,null,null,0,null,null,null,0,null,null,null,0,null,null,null,0,null,null,null,0,null,null,null,0,null,null,null,0,null,null,null,0,null,null,null,0,null,null,null,0,null,null,null,0,null,null,null,0,null,null,null,0,null,null,null,0,"",""]
["G","GLOBAL",null,null,{"$f":"IFERROR(AVERAGEIF(E4:E31,\">0\"),0)","v":0},0,null,null,null,{"$f":"IFERROR(AVERAGEIF(J4:J31,\">0\"),0)","v":0},null,null,null,{"$f":"IFERROR(AVERAGEIF(N4:N31,\">0\"),0)","v":0},null,null,null,{"$f":"IFERROR(AVERAGEIF(R4:R31,\">0\"),0)","v":0},null,null,null,{"$f":"IFERROR(AVERAGEIF(V4:V31,\">0\"),0)","v":0},null,null,null,{"$f":"IFERROR(AVERAGEIF(Z4:Z31,\">0\"),0)","v":0},null,null,null,{"$f":"IFERROR(AVERAGEIF(AD4:AD31,\">0\"),0)","v":0},null,null,null,{"$f":"IFERROR(AVERAGEIF(AH4:AH31,\">0\"),0)","v":0},null,null,null,{"$f":"IFERROR(AVERAGEIF(AL4:AL31,\">0\"),0)","v":0},null,null,null,{"$f":"IFERROR(AVERAGEIF(AP4:AP31,\">0\"),0)","v":0},null,null,null,{"$f":"IFERROR(AVERAGEIF(AT4:AT31,\">0\"),0)","v":0},null,null,null,{"$f":"IFERROR(AVERAGEIF(AX4:AX31,\">0\"),0)","v":0},null,null,null,{"$f":"IFERROR(AVERAGEIF(BB4:BB31,\">0\"),0)","v":0},null,null,null,{"$f":"IFERROR(AVERAGEIF(BF4:BF31,\">0\"),0)","v":0},null,null,null,{"$f":"IFERROR(AVERAGEIF(BJ4:BJ31,\">0\"),0)","v":0},null,null,null,{"$f":"IFERROR(AVERAGEIF(BN4:BN31,\">0\"),0)","v":0}]
[]
[null,"Insuficiente",{"$f":"COUNTIF(F4:F31,\"<4,5\")-COUNTIF(F4:F31,\"=0\")","v":0},null,{"$f":"IFERROR(C34/C$38,\"\")","v":""},null,{"$f":"COUNTIF(J4:J31,\"<1,9\")-COUNTIF(J4:J31,\"=0\")","v":0},null,{"$f":"IFERROR(G34/G$38,\"\")","v":""},null,{"$f":"COUNTIF(N4:N31,\"<1,9\")-COUNTIF(N4:N31,\"=0\")","v":0},null,{"$f":"IFERROR(K34/K$38,\"\")","v":""},null,{"$f":"COUNTIF(R4:R31,\"<1,9\")-COUNTIF(R4:R31,\"=0\")","v":0},null,{"$f":"IFERROR(O34/O$38,\"\")","v":""},null,{"$f":"COUNTIF(V4:V31,\"<1,9\")-COUNTIF(V4:V31,\"=0\")","v":0},null,{"$f":"IFERROR(S34/S$38,\"\")","v":""},null,{"$f":"COUNTIF(Z4:Z31,\"<1,9\")-COUNTIF(Z4:Z31,\"=0\")","v":0},null,{"$f":"IFERROR(W34/W$38,\"\")","v":""},null,{"$f":"COUNTIF(AD4:AD31,\"<1,9\")-COUNTIF(AD4:AD31,\"=0\")","v":0},null,{"$f":"IFERROR(AA34/AA$38,\"\")","v":""},null,{"$f":"COUNTIF(AH4:AH31,\"<1,9\")-COUNTIF(AH4:AH31,\"=0\")","v":0},null,{"$f":"IFERROR(AE34/AE$38,\"\")","v":""},null,{"$f":"COUNTIF(AL4:AL31,\"<1,9\")-COUNTIF(AL4:AL31,\"=0\")","v":0},null,{"$f":"IFERROR(AI34/AI$38,\"\")","v":""},null,{"$f":"COUNTIF(AP4:AP31,\"<1,9\")-COUNTIF(AP4:AP31,\"=0\")","v":0},null,{"$f":"IFERROR(AM34/AM$38,\"\")","v":""},null,{"$f":"COUNTIF(AT4:AT31,\"<1,9\")-COUNTIF(AT4:AT31,\"=0\")","v":0},null,{"$f":"IFERROR(AQ34/AQ$38,\"\")","v":""},null,{"$f":"COUNTIF(AX4:AX31,\"<1,9\")-COUNTIF(AX4:AX31,\"=0\")","v":0},null,{"$f":"IFERROR(AU34/AU$38,\"\")","v":""},null,{"$f":"COUNTIF(BB4:BB31,\"<1,9\")-COUNTIF(BB4:BB31,\"=0\")","v":0},null,{"$f":"IFERROR(AY34/AY$38,\"\")","v":""},null,{"$f":"COUNTIF(BF4:BF31,\"<1,9\")-COUNTIF(BF4:BF31,\"=0\")","v":0},null,{"$f":"IFERROR(BC34/BC$38,\"\")","v":""},null,{"$f":"COUNTIF(BJ4:BJ31,\"<1,9\")-COUNTIF(BJ4:BJ31,\"=0\")","v":0},null,{"$f":"IFERROR(BG34/BG$38,\"\")","v":""},null,{"$f":"COUNTIF(BN4:BN31,\"<1,9\")-COUNTIF(BN4:BN31,\"=0\")","v":0},null,{"$f":"IFERROR(BK34/BK$38,\"\")","v":""},null,null,"Insuficiente"]
[null,"Bien",{"$f":"COUNTIF(F4:F31,\">4,5\")-COUNTIF(F4:F31,\">=6,5\")","v":0},null,{"$f":"IFERROR(C35/C$38,\"\")","v":""},null,{"$f":"COUNTIF(J4:J31,\">=1,9\")-COUNTIF(J4:J31,\">=2,7\")","v":0},null,{"$f":"IFERROR(G35/G$38,\"\")","v":""},null,{"$f":"COUNTIF(N4:N31,\">=1,9\")-COUNTIF(N4:N31,\">=2,7\")","v":0},null,{"$f":"IFERROR(K35/K$38,\"\")","v":""},null,{"$f":"COUNTIF(R4:R31,\">=1,9\")-COUNTIF(R4:R31,\">=2,7\")","v":0},null,{"$f":"IFERROR(O35/O$38,\"\")","v":""},null,{"$f":"COUNTIF(V4:V31,\">=1,9\")-COUNTIF(V4:V31,\">=2,7\")","v":0},null,{"$f":"IFERROR(S35/S$38,\"\")","v":""},null,{"$f":"COUNTIF(Z4:Z31,\">=1,9\")-COUNTIF(Z4:Z31,\">=2,7\")","v":0},null,{"$f":"IFERROR(W35/W$38,\"\")","v":""},null,{"$f":"COUNTIF(AD4:AD31,\">=1,9\")-COUNTIF(AD4:AD31,\">=2,7\")","v":0},null,{"$f":"IFERROR(AA35/AA$38,\"\")","v":""},null,{"$f":"COUNTIF(AH4:AH31,\">=1,9\")-COUNTIF(AH4:AH31,\">=2,7\")","v":0},null,{"$f":"IFERROR(AE35/AE$38,\"\")","v":""},null,{"$f":"COUNTIF(AL4:AL31,\">=1,9\")-COUNTIF(AL4:AL31,\">=2,7\")","v":0},null,{"$f":"IFERROR(AI35/AI$38,\"\")","v":""},null,{"$f":"COUNTIF(AP4:AP31,\">=1,9\")-COUNTIF(AP4:AP31,\">=2,7\")","v":0},null,{"$f":"IFERROR(AM35/AM$38,\"\")","v":""},null,{"$f":"COUNTIF(AT4:AT31,\">=1,9\")-COUNTIF(AT4:AT31,\">=2,7\")","v":0},null,{"$f":"IFERROR(AQ35/AQ$38,\"\")","v":""},null,{"$f":"COUNTIF(AX4:AX31,\">=1,9\")-COUNTIF(AX4:AX31,\">=2,7\")","v":0},null,{"$f":"IFERROR(AU35/AU$38,\"\")","v":""},null,{"$f":"COUNTIF(BB4:BB31,\">=1,9\")-COUNTIF(BB4:BB31,\">=2,7\")","v":0},null,{"$f":"IFERROR(AY35/AY$38,\"\")","v":""},null,{"$f":"COUNTIF(BF4:BF31,\">=1,9\")-COUNTIF(BF4:BF31,\">=2,7\")","v":0},null,{"$f":"IFERROR(BC35/BC$38,\"\")","v":""},null,{"$f":"COUNTIF(BJ4:BJ31,\">=1,9\")-COUNTIF(BJ4:BJ31,\">=2,7\")","v":0},null,{"$f":"IFERROR(BG35/BG$38,\"\")","v":""},null,{"$f":"COUNTIF(BN4:BN31,\">=1,9\")-COUNTIF(BN4:BN31,\">=2,7\")","v":0},null,{"$f":"IFERROR(BK35/BK$38,\"\")","v":""},null,null,"Bien"]
[null,"Notable",{"$f":"COUNTIF(F4:F31,\">6,5\")-COUNTIF(F4:F31,\">8,5\")","v":0},null,{"$f":"IFERROR(C36/C$38,\"\")","v":""},null,{"$f":"COUNTIF(J4:J31,\">=2,7\")-COUNTIF(J4:J31,\">=3,5\")","v":0},null,{"$f":"IFERROR(G36/G$38,\"\")","v":""},null,{"$f":"COUNTIF(N4:N31,\">=2,7\")-COUNTIF(N4:N31,\">=3,5\")","v":0},null,{"$f":"IFERROR(K36/K$38,\"\")","v":""},null,{"$f":"COUNTIF(R4:R31,\">=2,7\")-COUNTIF(R4:R31,\">=3,5\")","v":0},null,{"$f":"IFERROR(O36/O$38,\"\")","v":""},null,{"$f":"COUNTIF(V4:V31,\">=2,7\")-COUNTIF(V4:V31,\">=3,5\")","v":0},null,{"$f":"IFERROR(S36/S$38,\"\")","v":""},null,{"$f":"COUNTIF(Z4:Z31,\">=2,7\")-COUNTIF(Z4:Z31,\">=3,5\")","v":0},null,{"$f":"IFERROR(W36/W$38,\"\")","v":""},null,{"$f":"COUNTIF(AD4:AD31,\">=2,7\")-COUNTIF(AD4:AD31,\">=3,5\")","v":0},null,{"$f":"IFERROR(AA36/AA$38,\"\")","v":""},null,{"$f":"COUNTIF(AH4:AH31,\">=2,7\")-COUNTIF(AH4:AH31,\">=3,5\")","v":0},null,{"$f":"IFERROR(AE36/AE$38,\"\")","v":""},null,{"$f":"COUNTIF(AL4:AL31,\">=2,7\")-COUNTIF(AL4:AL31,\">=3,5\")","v":0},null,{"$f":"IFERROR(AI36/AI$38,\"\")","v":""},null,{"$f":"COUNTIF(AP4:AP31,\">=2,7\")-COUNTIF(AP4:AP31,\">=3,5\")","v":0},null,{"$f":"IFERROR(AM36/AM$38,\"\")","v":""},null,{"$f":"COUNTIF(AT4:AT31,\">=2,7\")-COUNTIF(AT4:AT31,\">=3,5\")","v":0},null,{"$f":"IFERROR(AQ36/AQ$38,\"\")","v":""},null,{"$f":"COUNTIF(AX4:AX31,\">=2,7\")-COUNTIF(AX4:AX31,\">=3,5\")","v":0},null,{"$f":"IFERROR(AU36/AU$38,\"\")","v":""},null,{"$f":"COUNTIF(BB4:BB31,\">=2,7\")-COUNTIF(BB4:BB31,\">=3,5\")","v":0},null,{"$f":"IFERROR(AY36/AY$38,\"\")","v":""},null,{"$f":"COUNTIF(BF4:BF31,\">=2,7\")-COUNTIF(BF4:BF31,\">=3,5\")","v":0},null,{"$f":"IFERROR(BC36/BC$38,\"\")","v":""},null,{"$f":"COUNTIF(BJ4:BJ31,\">=2,7\")-COUNTIF(BJ4:BJ31,\">=3,5\")","v":0},null,{"$f":"IFERROR(BG36/BG$38,\"\")","v":""},null,{"$f":"COUNTIF(BN4:BN31,\">=2,7\")-COUNTIF(BN4:BN31,\">=3,5\")","v":0},null,{"$f":"IFERROR(BK36/BK$38,\"\")","v":""},null,null,"Notable"]
[null,"Sobresaliente",{"$f":"COUNTIF(F4:F31,\">8,5\")","v":0},null,{"$f":"IFERROR(C37/C$38,\"\")","v":""},null,{"$f":"COUNTIF(J4:J31,\">=3,5\")","v":0},null,{"$f":"IFERROR(G37/G$38,\"\")","v":""},null,{"$f":"COUNTIF(N4:N31,\">=3,5\")","v":0},null,{"$f":"IFERROR(K37/K$38,\"\")","v":""},null,{"$f":"COUNTIF(R4:R31,\">=3,5\")","v":0},null,{"$f":"IFERROR(O37/O$38,\"\")","v":""},null,{"$f":"COUNTIF(V4:V31,\">=3,5\")","v":0},null,{"$f":"IFERROR(S37/S$38,\"\")","v":""},null,{"$f":"COUNTIF(Z4:Z31,\">=3,5\")","v":0},null,{"$f":"IFERROR(W37/W$38,\"\")","v":""},null,{"$f":"COUNTIF(AD4:AD31,\">=3,5\")","v":0},null,{"$f":"IFERROR(AA37/AA$38,\"\")","v":""},null,{"$f":"COUNTIF(AH4:AH31,\">=3,5\")","v":0},null,{"$f":"IFERROR(AE37/AE$38,\"\")","v":""},null,{"$f":"COUNTIF(AL4:AL31,\">=3,5\")","v":0},null,{"$f":"IFERROR(AI37/AI$38,\"\")","v":""},null,{"$f":"COUNTIF(AP4:AP31,\">=3,5\")","v":0},null,{"$f":"IFERROR(AM37/AM$38,\"\")","v":""},null,{"$f":"COUNTIF(AT4:AT31,\">=3,5\")","v":0},null,{"$f":"IFERROR(AQ37/AQ$38,\"\")","v":""},null,{"$f":"COUNTIF(AX4:AX31,\">=3,5\")","v":0},null,{"$f":"IFERROR(AU37/AU$38,\"\")","v":""},null,{"$f":"COUNTIF(BB4:BB31,\">=3,5\")","v":0},null,{"$f":"IFERROR(AY37/AY$38,\"\")","v":""},null,{"$f":"COUNTIF(BF4:BF31,\">=3,5\")","v":0},null,{"$f":"IFERROR(BC37/BC$38,\"\")","v":""},null,{"$f":"COUNTIF(BJ4:BJ31,\">=3,5\")","v":0},null,{"$f":"IFERROR(BG37/BG$38,\"\")","v":""},null,{"$f":"COUNTIF(BN4:BN31,\">=3,5\")","v":0},null,{"$f":"IFERROR(BK37/BK$38,\"\")","v":""},null,null,"Sobresaliente"]
[null,"Evaluados",{"$f":"SUM(C34:D37)","v":0},null,{"$f":"SUM(E34:F37)","v":0},null,{"$f":"SUM(G34:H37)","v":0},null,{"$f":"SUM(I34:J37)","v":0},null,{"$f":"SUM(K34:L37)","v":0},null,{"$f":"SUM(M34:N37)","v":0},null,{"$f":"SUM(O34:P37)","v":0},null,{"$f":"SUM(Q34:R37)","v":0},null,{"$f":"SUM(S34:T37)","v":0},null,{"$f":"SUM(U34:V37)","v":0},null,{"$f":"SUM(W34:X37)","v":0},null,{"$f":"SUM(Y34:Z37)","v":0},null,{"$f":"SUM(AA34:AB37)","v":0},null,{"$f":"SUM(AC34:AD37)","v":0},null,{"$f":"SUM(AE34:AF37)","v":0},null,{"$f":"SUM(AG34:AH37)","v":0},null,{"$f":"SUM(AI34:AJ37)","v":0},null,{"$f":"SUM(AK34:AL37)","v":0},null,{"$f":"SUM(AM34:AN37)","v":0},null,{"$f":"SUM(AO34:AP37)","v":0},null,{"$f":"SUM(AQ34:AR37)","v":0},null,{"$f":"SUM(AS34:AT37)","v":0},null,{"$f":"SUM(AU34:AV37)","v":0},null,{"$f":"SUM(AW34:AX37)","v":0},null,{"$f":"SUM(AY34:AZ37)","v":0},null,{"$f":"SUM(BA34:BB37)","v":0},null,{"$f":"SUM(BC34:BD37)","v":0},null,{"$f":"SUM(BE34:BF37)","v":0},null,{"$f":"SUM(BG34:BH37)","v":0},null,{"$f":"SUM(BI34:BJ37)","v":0},null,{"$f":"SUM(BK34:BL37)","v":0},null,{"$f":"SUM(BM34:BN37)","v":0},null,null,"Evaluados"]
[]
[]
[null,2,null,null,null,null,10,14,18,22,26,30,34,38,42,46,50,54,58,62,66,null,null,null,null,null,null,null,null,null,null,null,null,null,null,null,null,null,null,null,null,null,null,null,null,null,null,null,null,null,null,null,null,null,null,null,null,null,null,null,null,null,null,null,null,null,null,2]
["G","CLASE",null,null,null,{"$f":"IFERROR(VLOOKUP($A$42,$A$4:$AT$32,F41),\"\")","v":""},{"$f":"IFERROR(VLOOKUP(clase,todo,G41),\"\")","v":0},0,0,0,0,0,0,0,0,0,0,0,0,0,0,{"$f":"IFERROR(VLOOKUP($A$42,$A$4:$AT$32,V41),\"\")","v":""},{"$f":"IFERROR(VLOOKUP($A$42,$A$4:$AT$32,W41),\"\")","v":""},{"$f":"IFERROR(VLOOKUP($A$42,$A$4:$AT$32,X41),\"\")","v":""}]
[1,{"$f":"IFERROR(VLOOKUP($A$43,$A$4:$AT$32,B$41),\"\")","v":""},null,null,null,null,{"$f":"IFERROR(VLOOKUP(alumno,todo,G41),\"\")","v":""},"","","","","","","","","","","","","",""]
[null,"(Comparar con la clase)",null,null,null,null,{"$f":"IF(J3=0,\"\",J3)","v":""},{"$f":"IF(N3=0,\"\",N3)","v":""},{"$f":"IF(R3=0,\"\",R3)","v":""},{"$f":"IF(V3=0,\"\",V3)","v":""},{"$f":"IF(Z3=0,\"\",Z3)","v":""},{"$f":"IF(AD3=0,\"\",AD3)","v":""},{"$f":"IF(AH3=0,\"\",AH3)","v":""},{"$f":"IF(AL3=0,\"\",AL3)","v":""},{"$f":"IF(AP3=0,\"\",AP3)","v":""},{"$f":"IF(AT3=0,\"\",AT3)","v":""},{"$f":"IF(AX3=0,\"\",AX3)","v":""},{"$f":"IF(BB3=0,\"\",BB3)","v":""},{"$f":"IF(BF3=0,\"\",BF3)","v":""},{"$f":"IF(BJ3=0,\"\",BJ3)","v":""},{"$f":"IF(BN3=0,\"\",BN3)","v":""}]
[]
[]
[]
[]
[]
[]
[]
[]
[]
[]
[]
[]
[]
[]
[]
[null,".",null,null,null,null,null,null,null,null,null,null,null,null,null,null,null,null,null,null,null,null,null,null,null,null,null,null,null,null,null,null,null,null,null,null,null,null,null,null,null,null,null,null,null,null,null,null,null,null,null,null,null,null,null,null,null,null,null,null,null,null,null,null,null,null,null,"."]

{"sheet":"E4","index":4,"n_rows":60,"n_cols":68,"rows_kept":60,"cut":false,"hidden":false,"merged":[[38,38,38,41],[37,64,37,65],[38,2,38,5],[38,42,38,45],[38,62,38,65],[37,52,37,53],[37,54,37,55],[37,56,37,57],[37,58,37,59],[37,60,37,61],[37,62,37,63],[37,40,37,41],[37,42,37,43],[37,44,37,45],[37,46,37,47],[37,48,37,49],[37,50,37,51],[37,28,37,29],[37,30,37,31],[37,32,37,33],[37,34,37,35],[37,36,37,37],[37,38,37,39],[37,16,37,17],[37,18,37,19],[37,20,37,21],[37,22,37,23],[37,24,37,25],[37,26,37,27],[36,60,36,61],[36,62,36,63],[36,64,36,65],[37,2,37,3],[37,4,37,5],[37,6,37,7],[37,8,37,9],[37,10,37,11],[37,12,37,13],[37,14,37,15],[36,48,36,49],[36,50,36,51],[36,52,36,53],[36,54,36,55],[36,56,36,57],[36,58,36,59],[36,36,36,37],[36,38,36,39],[36,40,36,41],[36,12,36,13],[36,14,36,15],[36,16,36,17],[36,18,36,19],[36,20,36,21],[36,22,36,23],[35,56,35,57],[35,58,35,59],[35,60,35,61],[35,30,35,31],[36,42,36,43],[36,44,36,45],[36,46,36,47],[36,24,36,25],[36,26,36,27],[36,28,36,29],[36,30,36,31],[36,32,36,33],[36,34,36,35],[35,62,35,63],[35,64,35,65],[36,2,36,3],[36,4,36,5],[36,6,36,7],[36,8,36,9],[36,10,36,11],[35,44,35,45],[35,46,35,47],[35,48,35,49],[35,50,35,51],[35,52,35,53],[35,54,35,55],[35,32,35,33],[35,34,35,35],[35,36,35,37],[35,38,35,39],[35,40,35,41],[35,42,35,43],[35,20,35,21],[35,22,35,23],[35,24,35,25],[35,26,35,27],[35,28,35,29],[34,64,34,65],[35,2,35,3],[35,4,35,5],[35,6,35,7],[35,8,35,9],[35,10,35,11],[35,12,35,13],[35,14,35,15],[35,16,35,17],[35,18,35,19],[34,52,34,53],[34,54,34,55],[34,56,34,57],[34,58,34,59],[34,60,34,61],[34,62,34,63],[34,40,34,41],[34,42,34,43],[34,44,34,45],[34,46,34,47],[34,48,34,49],[34,50,34,51],[34,28,34,29],[34,30,34,31],[34,32,34,33],[34,34,34,35],[34,36,34,37],[34,38,34,39],[34,16,34,17],[34,18,34,19],[34,20,34,21],[34,22,34,23],[34,24,34,25],[34,26,34,27],[33,60,33,61],[33,62,33,63],[33,64,33,65],[34,2,34,3],[34,4,34,5],[34,6,34,7],[34,8,34,9],[34,10,34,11],[34,12,34,13],[34,14,34,15],[33,48,33,49],[33,50,33,51],[33,52,33,53],[33,54,33,55],[33,56,33,57],[33,58,33,59],[33,36,33,37],[33,38,33,39],[33,40,33,41],[33,42,33,43],[33,44,33,45],[33,46,33,47],[33,24,33,25],[33,26,33,27],[33,2,33,3],[33,4,33,5],[33,6,33,7],[33,8,33,9],[33,10,33,11],[1,26,1,29],[1,30,1,33],[1,34,1,37],[1,38,1,41],[33,28,33,29],[33,30,33,31],[33,32,33,33],[33,34,33,35],[33,12,33,13],[33,14,33,15],[33,16,33,17],[33,18,33,19],[33,20,33,21],[33,22,33,23],[2,0,2,1],[2,66,2,67],[1,0,1,1],[1,6,1,9],[1,10,1,13],[1,14,1,17],[1,18,1,21],[1,22,1,25],[1,50,1,53],[1,54,1,57],[1,58,1,61],[1,62,1,65],[1,66,1,67],[1,42,1,45],[1,46,1,49]]}
[null,null,null,null,null,null,{"$f":"IF(J3=\"\",0,IF(J32>0,J1,0))","v":0},null,null,{"$f":"IF(J3=\"\",\"\",VLOOKUP(J3,Indicadores,2,FALSE))","v":""},{"$f":"IF(N3=\"\",0,IF(N32>0,N1,0))","v":0},null,null,{"$f":"IF(N3=\"\",\"\",VLOOKUP(N3,Indicadores,2,FALSE))","v":""},{"$f":"IF(R3=\"\",0,IF(R32>0,R1,0))","v":0},null,null,{"$f":"IF(R3=\"\",\"\",VLOOKUP(R3,Indicadores,2,FALSE))","v":""},{"$f":"IF(V3=\"\",0,IF(V32>0,V1,0))","v":0},null,null,{"$f":"IF(V3=\"\",\"\",VLOOKUP(V3,Indicadores,2,FALSE))","v":""},{"$f":"IF(Z3=\"\",0,IF(Z32>0,Z1,0))","v":0},null,null,{"$f":"IF(Z3=\"\",\"\",VLOOKUP(Z3,Indicadores,2,FALSE))","v":""},{"$f":"IF(AD3=\"\",0,IF(AD32>0,AD1,0))","v":0},null,null,{"$f":"IF(AD3=\"\",\"\",VLOOKUP(AD3,Indicadores,2,FALSE))","v":""},{"$f":"IF(AH3=\"\",0,IF(AH32>0,AH1,0))","v":0},null,null,{"$f":"IF(AH3=\"\",\"\",VLOOKUP(AH3,Indicadores,2,FALSE))","v":""},{"$f":"IF(AL3=\"\",0,IF(AL32>0,AL1,0))","v":0},null,null,{"$f":"IF(AL3=\"\",\"\",VLOOKUP(AL3,Indicadores,2,FALSE))","v":""},{"$f":"IF(AP3=\"\",0,IF(AP32>0,AP1,0))","v":0},null,null,{"$f":"IF(AP3=\"\",\"\",VLOOKUP(AP3,Indicadores,2,FALSE))","v":""},{"$f":"IF(AT3=\"\",0,IF(AT32>0,AT1,0))","v":0},null,null,{"$f":"IF(AT3=\"\",\"\",VLOOKUP(AT3,Indicadores,2,FALSE))","v":""},{"$f":"IF(AX3=\"\",0,IF(AX32>0,AX1,0))","v":0},null,null,{"$f":"IF(AX3=\"\",\"\",VLOOKUP(AX3,Indicadores,2,FALSE))","v":""},{"$f":"IF(BB3=\"\",0,IF(BB32>0,BB1,0))","v":0},null,null,{"$f":"IF(BB3=\"\",\"\",VLOOKUP(BB3,Indicadores,2,FALSE))","v":""},{"$f":"IF(BF3=\"\",0,IF(BF32>0,BF1,0))","v":0},null,null,{"$f":"IF(BF3=\"\",\"\",VLOOKUP(BF3,Indicadores,2,FALSE))","v":""},{"$f":"IF(BJ3=\"\",0,IF(BJ32>0,BJ1,0))","v":0},null,null,{"$f":"IF(BJ3=\"\",\"\",VLOOKUP(BJ3,Indicadores,2,FALSE))","v":""},{"$f":"IF(BN3=\"\",0,IF(BN32>0,BN1,0))","v":0},null,null,{"$f":"IF(BN3=\"\",\"\",VLOOKUP(BN3,Indicadores,2,FALSE))","v":""}]
[{"$f":"Al!D2 & CHAR(10)  & Al!D5  & CHAR(32) & Al!B5","v":"AVE MARÍA ALBOLOTE\nRÚBRICAS LENGUA 1º"},null,null,"Total puntos","Puntuación sobre 4","Puntuación sobre 10",{"$f":"IF(J3=\"\",\"\",VLOOKUP(J3,Indicadores,3,FALSE))","v":""},null,null,null,{"$f":"IF(N3=\"\",\"\",VLOOKUP(N3,Indicadores,3,FALSE))","v":""},null,null,null,{"$f":"IF(R3=\"\",\"\",VLOOKUP(R3,Indicadores,3,FALSE))","v":""},null,null,null,{"$f":"IF(V3=\"\",\"\",VLOOKUP(V3,Indicadores,3,FALSE))","v":""},null,null,null,{"$f":"IF(Z3=\"\",\"\",VLOOKUP(Z3,Indicadores,3,FALSE))","v":""},null,null,null,{"$f":"IF(AD3=\"\",\"\",VLOOKUP(AD3,Indicadores,3,FALSE))","v":""},null,null,null,{"$f":"IF(AH3=\"\",\"\",VLOOKUP(AH3,Indicadores,3,FALSE))","v":""},null,null,null,{"$f":"IF(AL3=\"\",\"\",VLOOKUP(AL3,Indicadores,3,FALSE))","v":""},null,null,null,{"$f":"IF(AP3=\"\",\"\",VLOOKUP(AP3,Indicadores,3,FALSE))","v":""},null,null,null,{"$f":"IF(AT3=\"\",\"\",VLOOKUP(AT3,Indicadores,3,FALSE))","v":""},null,null,null,{"$f":"IF(AX3=\"\",\"\",VLOOKUP(AX3,Indicadores,3,FALSE))","v":""},null,null,null,{"$f":"IF(BB3=\"\",\"\",VLOOKUP(BB3,Indicadores,3,FALSE))","v":""},null,null,null,{"$f":"IF(BF3=\"\",\"\",VLOOKUP(BF3,Indicadores,3,FALSE))","v":""},null,null,null,{"$f":"IF(BJ3=\"\",\"\",VLOOKUP(BJ3,Indicadores,3,FALSE))","v":""},null,null,null,{"$f":"IF(BN3=\"\",\"\",VLOOKUP(BN3,Indicadores,3,FALSE))","v":""}]
[null,null,null,{"$f":"SUM(Valores)*4","v":0},4,10,null,null,null,null,null,null,null,null,null,null,null,null,null,null,null,null,null,null,null,null,null,null,null,null,null,null,null,null,null,null,null,null,null,null,null,null,null,null,null,null,null,null,null,null,null,null,null,null,null,null,null,null,null,null,null,null,null,null,null,null,{"$f":"B3","v":0}]
[{"$f":"IF(Al!D9=\"\",\"\",Al!C9)","v":""},{"$f":"IF(Al!D9=\"\",\"\",Al!D9)","v":""},null,{"$f":"IF((J4*V.01+N4*V.02+R4*V.03+V4*V.04+Z4*V.05+AD4*V.06+AH4*V.07+AL4*V.08+AP4*V.09+AT4*V.10+AX4*V.11+BB4*V.12+BF4*V.13+BJ4*V.14+BN4*V.15)=0,\"\",J4*V.01+N4*V.02+R4*V.03+V4*V.04+Z4*V.05+AD4*V.06+AH4*V.07+AL4*V.08+AP4*V.09+AT4*V.10+AX4*V.11+BB4*V.12+BF4*V.13+BJ4*V.14+BN4*V.15)","v":""},{"$f":"IF(D4=\"\",\"\",D4*Punt4/total)","v":""},{"$f":"IF(D4=\"\",\"\",D4*Punt10/total)","v":""},null,null,null,{"$f":"IFERROR(AVERAGE(G4:I4),0)","v":0},null,null,null,{"$f":"IFERROR(AVERAGE(K4:M4),0)","v":0},null,null,null,{"$f":"IFERROR(AVERAGE(O4:Q4),0)","v":0},null,null,null,{"$f":"IFERROR(AVERAGE(S4:U4),0)","v":0},null,null,null,{"$f":"IFERROR(AVERAGE(W4:Y4),0)","v":0},null,null,null,{"$f":"IFERROR(AVERAGE(AA4:AC4),0)","v":0},null,null,null,{"$f":"IFERROR(AVERAGE(AE4:AG4),0)","v":0},null,null,null,{"$f":"IFERROR(AVERAGE(AI4:AK4),0)","v":0},null,null,null,{"$f":"IFERROR(AVERAGE(AM4:AO4),0)","v":0},null,null,null,{"$f":"IFERROR(AVERAGE(AQ4:AS4),0)","v":0},null,null,null,{"$f":"IFERROR(AVERAGE(AU4:AW4),0)","v":0},null,null,null,{"$f":"IFERROR(AVERAGE(AY4:BA4),0)","v":0},null,null,null,{"$f":"IFERROR(AVERAGE(BC4:BE4),0)","v":0},null,null,null,{"$f":"IFERROR(AVERAGE(BG4:BI4),0)","v":0},null,null,null,{"$f":"IFERROR(AVERAGE(BK4:BM4),0)","v":0},{"$f":"A4","v":""},{"$f":"B4","v":""}]
[{"$f":"IF(Al!D10=\"\",\"\",Al!C10)","v":""},{"$f":"IF(Al!D10=\"\",\"\",Al!D10)","v":""},null,"","","",null,null,null,0,null,null,null,0,null,null,null,0,null,null,null,0,null,null,null,0,null,null,null,0,null,null,null,0,null,null,null,0,null,null,null,0,null,null,null,0,null,null,null,0,null,null,null,0,null,null,null,0,null,null,null,0,null,null,null,0,{"$f":"A5","v":""},""]
[{"$f":"IF(Al!D11=\"\",\"\",Al!C11)","v":""},{"$f":"IF(Al!D11=\"\",\"\",Al!D11)","v":""},null,"","","",null,null,null,0,null,null,null,0,null,null,null,0,null,null,null,0,null,null,null,0,null,null,null,0,null,null,null,0,null,null,null,0,null,null,null,0,null,null,null,0,null,null,null,0,null,null,null,0,null,null,null,0,null,null,null,0,null,null,null,0,"",""]
[{"$f":"IF(Al!D12=\"\",\"\",Al!C12)","v":""},{"$f":"IF(Al!D12=\"\",\"\",Al!D12)","v":""},null,"","","",null,null,null,0,null,null,null,0,null,null,null,0,null,null,null,0,null,null,null,0,null,null,null,0,null,null,null,0,null,null,null,0,null,null,null,0,null,null,null,0,null,null,null,0,null,null,null,0,null,null,null,0,null,null,null,0,null,null,null,0,"",""]
[{"$f":"IF(Al!D13=\"\",\"\",Al!C13)","v":""},{"$f":"IF(Al!D13=\"\",\"\",Al!D13)","v":""},null,"","","",null,null,null,0,null,null,null,0,null,null,null,0,null,null,null,0,null,null,null,0,null,null,null,0,null,null,null,0,null,null,null,0,null,null,null,0,null,null,null,0,null,null,null,0,null,null,null,0,null,null,null,0,null,null,null,0,null,null,null,0,"",""]
[{"$f":"IF(Al!D14=\"\",\"\",Al!C14)","v":""},{"$f":"IF(Al!D14=\"\",\"\",Al!D14)","v":""},null,"","","",null,null,null,0,null,null,null,0,null,null,null,0,null,null,null,0,null,null,null,0,null,null,null,0,null,null,null,0,null,null,null,0,null,null,null,0,null,null,null,0,null,null,null,0,null,null,null,0,null,null,null,0,null,null,null,0,null,null,null,0,"",""]
[{"$f":"IF(Al!D15=\"\",\"\",Al!C15)","v":""},{"$f":"IF(Al!D15=\"\",\"\",Al!D15)","v":""},null,"","","",null,null,null,0,null,null,null,0,null,null,null,0,null,null,null,0,null,null,null,0,null,null,null,0,null,null,null,0,null,null,null,0,null,null,null,0,null,null,null,0,null,null,null,0,null,null,null,0,null,null,null,0,null,null,null,0,null,null,null,0,"",""]
[{"$f":"IF(Al!D16=\"\",\"\",Al!C16)","v":""},{"$f":"IF(Al!D16=\"\",\"\",Al!D16)","v":""},null,"","","",null,null,null,0,null,null,null,0,null,null,null,0,null,null,null,0,null,null,null,0,null,null,null,0,null,null,null,0,null,null,null,0,null,null,null,0,null,null,null,0,null,null,null,0,null,null,null,0,null,null,null,0,null,null,null,0,null,null,null,0,"",""]
[{"$f":"IF(Al!D17=\"\",\"\",Al!C17)","v":""},{"$f":"IF(Al!D17=\"\",\"\",Al!D17)","v":""},null,"","","",null,null,null,0,null,null,null,0,null,null,null,0,null,null,null,0,null,null,null,0,null,null,null,0,null,null,null,0,null,null,null,0,null,null,null,0,null,null,null,0,null,null,null,0,null,null,null,0,null,null,null,0,null,null,null,0,null,null,null,0,"",""]
[{"$f":"IF(Al!D18=\"\",\"\",Al!C18)","v":""},{"$f":"IF(Al!D18=\"\",\"\",Al!D18)","v":""},null,"","","",null,null,null,0,null,null,null,0,null,null,null,0,null,null,null,0,null,null,null,0,null,null,null,0,null,null,null,0,null,null,null,0,null,null,null,0,null,null,null,0,null,null,null,0,null,null,null,0,null,null,null,0,null,null,null,0,null,null,null,0,"",""]
[{"$f":"IF(Al!D19=\"\",\"\",Al!C19)","v":""},{"$f":"IF(Al!D19=\"\",\"\",Al!D19)","v":""},null,"","","",null,null,null,0,null,null,null,0,null,null,null,0,null,null,null,0,null,null,null,0,null,null,null,0,null,null,null,0,null,null,null,0,null,null,null,0,null,null,null,0,null,null,null,0,null,null,null,0,null,null,null,0,null,null,null,0,null,null,null,0,"",""]
[{"$f":"IF(Al!D20=\"\",\"\",Al!C20)","v":""},{"$f":"IF(Al!D20=\"\",\"\",Al!D20)","v":""},null,"","","",null,null,null,0,null,null,null,0,null,null,null,0,null,null,null,0,null,null,null,0,null,null,null,0,null,null,null,0,null,null,null,0,null,null,null,0,null,null,null,0,null,null,null,0,null,null,null,0,null,null,null,0,null,null,null,0,null,null,null,0,"",""]
[{"$f":"IF(Al!D21=\"\",\"\",Al!C21)","v":""},{"$f":"IF(Al!D21=\"\",\"\",Al!D21)","v":""},null,"","","",null,null,null,0,null,null,null,0,null,null,null,0,null,null,null,0,null,null,null,0,null,null,null,0,null,null,null,0,null,null,null,0,null,null,null,0,null,null,null,0,null,null,null,0,null,null,null,0,null,null,null,0,null,null,null,0,null,null,null,0,"",""]
[{"$f":"IF(Al!D22=\"\",\"\",Al!C22)","v":""},{"$f":"IF(Al!D22=\"\",\"\",Al!D22)","v":""},null,"","","",null,null,null,0,null,null,null,0,null,null,null,0,null,null,null,0,null,null,null,0,null,null,null,0,null,null,null,0,null,null,null,0,null,null,null,0,null,null,null,0,null,null,null,0,null,null,null,0,null,null,null,0,null,null,null,0,null,null,null,0,"",""]
[{"$f":"IF(Al!D23=\"\",\"\",Al!C23)","v":""},{"$f":"IF(Al!D23=\"\",\"\",Al!D23)","v":""},null,"","","",null,null,null,0,null,null,null,0,null,null,null,0,null,null,null,0,null,null,null,0,null,null,null,0,null,null,null,0,null,null,null,0,null,null,null,0,null,null,null,0,null,null,null,0,null,null,null,0,null,null,null,0,null,null,null,0,null,null,null,0,"",""]
[{"$f":"IF(Al!D24=\"\",\"\",Al!C24)","v":""},{"$f":"IF(Al!D24=\"\",\"\",Al!D24)","v":""},null,"","","",null,null,null,0,null,null,null,0,null,null,null,0,null,null,null,0,null,null,null,0,null,null,null,0,null,null,null,0,null,null,null,0,null,null,null,0,null,null,null,0,null,null,null,0,null,null,null,0,null,null,null,0,null,null,null,0,null,null,null,0,"",""]
[{"$f":"IF(Al!D25=\"\",\"\",Al!C25)","v":""},{"$f":"IF(Al!D25=\"\",\"\",Al!D25)","v":""},null,"","","",null,null,null,0,null,null,null,0,null,null,null,0,null,null,null,0,null,null,null,0,null,null,null,0,null,null,null,0,null,null,null,0,null,null,null,0,null,null,null,0,null,null,null,0,null,null,null,0,null,null,null,0,null,null,null,0,null,null,null,0,"",""]
[{"$f":"IF(Al!D26=\"\",\"\",Al!C26)","v":""},{"$f":"IF(Al!D26=\"\",\"\",Al!D26)","v":""},null,"","","",null,null,null,0,null,null,null,0,null,null,null,0,null,null,null,0,null,null,null,0,null,null,null,0,null,null,null,0,null,null,null,0,null,null,null,0,null,null,null,0,null,null,null,0,null,null,null,0,null,null,null,0,null,null,null,0,null,null,null,0,"",""]
[{"$f":"IF(Al!D27=\"\",\"\",Al!C27)","v":""},{"$f":"IF(Al!D27=\"\",\"\",Al!D27)","v":""},null,"","","",null,null,null,0,null,null,null,0,null,null,null,0,null,null,null,0,null,null,null,0,null,null,null,0,null,null,null,0,null,null,null,0,null,null,null,0,null,null,null,0,null,null,null,0,null,null,null,0,null,null,null,0,null,null,null,0,null,null,null,0,"",""]
[{"$f":"IF(Al!D28=\"\",\"\",Al!C28)","v":""},{"$f":"IF(Al!D28=\"\",\"\",Al!D28)","v":""},null,"","","",null,null,null,0,null,null,null,0,null,null,null,0,null,null,null,0,null,null,null,0,null,null,null,0,null,null,null,0,null,null,null,0,null,null,null,0,null,null,null,0,null,null,null,0,null,null,null,0,null,null,null,0,null,null,null,0,null,null,null,0,"",""]
[{"$f":"IF(Al!D29=\"\",\"\",Al!C29)","v":""},{"$f":"IF(Al!D29=\"\",\"\",Al!D29)","v":""},null,"","","",null,null,null,0,null,null,null,0,null,null,null,0,null,null,null,0,null,null,null,0,null,null,null,0,null,null,null,0,null,null,null,0,null,null,null,0,null,null,null,0,null,null,null,0,null,null,null,0,null,null,null,0,null,null,null,0,null,null,null,0,"",""]
[{"$f":"IF(Al!D30=\"\",\"\",Al!C30)","v":""},{"$f":"IF(Al!D30=\"\",\"\",Al!D30)","v":""},null,"","","",null,null,null,0,null,null,null,0,null,null,null,0,null,null,null,0,null,null,null,0,null,null,null,0,null,null,null,0,null,null,null,0,null,null,null,0,null,null,null,0,null,null,null,0,null,null,null,0,null,null,null,0,null,null,null,0,null,null,null,0,"",""]
[{"$f":"IF(Al!D31=\"\",\"\",Al!C31)","v":""},{"$f":"IF(Al!D31=\"\",\"\",Al!D31)","v":""},null,"","","",null,null,null,0,null,null,null,0,null,null,null,0,null,null,null,0,null,null,null,0,null,null,null,0,null,null,null,0,null,null,null,0,null,null,null,0,null,null,null,0,null,null,null,0,null,null,null,0,null,null,null,0,null,null,null,0,null,null,null,0,"",""]
[{"$f":"IF(Al!D32=\"\",\"\",Al!C32)","v":""},{"$f":"IF(Al!D32=\"\",\"\",Al!D32)","v":""},null,"","","",null,null,null,0,null,null,null,0,null,null,null,0,null,null,null,0,null,null,null,0,null,null,null,0,null,null,null,0,null,null,null,0,null,null,null,0,null,null,null,0,null,null,null,0,null,null,null,0,null,null,null,0,null,null,null,0,null,null,null,0,"",""]
[{"$f":"IF(Al!D33=\"\",\"\",Al!C33)","v":""},{"$f":"IF(Al!D33=\"\",\"\",Al!D33)","v":""},null,"","","",null,null,null,0,null,null,null,0,null,null,null,0,null,null,null,0,null,null,null,0,null,null,null,0,null,null,null,0,null,null,null,0,null,null,null,0,null,null,null,0,null,null,null,0,null,null,null,0,null,null,null,0,null,null,null,0,null,null,null,0,"",""]
[{"$f":"IF(Al!D34=\"\",\"\",Al!C34)","v":""},{"$f":"IF(Al!D34=\"\",\"\",Al!D34)","v":""},null,"","","",null,null,null,0,null,null,null,0,null,null,null,0,null,null,null,0,null,null,null,0,null,null,null,0,null,null,null,0,null,null,null,0,null,null,null,0,null,null,null,0,null,null,null,0,null,null,null,0,null,null,null,0,null,null,null,0,null,null,null,0,"",""]
[{"$f":"IF(Al!D35=\"\",\"\",Al!C35)","v":""},{"$f":"IF(Al!D35=\"\",\"\",Al!D35)","v":""},null,"","","",null,null,null,0,null,null,null,0,null,null,null,0,null,null,null,0,null,null,null,0,null,null,null,0,null,null,null,0,null,null,null,0,null,null,null,0,null,null,null,0,null,null,null,0,null,null,null,0,null,null,null,0,null,null,null,0,null,null,null,0,"",""]
[{"$f":"IF(Al!D36=\"\",\"\",Al!C36)","v":""},{"$f":"IF(Al!D36=\"\",\"\",Al!D36)","v":""},null,"","","",null,null,null,0,null,null,null,0,null,null,null,0,null,null,null,0,null,null,null,0,null,null,null,0,null,null,null,0,null,null,null,0,null,null,null,0,null,null,null,0,null,null,null,0,null,null,null,0,null,null,null,0,null,null,null,0,null,null,null,0,"",""]
["G","GLOBAL",null,null,{"$f":"IFERROR(AVERAGEIF(E4:E31,\">0\"),0)","v":0},{"$f":"IFERROR(AVERAGEIF(F4:F31,\">0\"),0)","v":0},null,null,null,{"$f":"IFERROR(AVERAGEIF(J4:J31,\">0\"),0)","v":0},null,null,null,{"$f":"IFERROR(AVERAGEIF(N4:N31,\">0\"),0)","v":0},null,null,null,{"$f":"IFERROR(AVERAGEIF(R4:R31,\">0\"),0)","v":0},null,null,null,{"$f":"IFERROR(AVERAGEIF(V4:V31,\">0\"),0)","v":0},null,null,null,{"$f":"IFERROR(AVERAGEIF(Z4:Z31,\">0\"),0)","v":0},null,null,null,{"$f":"IFERROR(AVERAGEIF(AD4:AD31,\">0\"),0)","v":0},null,null,null,{"$f":"IFERROR(AVERAGEIF(AH4:AH31,\">0\"),0)","v":0},null,null,null,{"$f":"IFERROR(AVERAGEIF(AL4:AL31,\">0\"),0)","v":0},null,null,null,{"$f":"IFERROR(AVERAGEIF(AP4:AP31,\">0\"),0)","v":0},null,null,null,{"$f":"IFERROR(AVERAGEIF(AT4:AT31,\">0\"),0)","v":0},null,null,null,{"$f":"IFERROR(AVERAGEIF(AX4:AX31,\">0\"),0)","v":0},null,null,null,{"$f":"IFERROR(AVERAGEIF(BB4:BB31,\">0\"),0)","v":0},null,null,null,{"$f":"IFERROR(AVERAGEIF(BF4:BF31,\">0\"),0)","v":0},null,null,null,{"$f":"IFERROR(AVERAGEIF(BJ4:BJ31,\">0\"),0)","v":0},null,null,null,{"$f":"IFERROR(AVERAGEIF(BN4:BN31,\">0\"),0)","v":0}]
[]
[null,"Insuficiente",{"$f":"COUNTIF(F4:F31,\"<4,5\")-COUNTIF(F4:F31,\"=0\")","v":0},null,{"$f":"IFERROR(C34/C$38,\"\")","v":""},null,{"$f":"COUNTIF(J4:J31,\"<1,9\")-COUNTIF(J4:J31,\"=0\")","v":0},null,{"$f":"IFERROR(G34/G$38,\"\")","v":""},null,{"$f":"COUNTIF(N4:N31,\"<1,9\")-COUNTIF(N4:N31,\"=0\")","v":0},null,{"$f":"IFERROR(K34/K$38,\"\")","v":""},null,{"$f":"COUNTIF(R4:R31,\"<1,9\")-COUNTIF(R4:R31,\"=0\")","v":0},null,{"$f":"IFERROR(O34/O$38,\"\")","v":""},null,{"$f":"COUNTIF(V4:V31,\"<1,9\")-COUNTIF(V4:V31,\"=0\")","v":0},null,{"$f":"IFERROR(S34/S$38,\"\")","v":""},null,{"$f":"COUNTIF(Z4:Z31,\"<1,9\")-COUNTIF(Z4:Z31,\"=0\")","v":0},null,{"$f":"IFERROR(W34/W$38,\"\")","v":""},null,{"$f":"COUNTIF(AD4:AD31,\"<1,9\")-COUNTIF(AD4:AD31,\"=0\")","v":0},null,{"$f":"IFERROR(AA34/AA$38,\"\")","v":""},null,{"$f":"COUNTIF(AH4:AH31,\"<1,9\")-COUNTIF(AH4:AH31,\"=0\")","v":0},null,{"$f":"IFERROR(AE34/AE$38,\"\")","v":""},null,{"$f":"COUNTIF(AL4:AL31,\"<1,9\")-COUNTIF(AL4:AL31,\"=0\")","v":0},null,{"$f":"IFERROR(AI34/AI$38,\"\")","v":""},null,{"$f":"COUNTIF(AP4:AP31,\"<1,9\")-COUNTIF(AP4:AP31,\"=0\")","v":0},null,{"$f":"IFERROR(AM34/AM$38,\"\")","v":""},null,{"$f":"COUNTIF(AT4:AT31,\"<1,9\")-COUNTIF(AT4:AT31,\"=0\")","v":0},null,{"$f":"IFERROR(AQ34/AQ$38,\"\")","v":""},null,{"$f":"COUNTIF(AX4:AX31,\"<1,9\")-COUNTIF(AX4:AX31,\"=0\")","v":0},null,{"$f":"IFERROR(AU34/AU$38,\"\")","v":""},null,{"$f":"COUNTIF(BB4:BB31,\"<1,9\")-COUNTIF(BB4:BB31,\"=0\")","v":0},null,{"$f":"IFERROR(AY34/AY$38,\"\")","v":""},null,{"$f":"COUNTIF(BF4:BF31,\"<1,9\")-COUNTIF(BF4:BF31,\"=0\")","v":0},null,{"$f":"IFERROR(BC34/BC$38,\"\")","v":""},null,{"$f":"COUNTIF(BJ4:BJ31,\"<1,9\")-COUNTIF(BJ4:BJ31,\"=0\")","v":0},null,{"$f":"IFERROR(BG34/BG$38,\"\")","v":""},null,{"$f":"COUNTIF(BN4:BN31,\"<1,9\")-COUNTIF(BN4:BN31,\"=0\")","v":0},null,{"$f":"IFERROR(BK34/BK$38,\"\")","v":""},null,null,"Insuficiente"]
[null,"Bien",{"$f":"COUNTIF(F4:F31,\">4,5\")-COUNTIF(F4:F31,\">=6,5\")","v":0},null,{"$f":"IFERROR(C35/C$38,\"\")","v":""},null,{"$f":"COUNTIF(J4:J31,\">=1,9\")-COUNTIF(J4:J31,\">=2,7\")","v":0},null,{"$f":"IFERROR(G35/G$38,\"\")","v":""},null,{"$f":"COUNTIF(N4:N31,\">=1,9\")-COUNTIF(N4:N31,\">=2,7\")","v":0},null,{"$f":"IFERROR(K35/K$38,\"\")","v":""},null,{"$f":"COUNTIF(R4:R31,\">=1,9\")-COUNTIF(R4:R31,\">=2,7\")","v":0},null,{"$f":"IFERROR(O35/O$38,\"\")","v":""},null,{"$f":"COUNTIF(V4:V31,\">=1,9\")-COUNTIF(V4:V31,\">=2,7\")","v":0},null,{"$f":"IFERROR(S35/S$38,\"\")","v":""},null,{"$f":"COUNTIF(Z4:Z31,\">=1,9\")-COUNTIF(Z4:Z31,\">=2,7\")","v":0},null,{"$f":"IFERROR(W35/W$38,\"\")","v":""},null,{"$f":"COUNTIF(AD4:AD31,\">=1,9\")-COUNTIF(AD4:AD31,\">=2,7\")","v":0},null,{"$f":"IFERROR(AA35/AA$38,\"\")","v":""},null,{"$f":"COUNTIF(AH4:AH31,\">=1,9\")-COUNTIF(AH4:AH31,\">=2,7\")","v":0},null,{"$f":"IFERROR(AE35/AE$38,\"\")","v":""},null,{"$f":"COUNTIF(AL4:AL31,\">=1,9\")-COUNTIF(AL4:AL31,\">=2,7\")","v":0},null,{"$f":"IFERROR(AI35/AI$38,\"\")","v":""},null,{"$f":"COUNTIF(AP4:AP31,\">=1,9\")-COUNTIF(AP4:AP31,\">=2,7\")","v":0},null,{"$f":"IFERROR(AM35/AM$38,\"\")","v":""},null,{"$f":"COUNTIF(AT4:AT31,\">=1,9\")-COUNTIF(AT4:AT31,\">=2,7\")","v":0},null,{"$f":"IFERROR(AQ35/AQ$38,\"\")","v":""},null,{"$f":"COUNTIF(AX4:AX31,\">=1,9\")-COUNTIF(AX4:AX31,\">=2,7\")","v":0},null,{"$f":"IFERROR(AU35/AU$38,\"\")","v":""},null,{"$f":"COUNTIF(BB4:BB31,\">=1,9\")-COUNTIF(BB4:BB31,\">=2,7\")","v":0},null,{"$f":"IFERROR(AY35/AY$38,\"\")","v":""},null,{"$f":"COUNTIF(BF4:BF31,\">=1,9\")-COUNTIF(BF4:BF31,\">=2,7\")","v":0},null,{"$f":"IFERROR(BC35/BC$38,\"\")","v":""},null,{"$f":"COUNTIF(BJ4:BJ31,\">=1,9\")-COUNTIF(BJ4:BJ31,\">=2,7\")","v":0},null,{"$f":"IFERROR(BG35/BG$38,\"\")","v":""},null,{"$f":"COUNTIF(BN4:BN31,\">=1,9\")-COUNTIF(BN4:BN31,\">=2,7\")","v":0},null,{"$f":"IFERROR(BK35/BK$38,\"\")","v":""},null,null,"Bien"]
[null,"Notable",{"$f":"COUNTIF(F4:F31,\">6,5\")-COUNTIF(F4:F31,\">8,5\")","v":0},null,{"$f":"IFERROR(C36/C$38,\"\")","v":""},null,{"$f":"COUNTIF(J4:J31,\">=2,7\")-COUNTIF(J4:J31,\">=3,5\")","v":0},null,{"$f":"IFERROR(G36/G$38,\"\")","v":""},null,{"$f":"COUNTIF(N4:N31,\">=2,7\")-COUNTIF(N4:N31,\">=3,5\")","v":0},null,{"$f":"IFERROR(K36/K$38,\"\")","v":""},null,{"$f":"COUNTIF(R4:R31,\">=2,7\")-COUNTIF(R4:R31,\">=3,5\")","v":0},null,{"$f":"IFERROR(O36/O$38,\"\")","v":""},null,{"$f":"COUNTIF(V4:V31,\">=2,7\")-COUNTIF(V4:V31,\">=3,5\")","v":0},null,{"$f":"IFERROR(S36/S$38,\"\")","v":""},null,{"$f":"COUNTIF(Z4:Z31,\">=2,7\")-COUNTIF(Z4:Z31,\">=3,5\")","v":0},null,{"$f":"IFERROR(W36/W$38,\"\")","v":""},null,{"$f":"COUNTIF(AD4:AD31,\">=2,7\")-COUNTIF(AD4:AD31,\">=3,5\")","v":0},null,{"$f":"IFERROR(AA36/AA$38,\"\")","v":""},null,{"$f":"COUNTIF(AH4:AH31,\">=2,7\")-COUNTIF(AH4:AH31,\">=3,5\")","v":0},null,{"$f":"IFERROR(AE36/AE$38,\"\")","v":""},null,{"$f":"COUNTIF(AL4:AL31,\">=2,7\")-COUNTIF(AL4:AL31,\">=3,5\")","v":0},null,{"$f":"IFERROR(AI36/AI$38,\"\")","v":""},null,{"$f":"COUNTIF(AP4:AP31,\">=2,7\")-COUNTIF(AP4:AP31,\">=3,5\")","v":0},null,{"$f":"IFERROR(AM36/AM$38,\"\")","v":""},null,{"$f":"COUNTIF(AT4:AT31,\">=2,7\")-COUNTIF(AT4:AT31,\">=3,5\")","v":0},null,{"$f":"IFERROR(AQ36/AQ$38,\"\")","v":""},null,{"$f":"COUNTIF(AX4:AX31,\">=2,7\")-COUNTIF(AX4:AX31,\">=3,5\")","v":0},null,{"$f":"IFERROR(AU36/AU$38,\"\")","v":""},null,{"$f":"COUNTIF(BB4:BB31,\">=2,7\")-COUNTIF(BB4:BB31,\">=3,5\")","v":0},null,{"$f":"IFERROR(AY36/AY$38,\"\")","v":""},null,{"$f":"COUNTIF(BF4:BF31,\">=2,7\")-COUNTIF(BF4:BF31,\">=3,5\")","v":0},null,{"$f":"IFERROR(BC36/BC$38,\"\")","v":""},null,{"$f":"COUNTIF(BJ4:BJ31,\">=2,7\")-COUNTIF(BJ4:BJ31,\">=3,5\")","v":0},null,{"$f":"IFERROR(BG36/BG$38,\"\")","v":""},null,{"$f":"COUNTIF(BN4:BN31,\">=2,7\")-COUNTIF(BN4:BN31,\">=3,5\")","v":0},null,{"$f":"IFERROR(BK36/BK$38,\"\")","v":""},null,null,"Notable"]
[null,"Sobresaliente",{"$f":"COUNTIF(F4:F31,\">8,5\")","v":0},null,{"$f":"IFERROR(C37/C$38,\"\")","v":""},null,{"$f":"COUNTIF(J4:J31,\">=3,5\")","v":0},null,{"$f":"IFERROR(G37/G$38,\"\")","v":""},null,{"$f":"COUNTIF(N4:N31,\">=3,5\")","v":0},null,{"$f":"IFERROR(K37/K$38,\"\")","v":""},null,{"$f":"COUNTIF(R4:R31,\">=3,5\")","v":0},null,{"$f":"IFERROR(O37/O$38,\"\")","v":""},null,{"$f":"COUNTIF(V4:V31,\">=3,5\")","v":0},null,{"$f":"IFERROR(S37/S$38,\"\")","v":""},null,{"$f":"COUNTIF(Z4:Z31,\">=3,5\")","v":0},null,{"$f":"IFERROR(W37/W$38,\"\")","v":""},null,{"$f":"COUNTIF(AD4:AD31,\">=3,5\")","v":0},null,{"$f":"IFERROR(AA37/AA$38,\"\")","v":""},null,{"$f":"COUNTIF(AH4:AH31,\">=3,5\")","v":0},null,{"$f":"IFERROR(AE37/AE$38,\"\")","v":""},null,{"$f":"COUNTIF(AL4:AL31,\">=3,5\")","v":0},null,{"$f":"IFERROR(AI37/AI$38,\"\")","v":""},null,{"$f":"COUNTIF(AP4:AP31,\">=3,5\")","v":0},null,{"$f":"IFERROR(AM37/AM$38,\"\")","v":""},null,{"$f":"COUNTIF(AT4:AT31,\">=3,5\")","v":0},null,{"$f":"IFERROR(AQ37/AQ$38,\"\")","v":""},null,{"$f":"COUNTIF(AX4:AX31,\">=3,5\")","v":0},null,{"$f":"IFERROR(AU37/AU$38,\"\")","v":""},null,{"$f":"COUNTIF(BB4:BB31,\">=3,5\")","v":0},null,{"$f":"IFERROR(AY37/AY$38,\"\")","v":""},null,{"$f":"COUNTIF(BF4:BF31,\">=3,5\")","v":0},null,{"$f":"IFERROR(BC37/BC$38,\"\")","v":""},null,{"$f":"COUNTIF(BJ4:BJ31,\">=3,5\")","v":0},null,{"$f":"IFERROR(BG37/BG$38,\"\")","v":""},null,{"$f":"COUNTIF(BN4:BN31,\">=3,5\")","v":0},null,{"$f":"IFERROR(BK37/BK$38,\"\")","v":""},null,null,"Sobresaliente"]
[null,"Evaluados",{"$f":"SUM(C34:D37)","v":0},null,{"$f":"SUM(E34:F37)","v":0},null,{"$f":"SUM(G34:H37)","v":0},null,{"$f":"SUM(I34:J37)","v":0},null,{"$f":"SUM(K34:L37)","v":0},null,{"$f":"SUM(M34:N37)","v":0},null,{"$f":"SUM(O34:P37)","v":0},null,{"$f":"SUM(Q34:R37)","v":0},null,{"$f":"SUM(S34:T37)","v":0},null,{"$f":"SUM(U34:V37)","v":0},null,{"$f":"SUM(W34:X37)","v":0},null,{"$f":"SUM(Y34:Z37)","v":0},null,{"$f":"SUM(AA34:AB37)","v":0},null,{"$f":"SUM(AC34:AD37)","v":0},null,{"$f":"SUM(AE34:AF37)","v":0},null,{"$f":"SUM(AG34:AH37)","v":0},null,{"$f":"SUM(AI34:AJ37)","v":0},null,{"$f":"SUM(AK34:AL37)","v":0},null,{"$f":"SUM(AM34:AN37)","v":0},null,{"$f":"SUM(AO34:AP37)","v":0},null,{"$f":"SUM(AQ34:AR37)","v":0},null,{"$f":"SUM(AS34:AT37)","v":0},null,{"$f":"SUM(AU34:AV37)","v":0},null,{"$f":"SUM(AW34:AX37)","v":0},null,{"$f":"SUM(AY34:AZ37)","v":0},null,{"$f":"SUM(BA34:BB37)","v":0},null,{"$f":"SUM(BC34:BD37)","v":0},null,{"$f":"SUM(BE34:BF37)","v":0},null,{"$f":"SUM(BG34:BH37)","v":0},null,{"$f":"SUM(BI34:BJ37)","v":0},null,{"$f":"SUM(BK34:BL37)","v":0},null,{"$f":"SUM(BM34:BN37)","v":0},null,null,"Evaluados"]
[]
[]
[null,2,null,null,null,null,10,14,18,22,26,30,34,38,42,46,50,54,58,62,66,null,null,null,null,null,null,null,null,null,null,null,null,null,null,null,null,null,null,null,null,null,null,null,null,null,null,null,null,null,null,null,null,null,null,null,null,null,null,null,null,null,null,null,null,null,null,2]
["G","CLASE",null,null,null,{"$f":"IFERROR(VLOOKUP($A$42,$A$4:$AT$32,F41),\"\")","v":""},{"$f":"IFERROR(VLOOKUP(clase,todo,G41),\"\")","v":0},0,0,0,0,0,0,0,0,0,0,0,0,0,0,{"$f":"IFERROR(VLOOKUP($A$42,$A$4:$AT$32,V41),\"\")","v":""},{"$f":"IFERROR(VLOOKUP($A$42,$A$4:$AT$32,W41),\"\")","v":""},{"$f":"IFERROR(VLOOKUP($A$42,$A$4:$AT$32,X41),\"\")","v":""}]
[1,{"$f":"IFERROR(VLOOKUP($A$43,$A$4:$AT$32,B$41),\"\")","v":""},null,null,null,null,{"$f":"IFERROR(VLOOKUP(alumno,todo,G41),\"\")","v":""},"","","","","","","","","","","","","",""]
[null,"(Comparar con la clase)",null,null,null,null,{"$f":"IF(J3=0,\"\",J3)","v":""},{"$f":"IF(N3=0,\"\",N3)","v":""},{"$f":"IF(R3=0,\"\",R3)","v":""},{"$f":"IF(V3=0,\"\",V3)","v":""},{"$f":"IF(Z3=0,\"\",Z3)","v":""},{"$f":"IF(AD3=0,\"\",AD3)","v":""},{"$f":"IF(AH3=0,\"\",AH3)","v":""},{"$f":"IF(AL3=0,\"\",AL3)","v":""},{"$f":"IF(AP3=0,\"\",AP3)","v":""},{"$f":"IF(AT3=0,\"\",AT3)","v":""},{"$f":"IF(AX3=0,\"\",AX3)","v":""},{"$f":"IF(BB3=0,\"\",BB3)","v":""},{"$f":"IF(BF3=0,\"\",BF3)","v":""},{"$f":"IF(BJ3=0,\"\",BJ3)","v":""},{"$f":"IF(BN3=0,\"\",BN3)","v":""}]
[]
[]
[]
[]
[]
[]
[]
[]
[]
[]
[]
[]
[]
[]
[]
[null,".",null,null,null,null,null,null,null,null,null,null,null,null,null,null,null,null,null,null,null,null,null,null,null,null,null,null,null,null,null,null,null,null,null,null,null,null,null,null,null,null,null,null,null,null,null,null,null,null,null,null,null,null,null,null,null,null,null,null,null,null,null,null,null,null,null,"."]

{"sheet":"E5","index":5,"n_rows":60,"n_cols":68,"rows_kept":60,"cut":false,"hidden":false,"merged":[[38,38,38,41],[37,64,37,65],[38,2,38,5],[38,42,38,45],[38,62,38,65],[37,52,37,53],[37,54,37,55],[37,56,37,57],[37,58,37,59],[37,60,37,61],[37,62,37,63],[37,40,37,41],[37,42,37,43],[37,44,37,45],[37,46,37,47],[37,48,37,49],[37,50,37,51],[37,28,37,29],[37,30,37,31],[37,32,37,33],[37,34,37,35],[37,36,37,37],[37,38,37,39],[37,16,37,17],[37,18,37,19],[37,20,37,21],[37,22,37,23],[37,24,37,25],[37,26,37,27],[36,60,36,61],[36,62,36,63],[36,64,36,65],[37,2,37,3],[37,4,37,5],[37,6,37,7],[37,8,37,9],[37,10,37,11],[37,12,37,13],[37,14,37,15],[36,48,36,49],[36,50,36,51],[36,52,36,53],[36,54,36,55],[36,56,36,57],[36,58,36,59],[36,36,36,37],[36,38,36,39],[36,40,36,41],[36,12,36,13],[36,14,36,15],[36,16,36,17],[36,18,36,19],[36,20,36,21],[36,22,36,23],[35,56,35,57],[35,58,35,59],[35,60,35,61],[35,30,35,31],[36,42,36,43],[36,44,36,45],[36,46,36,47],[36,24,36,25],[36,26,36,27],[36,28,36,29],[36,30,36,31],[36,32,36,33],[36,34,36,35],[35,62,35,63],[35,64,35,65],[36,2,36,3],[36,4,36,5],[36,6,36,7],[36,8,36,9],[36,10,36,11],[35,44,35,45],[35,46,35,47],[35,48,35,49],[35,50,35,51],[35,52,35,53],[35,54,35,55],[35,32,35,33],[35,34,35,35],[35,36,35,37],[35,38,35,39],[35,40,35,41],[35,42,35,43],[35,20,35,21],[35,22,35,23],[35,24,35,25],[35,26,35,27],[35,28,35,29],[34,64,34,65],[35,2,35,3],[35,4,35,5],[35,6,35,7],[35,8,35,9],[35,10,35,11],[35,12,35,13],[35,14,35,15],[35,16,35,17],[35,18,35,19],[34,52,34,53],[34,54,34,55],[34,56,34,57],[34,58,34,59],[34,60,34,61],[34,62,34,63],[34,40,34,41],[34,42,34,43],[34,44,34,45],[34,46,34,47],[34,48,34,49],[34,50,34,51],[34,28,34,29],[34,30,34,31],[34,32,34,33],[34,34,34,35],[34,36,34,37],[34,38,34,39],[34,16,34,17],[34,18,34,19],[34,20,34,21],[34,22,34,23],[34,24,34,25],[34,26,34,27],[33,60,33,61],[33,62,33,63],[33,64,33,65],[34,2,34,3],[34,4,34,5],[34,6,34,7],[34,8,34,9],[34,10,34,11],[34,12,34,13],[34,14,34,15],[33,48,33,49],[33,50,33,51],[33,52,33,53],[33,54,33,55],[33,56,33,57],[33,58,33,59],[33,36,33,37],[33,38,33,39],[33,40,33,41],[33,42,33,43],[33,44,33,45],[33,46,33,47],[33,24,33,25],[33,26,33,27],[33,2,33,3],[33,4,33,5],[33,6,33,7],[33,8,33,9],[33,10,33,11],[1,26,1,29],[1,30,1,33],[1,34,1,37],[1,38,1,41],[33,28,33,29],[33,30,33,31],[33,32,33,33],[33,34,33,35],[33,12,33,13],[33,14,33,15],[33,16,33,17],[33,18,33,19],[33,20,33,21],[33,22,33,23],[2,0,2,1],[2,66,2,67],[1,0,1,1],[1,6,1,9],[1,10,1,13],[1,14,1,17],[1,18,1,21],[1,22,1,25],[1,50,1,53],[1,54,1,57],[1,58,1,61],[1,62,1,65],[1,66,1,67],[1,42,1,45],[1,46,1,49]]}
[null,null,null,null,null,null,{"$f":"IF(J3=\"\",0,IF(J32>0,J1,0))","v":0},null,null,{"$f":"IF(J3=\"\",\"\",VLOOKUP(J3,Indicadores,2,FALSE))","v":""},{"$f":"IF(N3=\"\",0,IF(N32>0,N1,0))","v":0},null,null,{"$f":"IF(N3=\"\",\"\",VLOOKUP(N3,Indicadores,2,FALSE))","v":""},{"$f":"IF(R3=\"\",0,IF(R32>0,R1,0))","v":0},null,null,{"$f":"IF(R3=\"\",\"\",VLOOKUP(R3,Indicadores,2,FALSE))","v":""},{"$f":"IF(V3=\"\",0,IF(V32>0,V1,0))","v":0},null,null,{"$f":"IF(V3=\"\",\"\",VLOOKUP(V3,Indicadores,2,FALSE))","v":""},{"$f":"IF(Z3=\"\",0,IF(Z32>0,Z1,0))","v":0},null,null,{"$f":"IF(Z3=\"\",\"\",VLOOKUP(Z3,Indicadores,2,FALSE))","v":""},{"$f":"IF(AD3=\"\",0,IF(AD32>0,AD1,0))","v":0},null,null,{"$f":"IF(AD3=\"\",\"\",VLOOKUP(AD3,Indicadores,2,FALSE))","v":""},{"$f":"IF(AH3=\"\",0,IF(AH32>0,AH1,0))","v":0},null,null,{"$f":"IF(AH3=\"\",\"\",VLOOKUP(AH3,Indicadores,2,FALSE))","v":""},{"$f":"IF(AL3=\"\",0,IF(AL32>0,AL1,0))","v":0},null,null,{"$f":"IF(AL3=\"\",\"\",VLOOKUP(AL3,Indicadores,2,FALSE))","v":""},{"$f":"IF(AP3=\"\",0,IF(AP32>0,AP1,0))","v":0},null,null,{"$f":"IF(AP3=\"\",\"\",VLOOKUP(AP3,Indicadores,2,FALSE))","v":""},{"$f":"IF(AT3=\"\",0,IF(AT32>0,AT1,0))","v":0},null,null,{"$f":"IF(AT3=\"\",\"\",VLOOKUP(AT3,Indicadores,2,FALSE))","v":""},{"$f":"IF(AX3=\"\",0,IF(AX32>0,AX1,0))","v":0},null,null,{"$f":"IF(AX3=\"\",\"\",VLOOKUP(AX3,Indicadores,2,FALSE))","v":""},{"$f":"IF(BB3=\"\",0,IF(BB32>0,BB1,0))","v":0},null,null,{"$f":"IF(BB3=\"\",\"\",VLOOKUP(BB3,Indicadores,2,FALSE))","v":""},{"$f":"IF(BF3=\"\",0,IF(BF32>0,BF1,0))","v":0},null,null,{"$f":"IF(BF3=\"\",\"\",VLOOKUP(BF3,Indicadores,2,FALSE))","v":""},{"$f":"IF(BJ3=\"\",0,IF(BJ32>0,BJ1,0))","v":0},null,null,{"$f":"IF(BJ3=\"\",\"\",VLOOKUP(BJ3,Indicadores,2,FALSE))","v":""},{"$f":"IF(BN3=\"\",0,IF(BN32>0,BN1,0))","v":0},null,null,{"$f":"IF(BN3=\"\",\"\",VLOOKUP(BN3,Indicadores,2,FALSE))","v":""}]
[{"$f":"Al!D2 & CHAR(10)  & Al!D5  & CHAR(32) & Al!B5","v":"AVE MARÍA ALBOLOTE\nRÚBRICAS LENGUA 1º"},null,null,"Total puntos","Puntuación sobre 4","Puntuación sobre 10",{"$f":"IF(J3=\"\",\"\",VLOOKUP(J3,Indicadores,3,FALSE))","v":""},null,null,null,{"$f":"IF(N3=\"\",\"\",VLOOKUP(N3,Indicadores,3,FALSE))","v":""},null,null,null,{"$f":"IF(R3=\"\",\"\",VLOOKUP(R3,Indicadores,3,FALSE))","v":""},null,null,null,{"$f":"IF(V3=\"\",\"\",VLOOKUP(V3,Indicadores,3,FALSE))","v":""},null,null,null,{"$f":"IF(Z3=\"\",\"\",VLOOKUP(Z3,Indicadores,3,FALSE))","v":""},null,null,null,{"$f":"IF(AD3=\"\",\"\",VLOOKUP(AD3,Indicadores,3,FALSE))","v":""},null,null,null,{"$f":"IF(AH3=\"\",\"\",VLOOKUP(AH3,Indicadores,3,FALSE))","v":""},null,null,null,{"$f":"IF(AL3=\"\",\"\",VLOOKUP(AL3,Indicadores,3,FALSE))","v":""},null,null,null,{"$f":"IF(AP3=\"\",\"\",VLOOKUP(AP3,Indicadores,3,FALSE))","v":""},null,null,null,{"$f":"IF(AT3=\"\",\"\",VLOOKUP(AT3,Indicadores,3,FALSE))","v":""},null,null,null,{"$f":"IF(AX3=\"\",\"\",VLOOKUP(AX3,Indicadores,3,FALSE))","v":""},null,null,null,{"$f":"IF(BB3=\"\",\"\",VLOOKUP(BB3,Indicadores,3,FALSE))","v":""},null,null,null,{"$f":"IF(BF3=\"\",\"\",VLOOKUP(BF3,Indicadores,3,FALSE))","v":""},null,null,null,{"$f":"IF(BJ3=\"\",\"\",VLOOKUP(BJ3,Indicadores,3,FALSE))","v":""},null,null,null,{"$f":"IF(BN3=\"\",\"\",VLOOKUP(BN3,Indicadores,3,FALSE))","v":""}]
[null,null,null,{"$f":"SUM(Valores)*4","v":0},4,10,null,null,null,null,null,null,null,null,null,null,null,null,null,null,null,null,null,null,null,null,null,null,null,null,null,null,null,null,null,null,null,null,null,null,null,null,null,null,null,null,null,null,null,null,null,null,null,null,null,null,null,null,null,null,null,null,null,null,null,null,{"$f":"B3","v":0}]
[{"$f":"IF(Al!D9=\"\",\"\",Al!C9)","v":""},{"$f":"IF(Al!D9=\"\",\"\",Al!D9)","v":""},null,{"$f":"IF((J4*V.01+N4*V.02+R4*V.03+V4*V.04+Z4*V.05+AD4*V.06+AH4*V.07+AL4*V.08+AP4*V.09+AT4*V.10+AX4*V.11+BB4*V.12+BF4*V.13+BJ4*V.14+BN4*V.15)=0,\"\",J4*V.01+N4*V.02+R4*V.03+V4*V.04+Z4*V.05+AD4*V.06+AH4*V.07+AL4*V.08+AP4*V.09+AT4*V.10+AX4*V.11+BB4*V.12+BF4*V.13+BJ4*V.14+BN4*V.15)","v":""},{"$f":"IF(D4=\"\",\"\",D4*Punt4/total)","v":""},{"$f":"IF(D4=\"\",\"\",D4*Punt10/total)","v":""},null,null,null,{"$f":"IFERROR(AVERAGE(G4:I4),0)","v":0},null,null,null,{"$f":"IFERROR(AVERAGE(K4:M4),0)","v":0},null,null,null,{"$f":"IFERROR(AVERAGE(O4:Q4),0)","v":0},null,null,null,{"$f":"IFERROR(AVERAGE(S4:U4),0)","v":0},null,null,null,{"$f":"IFERROR(AVERAGE(W4:Y4),0)","v":0},null,null,null,{"$f":"IFERROR(AVERAGE(AA4:AC4),0)","v":0},null,null,null,{"$f":"IFERROR(AVERAGE(AE4:AG4),0)","v":0},null,null,null,{"$f":"IFERROR(AVERAGE(AI4:AK4),0)","v":0},null,null,null,{"$f":"IFERROR(AVERAGE(AM4:AO4),0)","v":0},null,null,null,{"$f":"IFERROR(AVERAGE(AQ4:AS4),0)","v":0},null,null,null,{"$f":"IFERROR(AVERAGE(AU4:AW4),0)","v":0},null,null,null,{"$f":"IFERROR(AVERAGE(AY4:BA4),0)","v":0},null,null,null,{"$f":"IFERROR(AVERAGE(BC4:BE4),0)","v":0},null,null,null,{"$f":"IFERROR(AVERAGE(BG4:BI4),0)","v":0},null,null,null,{"$f":"IFERROR(AVERAGE(BK4:BM4),0)","v":0},{"$f":"A4","v":""},{"$f":"B4","v":""}]
[{"$f":"IF(Al!D10=\"\",\"\",Al!C10)","v":""},{"$f":"IF(Al!D10=\"\",\"\",Al!D10)","v":""},null,"","","",null,null,null,0,null,null,null,0,null,null,null,0,null,null,null,0,null,null,null,0,null,null,null,0,null,null,null,0,null,null,null,0,null,null,null,0,null,null,null,0,null,null,null,0,null,null,null,0,null,null,null,0,null,null,null,0,null,null,null,0,{"$f":"A5","v":""},""]
[{"$f":"IF(Al!D11=\"\",\"\",Al!C11)","v":""},{"$f":"IF(Al!D11=\"\",\"\",Al!D11)","v":""},null,"","","",null,null,null,0,null,null,null,0,null,null,null,0,null,null,null,0,null,null,null,0,null,null,null,0,null,null,null,0,null,null,null,0,null,null,null,0,null,null,null,0,null,null,null,0,null,null,null,0,null,null,null,0,null,null,null,0,null,null,null,0,"",""]
[{"$f":"IF(Al!D12=\"\",\"\",Al!C12)","v":""},{"$f":"IF(Al!D12=\"\",\"\",Al!D12)","v":""},null,"","","",null,null,null,0,null,null,null,0,null,null,null,0,null,null,null,0,null,null,null,0,null,null,null,0,null,null,null,0,null,null,null,0,null,null,null,0,null,null,null,0,null,null,null,0,null,null,null,0,null,null,null,0,null,null,null,0,null,null,null,0,"",""]
[{"$f":"IF(Al!D13=\"\",\"\",Al!C13)","v":""},{"$f":"IF(Al!D13=\"\",\"\",Al!D13)","v":""},null,"","","",null,null,null,0,null,null,null,0,null,null,null,{"$f":"IFERROR(AVERAGE(O8:Q8),0)","v":0},null,null,null,{"$f":"IFERROR(AVERAGE(S8:U8),0)","v":0},null,null,null,{"$f":"IFERROR(AVERAGE(W8:Y8),0)","v":0},null,null,null,{"$f":"IFERROR(AVERAGE(AA8:AC8),0)","v":0},null,null,null,{"$f":"IFERROR(AVERAGE(AE8:AG8),0)","v":0},null,null,null,{"$f":"IFERROR(AVERAGE(AI8:AK8),0)","v":0},null,null,null,{"$f":"IFERROR(AVERAGE(AM8:AO8),0)","v":0},null,null,null,{"$f":"IFERROR(AVERAGE(AQ8:AS8),0)","v":0},null,null,null,0,null,null,null,0,null,null,null,0,null,null,null,0,null,null,null,0,"",""]
[{"$f":"IF(Al!D14=\"\",\"\",Al!C14)","v":""},{"$f":"IF(Al!D14=\"\",\"\",Al!D14)","v":""},null,"","","",null,null,null,{"$f":"IFERROR(AVERAGE(G9:I9),0)","v":0},null,null,null,0,null,null,null,0,null,null,null,0,null,null,null,0,null,null,null,0,null,null,null,0,null,null,null,0,null,null,null,0,null,null,null,0,null,null,null,0,null,null,null,0,null,null,null,0,null,null,null,0,null,null,null,0,"",""]
[{"$f":"IF(Al!D15=\"\",\"\",Al!C15)","v":""},{"$f":"IF(Al!D15=\"\",\"\",Al!D15)","v":""},null,"","","",null,null,null,0,null,null,null,0,null,null,null,0,null,null,null,0,null,null,null,0,null,null,null,0,null,null,null,0,null,null,null,0,null,null,null,0,null,null,null,0,null,null,null,0,null,null,null,0,null,null,null,0,null,null,null,0,null,null,null,0,"",""]
[{"$f":"IF(Al!D16=\"\",\"\",Al!C16)","v":""},{"$f":"IF(Al!D16=\"\",\"\",Al!D16)","v":""},null,"","","",null,null,null,0,null,null,null,0,null,null,null,0,null,null,null,0,null,null,null,0,null,null,null,0,null,null,null,0,null,null,null,0,null,null,null,0,null,null,null,0,null,null,null,0,null,null,null,0,null,null,null,0,null,null,null,0,null,null,null,0,"",""]
[{"$f":"IF(Al!D17=\"\",\"\",Al!C17)","v":""},{"$f":"IF(Al!D17=\"\",\"\",Al!D17)","v":""},null,"","","",null,null,null,0,null,null,null,0,null,null,null,0,null,null,null,0,null,null,null,0,null,null,null,0,null,null,null,0,null,null,null,0,null,null,null,0,null,null,null,0,null,null,null,0,null,null,null,0,null,null,null,0,null,null,null,0,null,null,null,0,"",""]
[{"$f":"IF(Al!D18=\"\",\"\",Al!C18)","v":""},{"$f":"IF(Al!D18=\"\",\"\",Al!D18)","v":""},null,"","","",null,null,null,0,null,null,null,0,null,null,null,0,null,null,null,0,null,null,null,0,null,null,null,0,null,null,null,0,null,null,null,0,null,null,null,0,null,null,null,0,null,null,null,0,null,null,null,0,null,null,null,0,null,null,null,0,null,null,null,0,"",""]
[{"$f":"IF(Al!D19=\"\",\"\",Al!C19)","v":""},{"$f":"IF(Al!D19=\"\",\"\",Al!D19)","v":""},null,"","","",null,null,null,0,null,null,null,0,null,null,null,0,null,null,null,0,null,null,null,0,null,null,null,0,null,null,null,0,null,null,null,0,null,null,null,0,null,null,null,0,null,null,null,0,null,null,null,0,null,null,null,0,null,null,null,0,null,null,null,0,"",""]
[{"$f":"IF(Al!D20=\"\",\"\",Al!C20)","v":""},{"$f":"IF(Al!D20=\"\",\"\",Al!D20)","v":""},null,"","","",null,null,null,0,null,null,null,0,null,null,null,0,null,null,null,0,null,null,null,0,null,null,null,0,null,null,null,0,null,null,null,0,null,null,null,0,null,null,null,0,null,null,null,0,null,null,null,0,null,null,null,0,null,null,null,0,null,null,null,0,"",""]
[{"$f":"IF(Al!D21=\"\",\"\",Al!C21)","v":""},{"$f":"IF(Al!D21=\"\",\"\",Al!D21)","v":""},null,"","","",null,null,null,0,null,null,null,0,null,null,null,0,null,null,null,0,null,null,null,0,null,null,null,0,null,null,null,0,null,null,null,0,null,null,null,0,null,null,null,0,null,null,null,0,null,null,null,0,null,null,null,0,null,null,null,0,null,null,null,0,"",""]
[{"$f":"IF(Al!D22=\"\",\"\",Al!C22)","v":""},{"$f":"IF(Al!D22=\"\",\"\",Al!D22)","v":""},null,"","","",null,null,null,0,null,null,null,0,null,null,null,0,null,null,null,0,null,null,null,0,null,null,null,0,null,null,null,0,null,null,null,0,null,null,null,0,null,null,null,0,null,null,null,0,null,null,null,0,null,null,null,0,null,null,null,0,null,null,null,0,"",""]
[{"$f":"IF(Al!D23=\"\",\"\",Al!C23)","v":""},{"$f":"IF(Al!D23=\"\",\"\",Al!D23)","v":""},null,"","","",null,null,null,0,null,null,null,0,null,null,null,0,null,null,null,0,null,null,null,0,null,null,null,0,null,null,null,0,null,null,null,0,null,null,null,0,null,null,null,0,null,null,null,0,null,null,null,0,null,null,null,0,null,null,null,0,null,null,null,0,"",""]
[{"$f":"IF(Al!D24=\"\",\"\",Al!C24)","v":""},{"$f":"IF(Al!D24=\"\",\"\",Al!D24)","v":""},null,"","","",null,null,null,0,null,null,null,0,null,null,null,0,null,null,null,0,null,null,null,0,null,null,null,0,null,null,null,0,null,null,null,0,null,null,null,0,null,null,null,0,null,null,null,0,null,null,null,0,null,null,null,0,null,null,null,0,null,null,null,0,"",""]
[{"$f":"IF(Al!D25=\"\",\"\",Al!C25)","v":""},{"$f":"IF(Al!D25=\"\",\"\",Al!D25)","v":""},null,"","","",null,null,null,0,null,null,null,0,null,null,null,0,null,null,null,0,null,null,null,0,null,null,null,0,null,null,null,0,null,null,null,0,null,null,null,0,null,null,null,0,null,null,null,0,null,null,null,0,null,null,null,0,null,null,null,0,null,null,null,0,"",""]
[{"$f":"IF(Al!D26=\"\",\"\",Al!C26)","v":""},{"$f":"IF(Al!D26=\"\",\"\",Al!D26)","v":""},null,"","","",null,null,null,0,null,null,null,0,null,null,null,0,null,null,null,0,null,null,null,0,null,null,null,0,null,null,null,0,null,null,null,0,null,null,null,0,null,null,null,0,null,null,null,0,null,null,null,0,null,null,null,0,null,null,null,0,null,null,null,0,"",""]
[{"$f":"IF(Al!D27=\"\",\"\",Al!C27)","v":""},{"$f":"IF(Al!D27=\"\",\"\",Al!D27)","v":""},null,"","","",null,null,null,0,null,null,null,0,null,null,null,0,null,null,null,0,null,null,null,0,null,null,null,0,null,null,null,0,null,null,null,0,null,null,null,0,null,null,null,0,null,null,null,0,null,null,null,0,null,null,null,0,null,null,null,0,null,null,null,0,"",""]
[{"$f":"IF(Al!D28=\"\",\"\",Al!C28)","v":""},{"$f":"IF(Al!D28=\"\",\"\",Al!D28)","v":""},null,"","","",null,null,null,0,null,null,null,0,null,null,null,0,null,null,null,0,null,null,null,0,null,null,null,0,null,null,null,0,null,null,null,0,null,null,null,0,null,null,null,0,null,null,null,0,null,null,null,0,null,null,null,0,null,null,null,0,null,null,null,0,"",""]
[{"$f":"IF(Al!D29=\"\",\"\",Al!C29)","v":""},{"$f":"IF(Al!D29=\"\",\"\",Al!D29)","v":""},null,"","","",null,null,null,0,null,null,null,0,null,null,null,0,null,null,null,0,null,null,null,0,null,null,null,0,null,null,null,0,null,null,null,0,null,null,null,0,null,null,null,0,null,null,null,0,null,null,null,0,null,null,null,0,null,null,null,0,null,null,null,0,"",""]
[{"$f":"IF(Al!D30=\"\",\"\",Al!C30)","v":""},{"$f":"IF(Al!D30=\"\",\"\",Al!D30)","v":""},null,"","","",null,null,null,0,null,null,null,0,null,null,null,0,null,null,null,0,null,null,null,0,null,null,null,0,null,null,null,0,null,null,null,0,null,null,null,0,null,null,null,0,null,null,null,0,null,null,null,0,null,null,null,0,null,null,null,0,null,null,null,0,"",""]
[{"$f":"IF(Al!D31=\"\",\"\",Al!C31)","v":""},{"$f":"IF(Al!D31=\"\",\"\",Al!D31)","v":""},null,"","","",null,null,null,0,null,null,null,0,null,null,null,0,null,null,null,0,null,null,null,0,null,null,null,0,null,null,null,0,null,null,null,0,null,null,null,0,null,null,null,0,null,null,null,0,null,null,null,0,null,null,null,0,null,null,null,0,null,null,null,0,"",""]
[{"$f":"IF(Al!D32=\"\",\"\",Al!C32)","v":""},{"$f":"IF(Al!D32=\"\",\"\",Al!D32)","v":""},null,"","","",null,null,null,0,null,null,null,0,null,null,null,0,null,null,null,0,null,null,null,0,null,null,null,0,null,null,null,0,null,null,null,0,null,null,null,0,null,null,null,0,null,null,null,0,null,null,null,0,null,null,null,0,null,null,null,0,null,null,null,0,"",""]
[{"$f":"IF(Al!D33=\"\",\"\",Al!C33)","v":""},{"$f":"IF(Al!D33=\"\",\"\",Al!D33)","v":""},null,"","","",null,null,null,0,null,null,null,0,null,null,null,0,null,null,null,0,null,null,null,0,null,null,null,0,null,null,null,0,null,null,null,0,null,null,null,0,null,null,null,0,null,null,null,0,null,null,null,0,null,null,null,0,null,null,null,0,null,null,null,0,"",""]
[{"$f":"IF(Al!D34=\"\",\"\",Al!C34)","v":""},{"$f":"IF(Al!D34=\"\",\"\",Al!D34)","v":""},null,"","","",null,null,null,0,null,null,null,0,null,null,null,0,null,null,null,0,null,null,null,0,null,null,null,0,null,null,null,0,null,null,null,0,null,null,null,0,null,null,null,0,null,null,null,0,null,null,null,0,null,null,null,0,null,null,null,0,null,null,null,0,"",""]
[{"$f":"IF(Al!D35=\"\",\"\",Al!C35)","v":""},{"$f":"IF(Al!D35=\"\",\"\",Al!D35)","v":""},null,"","","",null,null,null,0,null,null,null,0,null,null,null,0,null,null,null,0,null,null,null,0,null,null,null,0,null,null,null,0,null,null,null,0,null,null,null,0,null,null,null,0,null,null,null,0,null,null,null,0,null,null,null,0,null,null,null,0,null,null,null,0,"",""]
[{"$f":"IF(Al!D36=\"\",\"\",Al!C36)","v":""},{"$f":"IF(Al!D36=\"\",\"\",Al!D36)","v":""},null,"","","",null,null,null,0,null,null,null,0,null,null,null,0,null,null,null,0,null,null,null,0,null,null,null,0,null,null,null,0,null,null,null,0,null,null,null,0,null,null,null,0,null,null,null,0,null,null,null,0,null,null,null,0,null,null,null,0,null,null,null,0,"",""]
["G","GLOBAL",null,null,{"$f":"IFERROR(AVERAGEIF(E4:E31,\">0\"),0)","v":0},{"$f":"IFERROR(AVERAGEIF(F4:F31,\">0\"),0)","v":0},null,null,null,{"$f":"IFERROR(AVERAGEIF(J4:J31,\">0\"),0)","v":0},null,null,null,{"$f":"IFERROR(AVERAGEIF(N4:N31,\">0\"),0)","v":0},null,null,null,{"$f":"IFERROR(AVERAGEIF(R4:R31,\">0\"),0)","v":0},null,null,null,{"$f":"IFERROR(AVERAGEIF(V4:V31,\">0\"),0)","v":0},null,null,null,{"$f":"IFERROR(AVERAGEIF(Z4:Z31,\">0\"),0)","v":0},null,null,null,{"$f":"IFERROR(AVERAGEIF(AD4:AD31,\">0\"),0)","v":0},null,null,null,{"$f":"IFERROR(AVERAGEIF(AH4:AH31,\">0\"),0)","v":0},null,null,null,{"$f":"IFERROR(AVERAGEIF(AL4:AL31,\">0\"),0)","v":0},null,null,null,{"$f":"IFERROR(AVERAGEIF(AP4:AP31,\">0\"),0)","v":0},null,null,null,{"$f":"IFERROR(AVERAGEIF(AT4:AT31,\">0\"),0)","v":0},null,null,null,{"$f":"IFERROR(AVERAGEIF(AX4:AX31,\">0\"),0)","v":0},null,null,null,{"$f":"IFERROR(AVERAGEIF(BB4:BB31,\">0\"),0)","v":0},null,null,null,{"$f":"IFERROR(AVERAGEIF(BF4:BF31,\">0\"),0)","v":0},null,null,null,{"$f":"IFERROR(AVERAGEIF(BJ4:BJ31,\">0\"),0)","v":0},null,null,null,{"$f":"IFERROR(AVERAGEIF(BN4:BN31,\">0\"),0)","v":0}]
[]
[null,"Insuficiente",{"$f":"COUNTIF(F4:F31,\"<4,5\")-COUNTIF(F4:F31,\"=0\")","v":0},null,{"$f":"IFERROR(C34/C$38,\"\")","v":""},null,{"$f":"COUNTIF(J4:J31,\"<1,9\")-COUNTIF(J4:J31,\"=0\")","v":0},null,{"$f":"IFERROR(G34/G$38,\"\")","v":""},null,{"$f":"COUNTIF(N4:N31,\"<1,9\")-COUNTIF(N4:N31,\"=0\")","v":0},null,{"$f":"IFERROR(K34/K$38,\"\")","v":""},null,{"$f":"COUNTIF(R4:R31,\"<1,9\")-COUNTIF(R4:R31,\"=0\")","v":0},null,{"$f":"IFERROR(O34/O$38,\"\")","v":""},null,{"$f":"COUNTIF(V4:V31,\"<1,9\")-COUNTIF(V4:V31,\"=0\")","v":0},null,{"$f":"IFERROR(S34/S$38,\"\")","v":""},null,{"$f":"COUNTIF(Z4:Z31,\"<1,9\")-COUNTIF(Z4:Z31,\"=0\")","v":0},null,{"$f":"IFERROR(W34/W$38,\"\")","v":""},null,{"$f":"COUNTIF(AD4:AD31,\"<1,9\")-COUNTIF(AD4:AD31,\"=0\")","v":0},null,{"$f":"IFERROR(AA34/AA$38,\"\")","v":""},null,{"$f":"COUNTIF(AH4:AH31,\"<1,9\")-COUNTIF(AH4:AH31,\"=0\")","v":0},null,{"$f":"IFERROR(AE34/AE$38,\"\")","v":""},null,{"$f":"COUNTIF(AL4:AL31,\"<1,9\")-COUNTIF(AL4:AL31,\"=0\")","v":0},null,{"$f":"IFERROR(AI34/AI$38,\"\")","v":""},null,{"$f":"COUNTIF(AP4:AP31,\"<1,9\")-COUNTIF(AP4:AP31,\"=0\")","v":0},null,{"$f":"IFERROR(AM34/AM$38,\"\")","v":""},null,{"$f":"COUNTIF(AT4:AT31,\"<1,9\")-COUNTIF(AT4:AT31,\"=0\")","v":0},null,{"$f":"IFERROR(AQ34/AQ$38,\"\")","v":""},null,{"$f":"COUNTIF(AX4:AX31,\"<1,9\")-COUNTIF(AX4:AX31,\"=0\")","v":0},null,{"$f":"IFERROR(AU34/AU$38,\"\")","v":""},null,{"$f":"COUNTIF(BB4:BB31,\"<1,9\")-COUNTIF(BB4:BB31,\"=0\")","v":0},null,{"$f":"IFERROR(AY34/AY$38,\"\")","v":""},null,{"$f":"COUNTIF(BF4:BF31,\"<1,9\")-COUNTIF(BF4:BF31,\"=0\")","v":0},null,{"$f":"IFERROR(BC34/BC$38,\"\")","v":""},null,{"$f":"COUNTIF(BJ4:BJ31,\"<1,9\")-COUNTIF(BJ4:BJ31,\"=0\")","v":0},null,{"$f":"IFERROR(BG34/BG$38,\"\")","v":""},null,{"$f":"COUNTIF(BN4:BN31,\"<1,9\")-COUNTIF(BN4:BN31,\"=0\")","v":0},null,{"$f":"IFERROR(BK34/BK$38,\"\")","v":""},null,null,"Insuficiente"]
[null,"Bien",{"$f":"COUNTIF(F4:F31,\">4,5\")-COUNTIF(F4:F31,\">=6,5\")","v":0},null,{"$f":"IFERROR(C35/C$38,\"\")","v":""},null,{"$f":"COUNTIF(J4:J31,\">=1,9\")-COUNTIF(J4:J31,\">=2,7\")","v":0},null,{"$f":"IFERROR(G35/G$38,\"\")","v":""},null,{"$f":"COUNTIF(N4:N31,\">=1,9\")-COUNTIF(N4:N31,\">=2,7\")","v":0},null,{"$f":"IFERROR(K35/K$38,\"\")","v":""},null,{"$f":"COUNTIF(R4:R31,\">=1,9\")-COUNTIF(R4:R31,\">=2,7\")","v":0},null,{"$f":"IFERROR(O35/O$38,\"\")","v":""},null,{"$f":"COUNTIF(V4:V31,\">=1,9\")-COUNTIF(V4:V31,\">=2,7\")","v":0},null,{"$f":"IFERROR(S35/S$38,\"\")","v":""},null,{"$f":"COUNTIF(Z4:Z31,\">=1,9\")-COUNTIF(Z4:Z31,\">=2,7\")","v":0},null,{"$f":"IFERROR(W35/W$38,\"\")","v":""},null,{"$f":"COUNTIF(AD4:AD31,\">=1,9\")-COUNTIF(AD4:AD31,\">=2,7\")","v":0},null,{"$f":"IFERROR(AA35/AA$38,\"\")","v":""},null,{"$f":"COUNTIF(AH4:AH31,\">=1,9\")-COUNTIF(AH4:AH31,\">=2,7\")","v":0},null,{"$f":"IFERROR(AE35/AE$38,\"\")","v":""},null,{"$f":"COUNTIF(AL4:AL31,\">=1,9\")-COUNTIF(AL4:AL31,\">=2,7\")","v":0},null,{"$f":"IFERROR(AI35/AI$38,\"\")","v":""},null,{"$f":"COUNTIF(AP4:AP31,\">=1,9\")-COUNTIF(AP4:AP31,\">=2,7\")","v":0},null,{"$f":"IFERROR(AM35/AM$38,\"\")","v":""},null,{"$f":"COUNTIF(AT4:AT31,\">=1,9\")-COUNTIF(AT4:AT31,\">=2,7\")","v":0},null,{"$f":"IFERROR(AQ35/AQ$38,\"\")","v":""},null,{"$f":"COUNTIF(AX4:AX31,\">=1,9\")-COUNTIF(AX4:AX31,\">=2,7\")","v":0},null,{"$f":"IFERROR(AU35/AU$38,\"\")","v":""},null,{"$f":"COUNTIF(BB4:BB31,\">=1,9\")-COUNTIF(BB4:BB31,\">=2,7\")","v":0},null,{"$f":"IFERROR(AY35/AY$38,\"\")","v":""},null,{"$f":"COUNTIF(BF4:BF31,\">=1,9\")-COUNTIF(BF4:BF31,\">=2,7\")","v":0},null,{"$f":"IFERROR(BC35/BC$38,\"\")","v":""},null,{"$f":"COUNTIF(BJ4:BJ31,\">=1,9\")-COUNTIF(BJ4:BJ31,\">=2,7\")","v":0},null,{"$f":"IFERROR(BG35/BG$38,\"\")","v":""},null,{"$f":"COUNTIF(BN4:BN31,\">=1,9\")-COUNTIF(BN4:BN31,\">=2,7\")","v":0},null,{"$f":"IFERROR(BK35/BK$38,\"\")","v":""},null,null,"Bien"]
[null,"Notable",{"$f":"COUNTIF(F4:F31,\">6,5\")-COUNTIF(F4:F31,\">8,5\")","v":0},null,{"$f":"IFERROR(C36/C$38,\"\")","v":""},null,{"$f":"COUNTIF(J4:J31,\">=2,7\")-COUNTIF(J4:J31,\">=3,5\")","v":0},null,{"$f":"IFERROR(G36/G$38,\"\")","v":""},null,{"$f":"COUNTIF(N4:N31,\">=2,7\")-COUNTIF(N4:N31,\">=3,5\")","v":0},null,{"$f":"IFERROR(K36/K$38,\"\")","v":""},null,{"$f":"COUNTIF(R4:R31,\">=2,7\")-COUNTIF(R4:R31,\">=3,5\")","v":0},null,{"$f":"IFERROR(O36/O$38,\"\")","v":""},null,{"$f":"COUNTIF(V4:V31,\">=2,7\")-COUNTIF(V4:V31,\">=3,5\")","v":0},null,{"$f":"IFERROR(S36/S$38,\"\")","v":""},null,{"$f":"COUNTIF(Z4:Z31,\">=2,7\")-COUNTIF(Z4:Z31,\">=3,5\")","v":0},null,{"$f":"IFERROR(W36/W$38,\"\")","v":""},null,{"$f":"COUNTIF(AD4:AD31,\">=2,7\")-COUNTIF(AD4:AD31,\">=3,5\")","v":0},null,{"$f":"IFERROR(AA36/AA$38,\"\")","v":""},null,{"$f":"COUNTIF(AH4:AH31,\">=2,7\")-COUNTIF(AH4:AH31,\">=3,5\")","v":0},null,{"$f":"IFERROR(AE36/AE$38,\"\")","v":""},null,{"$f":"COUNTIF(AL4:AL31,\">=2,7\")-COUNTIF(AL4:AL31,\">=3,5\")","v":0},null,{"$f":"IFERROR(AI36/AI$38,\"\")","v":""},null,{"$f":"COUNTIF(AP4:AP31,\">=2,7\")-COUNTIF(AP4:AP31,\">=3,5\")","v":0},null,{"$f":"IFERROR(AM36/AM$38,\"\")","v":""},null,{"$f":"COUNTIF(AT4:AT31,\">=2,7\")-COUNTIF(AT4:AT31,\">=3,5\")","v":0},null,{"$f":"IFERROR(AQ36/AQ$38,\"\")","v":""},null,{"$f":"COUNTIF(AX4:AX31,\">=2,7\")-COUNTIF(AX4:AX31,\">=3,5\")","v":0},null,{"$f":"IFERROR(AU36/AU$38,\"\")","v":""},null,{"$f":"COUNTIF(BB4:BB31,\">=2,7\")-COUNTIF(BB4:BB31,\">=3,5\")","v":0},null,{"$f":"IFERROR(AY36/AY$38,\"\")","v":""},null,{"$f":"COUNTIF(BF4:BF31,\">=2,7\")-COUNTIF(BF4:BF31,\">=3,5\")","v":0},null,{"$f":"IFERROR(BC36/BC$38,\"\")","v":""},null,{"$f":"COUNTIF(BJ4:BJ31,\">=2,7\")-COUNTIF(BJ4:BJ31,\">=3,5\")","v":0},null,{"$f":"IFERROR(BG36/BG$38,\"\")","v":""},null,{"$f":"COUNTIF(BN4:BN31,\">=2,7\")-COUNTIF(BN4:BN31,\">=3,5\")","v":0},null,{"$f":"IFERROR(BK36/BK$38,\"\")","v":""},null,null,"Notable"]
[null,"Sobresaliente",{"$f":"COUNTIF(F4:F31,\">8,5\")","v":0},null,{"$f":"IFERROR(C37/C$38,\"\")","v":""},null,{"$f":"COUNTIF(J4:J31,\">=3,5\")","v":0},null,{"$f":"IFERROR(G37/G$38,\"\")","v":""},null,{"$f":"COUNTIF(N4:N31,\">=3,5\")","v":0},null,{"$f":"IFERROR(K37/K$38,\"\")","v":""},null,{"$f":"COUNTIF(R4:R31,\">=3,5\")","v":0},null,{"$f":"IFERROR(O37/O$38,\"\")","v":""},null,{"$f":"COUNTIF(V4:V31,\">=3,5\")","v":0},null,{"$f":"IFERROR(S37/S$38,\"\")","v":""},null,{"$f":"COUNTIF(Z4:Z31,\">=3,5\")","v":0},null,{"$f":"IFERROR(W37/W$38,\"\")","v":""},null,{"$f":"COUNTIF(AD4:AD31,\">=3,5\")","v":0},null,{"$f":"IFERROR(AA37/AA$38,\"\")","v":""},null,{"$f":"COUNTIF(AH4:AH31,\">=3,5\")","v":0},null,{"$f":"IFERROR(AE37/AE$38,\"\")","v":""},null,{"$f":"COUNTIF(AL4:AL31,\">=3,5\")","v":0},null,{"$f":"IFERROR(AI37/AI$38,\"\")","v":""},null,{"$f":"COUNTIF(AP4:AP31,\">=3,5\")","v":0},null,{"$f":"IFERROR(AM37/AM$38,\"\")","v":""},null,{"$f":"COUNTIF(AT4:AT31,\">=3,5\")","v":0},null,{"$f":"IFERROR(AQ37/AQ$38,\"\")","v":""},null,{"$f":"COUNTIF(AX4:AX31,\">=3,5\")","v":0},null,{"$f":"IFERROR(AU37/AU$38,\"\")","v":""},null,{"$f":"COUNTIF(BB4:BB31,\">=3,5\")","v":0},null,{"$f":"IFERROR(AY37/AY$38,\"\")","v":""},null,{"$f":"COUNTIF(BF4:BF31,\">=3,5\")","v":0},null,{"$f":"IFERROR(BC37/BC$38,\"\")","v":""},null,{"$f":"COUNTIF(BJ4:BJ31,\">=3,5\")","v":0},null,{"$f":"IFERROR(BG37/BG$38,\"\")","v":""},null,{"$f":"COUNTIF(BN4:BN31,\">=3,5\")","v":0},null,{"$f":"IFERROR(BK37/BK$38,\"\")","v":""},null,null,"Sobresaliente"]
[null,"Evaluados",{"$f":"SUM(C34:D37)","v":0},null,{"$f":"SUM(E34:F37)","v":0},null,{"$f":"SUM(G34:H37)","v":0},null,{"$f":"SUM(I34:J37)","v":0},null,{"$f":"SUM(K34:L37)","v":0},null,{"$f":"SUM(M34:N37)","v":0},null,{"$f":"SUM(O34:P37)","v":0},null,{"$f":"SUM(Q34:R37)","v":0},null,{"$f":"SUM(S34:T37)","v":0},null,{"$f":"SUM(U34:V37)","v":0},null,{"$f":"SUM(W34:X37)","v":0},null,{"$f":"SUM(Y34:Z37)","v":0},null,{"$f":"SUM(AA34:AB37)","v":0},null,{"$f":"SUM(AC34:AD37)","v":0},null,{"$f":"SUM(AE34:AF37)","v":0},null,{"$f":"SUM(AG34:AH37)","v":0},null,{"$f":"SUM(AI34:AJ37)","v":0},null,{"$f":"SUM(AK34:AL37)","v":0},null,{"$f":"SUM(AM34:AN37)","v":0},null,{"$f":"SUM(AO34:AP37)","v":0},null,{"$f":"SUM(AQ34:AR37)","v":0},null,{"$f":"SUM(AS34:AT37)","v":0},null,{"$f":"SUM(AU34:AV37)","v":0},null,{"$f":"SUM(AW34:AX37)","v":0},null,{"$f":"SUM(AY34:AZ37)","v":0},null,{"$f":"SUM(BA34:BB37)","v":0},null,{"$f":"SUM(BC34:BD37)","v":0},null,{"$f":"SUM(BE34:BF37)","v":0},null,{"$f":"SUM(BG34:BH37)","v":0},null,{"$f":"SUM(BI34:BJ37)","v":0},null,{"$f":"SUM(BK34:BL37)","v":0},null,{"$f":"SUM(BM34:BN37)","v":0},null,null,"Evaluados"]
[]
[]
[null,2,null,null,null,null,10,14,18,22,26,30,34,38,42,46,50,54,58,62,66,null,null,null,null,null,null,null,null,null,null,null,null,null,null,null,null,null,null,null,null,null,null,null,null,null,null,null,null,null,null,null,null,null,null,null,null,null,null,null,null,null,null,null,null,null,null,2]
["G","CLASE",null,null,null,{"$f":"IFERROR(VLOOKUP($A$42,$A$4:$AT$32,F41),\"\")","v":""},{"$f":"IFERROR(VLOOKUP(clase,todo,G41),\"\")","v":0},0,0,0,0,0,0,0,0,0,0,0,0,0,0,{"$f":"IFERROR(VLOOKUP($A$42,$A$4:$AT$32,V41),\"\")","v":""},{"$f":"IFERROR(VLOOKUP($A$42,$A$4:$AT$32,W41),\"\")","v":""},{"$f":"IFERROR(VLOOKUP($A$42,$A$4:$AT$32,X41),\"\")","v":""}]
[1,{"$f":"IFERROR(VLOOKUP($A$43,$A$4:$AT$32,B$41),\"\")","v":""},null,null,null,null,{"$f":"IFERROR(VLOOKUP(alumno,todo,G41),\"\")","v":""},"","","","","","","","","","","","","",""]
[null,"(Comparar con la clase)",null,null,null,null,{"$f":"IF(J3=0,\"\",J3)","v":""},{"$f":"IF(N3=0,\"\",N3)","v":""},{"$f":"IF(R3=0,\"\",R3)","v":""},{"$f":"IF(V3=0,\"\",V3)","v":""},{"$f":"IF(Z3=0,\"\",Z3)","v":""},{"$f":"IF(AD3=0,\"\",AD3)","v":""},{"$f":"IF(AH3=0,\"\",AH3)","v":""},{"$f":"IF(AL3=0,\"\",AL3)","v":""},{"$f":"IF(AP3=0,\"\",AP3)","v":""},{"$f":"IF(AT3=0,\"\",AT3)","v":""},{"$f":"IF(AX3=0,\"\",AX3)","v":""},{"$f":"IF(BB3=0,\"\",BB3)","v":""},{"$f":"IF(BF3=0,\"\",BF3)","v":""},{"$f":"IF(BJ3=0,\"\",BJ3)","v":""},{"$f":"IF(BN3=0,\"\",BN3)","v":""}]
[]
[]
[]
[]
[]
[]
[]
[]
[]
[]
[]
[]
[]
[]
[]
[null,".",null,null,null,null,null,null,null,null,null,null,null,null,null,null,null,null,null,null,null,null,null,null,null,null,null,null,null,null,null,null,null,null,null,null,null,null,null,null,null,null,null,null,null,null,null,null,null,null,null,null,null,null,null,null,null,null,null,null,null,null,null,null,null,null,null,"."]

{"sheet":"E6","index":6,"n_rows":60,"n_cols":68,"rows_kept":60,"cut":false,"hidden":false,"merged":[[38,38,38,41],[37,64,37,65],[38,2,38,5],[38,42,38,45],[38,62,38,65],[37,52,37,53],[37,54,37,55],[37,56,37,57],[37,58,37,59],[37,60,37,61],[37,62,37,63],[37,40,37,41],[37,42,37,43],[37,44,37,45],[37,46,37,47],[37,48,37,49],[37,50,37,51],[37,28,37,29],[37,30,37,31],[37,32,37,33],[37,34,37,35],[37,36,37,37],[37,38,37,39],[37,16,37,17],[37,18,37,19],[37,20,37,21],[37,22,37,23],[37,24,37,25],[37,26,37,27],[36,60,36,61],[36,62,36,63],[36,64,36,65],[37,2,37,3],[37,4,37,5],[37,6,37,7],[37,8,37,9],[37,10,37,11],[37,12,37,13],[37,14,37,15],[36,48,36,49],[36,50,36,51],[36,52,36,53],[36,54,36,55],[36,56,36,57],[36,58,36,59],[36,36,36,37],[36,38,36,39],[36,40,36,41],[36,12,36,13],[36,14,36,15],[36,16,36,17],[36,18,36,19],[36,20,36,21],[36,22,36,23],[35,56,35,57],[35,58,35,59],[35,60,35,61],[35,30,35,31],[36,42,36,43],[36,44,36,45],[36,46,36,47],[36,24,36,25],[36,26,36,27],[36,28,36,29],[36,30,36,31],[36,32,36,33],[36,34,36,35],[35,62,35,63],[35,64,35,65],[36,2,36,3],[36,4,36,5],[36,6,36,7],[36,8,36,9],[36,10,36,11],[35,44,35,45],[35,46,35,47],[35,48,35,49],[35,50,35,51],[35,52,35,53],[35,54,35,55],[35,32,35,33],[35,34,35,35],[35,36,35,37],[35,38,35,39],[35,40,35,41],[35,42,35,43],[35,20,35,21],[35,22,35,23],[35,24,35,25],[35,26,35,27],[35,28,35,29],[34,64,34,65],[35,2,35,3],[35,4,35,5],[35,6,35,7],[35,8,35,9],[35,10,35,11],[35,12,35,13],[35,14,35,15],[35,16,35,17],[35,18,35,19],[34,52,34,53],[34,54,34,55],[34,56,34,57],[34,58,34,59],[34,60,34,61],[34,62,34,63],[34,40,34,41],[34,42,34,43],[34,44,34,45],[34,46,34,47],[34,48,34,49],[34,50,34,51],[34,28,34,29],[34,30,34,31],[34,32,34,33],[34,34,34,35],[34,36,34,37],[34,38,34,39],[34,16,34,17],[34,18,34,19],[34,20,34,21],[34,22,34,23],[34,24,34,25],[34,26,34,27],[33,60,33,61],[33,62,33,63],[33,64,33,65],[34,2,34,3],[34,4,34,5],[34,6,34,7],[34,8,34,9],[34,10,34,11],[34,12,34,13],[34,14,34,15],[33,48,33,49],[33,50,33,51],[33,52,33,53],[33,54,33,55],[33,56,33,57],[33,58,33,59],[33,36,33,37],[33,38,33,39],[33,40,33,41],[33,42,33,43],[33,44,33,45],[33,46,33,47],[33,24,33,25],[33,26,33,27],[33,2,33,3],[33,4,33,5],[33,6,33,7],[33,8,33,9],[33,10,33,11],[1,26,1,29],[1,30,1,33],[1,34,1,37],[1,38,1,41],[33,28,33,29],[33,30,33,31],[33,32,33,33],[33,34,33,35],[33,12,33,13],[33,14,33,15],[33,16,33,17],[33,18,33,19],[33,20,33,21],[33,22,33,23],[2,0,2,1],[2,66,2,67],[1,0,1,1],[1,6,1,9],[1,10,1,13],[1,14,1,17],[1,18,1,21],[1,22,1,25],[1,50,1,53],[1,54,1,57],[1,58,1,61],[1,62,1,65],[1,66,1,67],[1,42,1,45],[1,46,1,49]]}
[null,null,null,null,null,null,{"$f":"IF(J3=\"\",0,IF(J32>0,J1,0))","v":0},null,null,{"$f":"IF(J3=\"\",\"\",VLOOKUP(J3,Indicadores,2,FALSE))","v":""},{"$f":"IF(N3=\"\",0,IF(N32>0,N1,0))","v":0},null,null,{"$f":"IF(N3=\"\",\"\",VLOOKUP(N3,Indicadores,2,FALSE))","v":""},{"$f":"IF(R3=\"\",0,IF(R32>0,R1,0))","v":0},null,null,{"$f":"IF(R3=\"\",\"\",VLOOKUP(R3,Indicadores,2,FALSE))","v":""},{"$f":"IF(V3=\"\",0,IF(V32>0,V1,0))","v":0},null,null,{"$f":"IF(V3=\"\",\"\",VLOOKUP(V3,Indicadores,2,FALSE))","v":""},{"$f":"IF(Z3=\"\",0,IF(Z32>0,Z1,0))","v":0},null,null,{"$f":"IF(Z3=\"\",\"\",VLOOKUP(Z3,Indicadores,2,FALSE))","v":""},{"$f":"IF(AD3=\"\",0,IF(AD32>0,AD1,0))","v":0},null,null,{"$f":"IF(AD3=\"\",\"\",VLOOKUP(AD3,Indicadores,2,FALSE))","v":""},{"$f":"IF(AH3=\"\",0,IF(AH32>0,AH1,0))","v":0},null,null,{"$f":"IF(AH3=\"\",\"\",VLOOKUP(AH3,Indicadores,2,FALSE))","v":""},{"$f":"IF(AL3=\"\",0,IF(AL32>0,AL1,0))","v":0},null,null,{"$f":"IF(AL3=\"\",\"\",VLOOKUP(AL3,Indicadores,2,FALSE))","v":""},{"$f":"IF(AP3=\"\",0,IF(AP32>0,AP1,0))","v":0},null,null,{"$f":"IF(AP3=\"\",\"\",VLOOKUP(AP3,Indicadores,2,FALSE))","v":""},{"$f":"IF(AT3=\"\",0,IF(AT32>0,AT1,0))","v":0},null,null,{"$f":"IF(AT3=\"\",\"\",VLOOKUP(AT3,Indicadores,2,FALSE))","v":""},{"$f":"IF(AX3=\"\",0,IF(AX32>0,AX1,0))","v":0},null,null,{"$f":"IF(AX3=\"\",\"\",VLOOKUP(AX3,Indicadores,2,FALSE))","v":""},{"$f":"IF(BB3=\"\",0,IF(BB32>0,BB1,0))","v":0},null,null,{"$f":"IF(BB3=\"\",\"\",VLOOKUP(BB3,Indicadores,2,FALSE))","v":""},{"$f":"IF(BF3=\"\",0,IF(BF32>0,BF1,0))","v":0},null,null,{"$f":"IF(BF3=\"\",\"\",VLOOKUP(BF3,Indicadores,2,FALSE))","v":""},{"$f":"IF(BJ3=\"\",0,IF(BJ32>0,BJ1,0))","v":0},null,null,{"$f":"IF(BJ3=\"\",\"\",VLOOKUP(BJ3,Indicadores,2,FALSE))","v":""},{"$f":"IF(BN3=\"\",0,IF(BN32>0,BN1,0))","v":0},null,null,{"$f":"IF(BN3=\"\",\"\",VLOOKUP(BN3,Indicadores,2,FALSE))","v":""}]
[{"$f":"Al!D2 & CHAR(10)  & Al!D5  & CHAR(32) & Al!B5","v":"AVE MARÍA ALBOLOTE\nRÚBRICAS LENGUA 1º"},null,null,"Total puntos","Puntuación sobre 4","Puntuación sobre 10",{"$f":"IF(J3=\"\",\"\",VLOOKUP(J3,Indicadores,3,FALSE))","v":""},null,null,null,{"$f":"IF(N3=\"\",\"\",VLOOKUP(N3,Indicadores,3,FALSE))","v":""},null,null,null,{"$f":"IF(R3=\"\",\"\",VLOOKUP(R3,Indicadores,3,FALSE))","v":""},null,null,null,{"$f":"IF(V3=\"\",\"\",VLOOKUP(V3,Indicadores,3,FALSE))","v":""},null,null,null,{"$f":"IF(Z3=\"\",\"\",VLOOKUP(Z3,Indicadores,3,FALSE))","v":""},null,null,null,{"$f":"IF(AD3=\"\",\"\",VLOOKUP(AD3,Indicadores,3,FALSE))","v":""},null,null,null,{"$f":"IF(AH3=\"\",\"\",VLOOKUP(AH3,Indicadores,3,FALSE))","v":""},null,null,null,{"$f":"IF(AL3=\"\",\"\",VLOOKUP(AL3,Indicadores,3,FALSE))","v":""},null,null,null,{"$f":"IF(AP3=\"\",\"\",VLOOKUP(AP3,Indicadores,3,FALSE))","v":""},null,null,null,{"$f":"IF(AT3=\"\",\"\",VLOOKUP(AT3,Indicadores,3,FALSE))","v":""},null,null,null,{"$f":"IF(AX3=\"\",\"\",VLOOKUP(AX3,Indicadores,3,FALSE))","v":""},null,null,null,{"$f":"IF(BB3=\"\",\"\",VLOOKUP(BB3,Indicadores,3,FALSE))","v":""},null,null,null,{"$f":"IF(BF3=\"\",\"\",VLOOKUP(BF3,Indicadores,3,FALSE))","v":""},null,null,null,{"$f":"IF(BJ3=\"\",\"\",VLOOKUP(BJ3,Indicadores,3,FALSE))","v":""},null,null,null,{"$f":"IF(BN3=\"\",\"\",VLOOKUP(BN3,Indicadores,3,FALSE))","v":""}]
[null,null,null,{"$f":"SUM(Valores)*4","v":0},4,10,null,null,null,null,null,null,null,null,null,null,null,null,null,null,null,null,null,null,null,null,null,null,null,null,null,null,null,null,null,null,null,null,null,null,null,null,null,null,null,null,null,null,null,null,null,null,null,null,null,null,null,null,null,null,null,null,null,null,null,null,{"$f":"A3","v":0}]
[{"$f":"IF(Al!D9=\"\",\"\",Al!C9)","v":""},{"$f":"IF(Al!D9=\"\",\"\",Al!D9)","v":""},null,{"$f":"IF((J4*V.01+N4*V.02+R4*V.03+V4*V.04+Z4*V.05+AD4*V.06+AH4*V.07+AL4*V.08+AP4*V.09+AT4*V.10+AX4*V.11+BB4*V.12+BF4*V.13+BJ4*V.14+BN4*V.15)=0,\"\",J4*V.01+N4*V.02+R4*V.03+V4*V.04+Z4*V.05+AD4*V.06+AH4*V.07+AL4*V.08+AP4*V.09+AT4*V.10+AX4*V.11+BB4*V.12+BF4*V.13+BJ4*V.14+BN4*V.15)","v":""},{"$f":"IF(D4=\"\",\"\",D4*Punt4/total)","v":""},{"$f":"IF(D4=\"\",\"\",D4*Punt10/total)","v":""},null,null,null,{"$f":"IFERROR(AVERAGE(G4:I4),0)","v":0},null,null,null,{"$f":"IFERROR(AVERAGE(K4:M4),0)","v":0},null,null,null,{"$f":"IFERROR(AVERAGE(O4:Q4),0)","v":0},null,null,null,{"$f":"IFERROR(AVERAGE(S4:U4),0)","v":0},null,null,null,{"$f":"IFERROR(AVERAGE(W4:Y4),0)","v":0},null,null,null,{"$f":"IFERROR(AVERAGE(AA4:AC4),0)","v":0},null,null,null,{"$f":"IFERROR(AVERAGE(AE4:AG4),0)","v":0},null,null,null,{"$f":"IFERROR(AVERAGE(AI4:AK4),0)","v":0},null,null,null,{"$f":"IFERROR(AVERAGE(AM4:AO4),0)","v":0},null,null,null,{"$f":"IFERROR(AVERAGE(AQ4:AS4),0)","v":0},null,null,null,{"$f":"IFERROR(AVERAGE(AU4:AW4),0)","v":0},null,null,null,{"$f":"IFERROR(AVERAGE(AY4:BA4),0)","v":0},null,null,null,{"$f":"IFERROR(AVERAGE(BC4:BE4),0)","v":0},null,null,null,{"$f":"IFERROR(AVERAGE(BG4:BI4),0)","v":0},null,null,null,{"$f":"IFERROR(AVERAGE(BK4:BM4),0)","v":0},{"$f":"A4","v":""},{"$f":"B4","v":""}]
[{"$f":"IF(Al!D10=\"\",\"\",Al!C10)","v":""},{"$f":"IF(Al!D10=\"\",\"\",Al!D10)","v":""},null,"","","",null,null,null,0,null,null,null,0,null,null,null,0,null,null,null,0,null,null,null,0,null,null,null,0,null,null,null,0,null,null,null,0,null,null,null,0,null,null,null,0,null,null,null,0,null,null,null,0,null,null,null,0,null,null,null,0,null,null,null,0,{"$f":"A5","v":""},""]
[{"$f":"IF(Al!D11=\"\",\"\",Al!C11)","v":""},{"$f":"IF(Al!D11=\"\",\"\",Al!D11)","v":""},null,"","","",null,null,null,0,null,null,null,0,null,null,null,0,null,null,null,0,null,null,null,0,null,null,null,0,null,null,null,0,null,null,null,0,null,null,null,0,null,null,null,0,null,null,null,0,null,null,null,0,null,null,null,0,null,null,null,0,null,null,null,0,"",""]
[{"$f":"IF(Al!D12=\"\",\"\",Al!C12)","v":""},{"$f":"IF(Al!D12=\"\",\"\",Al!D12)","v":""},null,"","","",null,null,null,0,null,null,null,0,null,null,null,0,null,null,null,0,null,null,null,0,null,null,null,0,null,null,null,0,null,null,null,0,null,null,null,0,null,null,null,0,null,null,null,0,null,null,null,0,null,null,null,0,null,null,null,0,null,null,null,0,"",""]
[{"$f":"IF(Al!D13=\"\",\"\",Al!C13)","v":""},{"$f":"IF(Al!D13=\"\",\"\",Al!D13)","v":""},null,"","","",null,null,null,0,null,null,null,0,null,null,null,0,null,null,null,0,null,null,null,0,null,null,null,0,null,null,null,0,null,null,null,0,null,null,null,0,null,null,null,0,null,null,null,0,null,null,null,0,null,null,null,0,null,null,null,0,null,null,null,0,"",""]
[{"$f":"IF(Al!D14=\"\",\"\",Al!C14)","v":""},{"$f":"IF(Al!D14=\"\",\"\",Al!D14)","v":""},null,"","","",null,null,null,0,null,null,null,0,null,null,null,0,null,null,null,0,null,null,null,0,null,null,null,0,null,null,null,0,null,null,null,0,null,null,null,0,null,null,null,0,null,null,null,0,null,null,null,0,null,null,null,0,null,null,null,0,null,null,null,0,"",""]
[{"$f":"IF(Al!D15=\"\",\"\",Al!C15)","v":""},{"$f":"IF(Al!D15=\"\",\"\",Al!D15)","v":""},null,"","","",null,null,null,0,null,null,null,0,null,null,null,0,null,null,null,0,null,null,null,0,null,null,null,0,null,null,null,0,null,null,null,0,null,null,null,0,null,null,null,0,null,null,null,0,null,null,null,0,null,null,null,0,null,null,null,0,null,null,null,0,"",""]
[{"$f":"IF(Al!D16=\"\",\"\",Al!C16)","v":""},{"$f":"IF(Al!D16=\"\",\"\",Al!D16)","v":""},null,"","","",null,null,null,0,null,null,null,0,null,null,null,0,null,null,null,0,null,null,null,0,null,null,null,0,null,null,null,0,null,null,null,0,null,null,null,0,null,null,null,0,null,null,null,0,null,null,null,0,null,null,null,0,null,null,null,0,null,null,null,0,"",""]
[{"$f":"IF(Al!D17=\"\",\"\",Al!C17)","v":""},{"$f":"IF(Al!D17=\"\",\"\",Al!D17)","v":""},null,"","","",null,null,null,0,null,null,null,0,null,null,null,0,null,null,null,0,null,null,null,0,null,null,null,0,null,null,null,0,null,null,null,0,null,null,null,0,null,null,null,0,null,null,null,0,null,null,null,0,null,null,null,0,null,null,null,0,null,null,null,0,"",""]
[{"$f":"IF(Al!D18=\"\",\"\",Al!C18)","v":""},{"$f":"IF(Al!D18=\"\",\"\",Al!D18)","v":""},null,"","","",null,null,null,0,null,null,null,0,null,null,null,0,null,null,null,0,null,null,null,0,null,null,null,0,null,null,null,0,null,null,null,0,null,null,null,0,null,null,null,0,null,null,null,0,null,null,null,0,null,null,null,0,null,null,null,0,null,null,null,0,"",""]
[{"$f":"IF(Al!D19=\"\",\"\",Al!C19)","v":""},{"$f":"IF(Al!D19=\"\",\"\",Al!D19)","v":""},null,"","","",null,null,null,0,null,null,null,0,null,null,null,0,null,null,null,0,null,null,null,0,null,null,null,0,null,null,null,0,null,null,null,0,null,null,null,0,null,null,null,0,null,null,null,0,null,null,null,0,null,null,null,0,null,null,null,0,null,null,null,0,"",""]
[{"$f":"IF(Al!D20=\"\",\"\",Al!C20)","v":""},{"$f":"IF(Al!D20=\"\",\"\",Al!D20)","v":""},null,"","","",null,null,null,0,null,null,null,0,null,null,null,0,null,null,null,0,null,null,null,0,null,null,null,0,null,null,null,0,null,null,null,0,null,null,null,0,null,null,null,0,null,null,null,0,null,null,null,0,null,null,null,0,null,null,null,0,null,null,null,0,"",""]
[{"$f":"IF(Al!D21=\"\",\"\",Al!C21)","v":""},{"$f":"IF(Al!D21=\"\",\"\",Al!D21)","v":""},null,"","","",null,null,null,0,null,null,null,0,null,null,null,0,null,null,null,0,null,null,null,0,null,null,null,0,null,null,null,0,null,null,null,0,null,null,null,0,null,null,null,0,null,null,null,0,null,null,null,0,null,null,null,0,null,null,null,0,null,null,null,0,"",""]
[{"$f":"IF(Al!D22=\"\",\"\",Al!C22)","v":""},{"$f":"IF(Al!D22=\"\",\"\",Al!D22)","v":""},null,"","","",null,null,null,0,null,null,null,0,null,null,null,0,null,null,null,0,null,null,null,0,null,null,null,0,null,null,null,0,null,null,null,0,null,null,null,0,null,null,null,0,null,null,null,0,null,null,null,0,null,null,null,0,null,null,null,0,null,null,null,0,"",""]
[{"$f":"IF(Al!D23=\"\",\"\",Al!C23)","v":""},{"$f":"IF(Al!D23=\"\",\"\",Al!D23)","v":""},null,"","","",null,null,null,0,null,null,null,0,null,null,null,0,null,null,null,0,null,null,null,0,null,null,null,0,null,null,null,0,null,null,null,0,null,null,null,0,null,null,null,0,null,null,null,0,null,null,null,0,null,null,null,0,null,null,null,0,null,null,null,0,"",""]
[{"$f":"IF(Al!D24=\"\",\"\",Al!C24)","v":""},{"$f":"IF(Al!D24=\"\",\"\",Al!D24)","v":""},null,"","","",null,null,null,0,null,null,null,0,null,null,null,0,null,null,null,0,null,null,null,0,null,null,null,0,null,null,null,0,null,null,null,0,null,null,null,0,null,null,null,0,null,null,null,0,null,null,null,0,null,null,null,0,null,null,null,0,null,null,null,0,"",""]
[{"$f":"IF(Al!D25=\"\",\"\",Al!C25)","v":""},{"$f":"IF(Al!D25=\"\",\"\",Al!D25)","v":""},null,"","","",null,null,null,0,null,null,null,0,null,null,null,0,null,null,null,0,null,null,null,0,null,null,null,0,null,null,null,0,null,null,null,0,null,null,null,0,null,null,null,0,null,null,null,0,null,null,null,0,null,null,null,0,null,null,null,0,null,null,null,0,"",""]
[{"$f":"IF(Al!D26=\"\",\"\",Al!C26)","v":""},{"$f":"IF(Al!D26=\"\",\"\",Al!D26)","v":""},null,"","","",null,null,null,0,null,null,null,0,null,null,null,0,null,null,null,0,null,null,null,0,null,null,null,0,null,null,null,0,null,null,null,0,null,null,null,0,null,null,null,0,null,null,null,0,null,null,null,0,null,null,null,0,null,null,null,0,null,null,null,0,"",""]
[{"$f":"IF(Al!D27=\"\",\"\",Al!C27)","v":""},{"$f":"IF(Al!D27=\"\",\"\",Al!D27)","v":""},null,"","","",null,null,null,0,null,null,null,0,null,null,null,0,null,null,null,0,null,null,null,0,null,null,null,0,null,null,null,0,null,null,null,0,null,null,null,0,null,null,null,0,null,null,null,0,null,null,null,0,null,null,null,0,null,null,null,0,null,null,null,0,"",""]
[{"$f":"IF(Al!D28=\"\",\"\",Al!C28)","v":""},{"$f":"IF(Al!D28=\"\",\"\",Al!D28)","v":""},null,"","","",null,null,null,0,null,null,null,0,null,null,null,0,null,null,null,0,null,null,null,0,null,null,null,0,null,null,null,0,null,null,null,0,null,null,null,0,null,null,null,0,null,null,null,0,null,null,null,0,null,null,null,0,null,null,null,0,null,null,null,0,"",""]
[{"$f":"IF(Al!D29=\"\",\"\",Al!C29)","v":""},{"$f":"IF(Al!D29=\"\",\"\",Al!D29)","v":""},null,"","","",null,null,null,0,null,null,null,0,null,null,null,0,null,null,null,0,null,null,null,0,null,null,null,0,null,null,null,0,null,null,null,0,null,null,null,0,null,null,null,0,null,null,null,0,null,null,null,0,null,null,null,0,null,null,null,0,null,null,null,0,"",""]
[{"$f":"IF(Al!D30=\"\",\"\",Al!C30)","v":""},{"$f":"IF(Al!D30=\"\",\"\",Al!D30)","v":""},null,"","","",null,null,null,0,null,null,null,0,null,null,null,0,null,null,null,0,null,null,null,0,null,null,null,0,null,null,null,0,null,null,null,0,null,null,null,0,null,null,null,0,null,null,null,0,null,null,null,0,null,null,null,0,null,null,null,0,null,null,null,0,"",""]
[{"$f":"IF(Al!D31=\"\",\"\",Al!C31)","v":""},{"$f":"IF(Al!D31=\"\",\"\",Al!D31)","v":""},null,"","","",null,null,null,0,null,null,null,0,null,null,null,0,null,null,null,0,null,null,null,0,null,null,null,0,null,null,null,0,null,null,null,0,null,null,null,0,null,null,null,0,null,null,null,0,null,null,null,0,null,null,null,0,null,null,null,0,null,null,null,0,"",""]
[{"$f":"IF(Al!D32=\"\",\"\",Al!C32)","v":""},{"$f":"IF(Al!D32=\"\",\"\",Al!D32)","v":""},null,"","","",null,null,null,0,null,null,null,0,null,null,null,0,null,null,null,0,null,null,null,0,null,null,null,0,null,null,null,0,null,null,null,0,null,null,null,0,null,null,null,0,null,null,null,0,null,null,null,0,null,null,null,0,null,null,null,0,null,null,null,0,"",""]
[{"$f":"IF(Al!D33=\"\",\"\",Al!C33)","v":""},{"$f":"IF(Al!D33=\"\",\"\",Al!D33)","v":""},null,"","","",null,null,null,0,null,null,null,0,null,null,null,0,null,null,null,0,null,null,null,0,null,null,null,0,null,null,null,0,null,null,null,0,null,null,null,0,null,null,null,0,null,null,null,0,null,null,null,0,null,null,null,0,null,null,null,0,null,null,null,0,"",""]
[{"$f":"IF(Al!D34=\"\",\"\",Al!C34)","v":""},{"$f":"IF(Al!D34=\"\",\"\",Al!D34)","v":""},null,"","","",null,null,null,0,null,null,null,0,null,null,null,0,null,null,null,0,null,null,null,0,null,null,null,0,null,null,null,0,null,null,null,0,null,null,null,0,null,null,null,0,null,null,null,0,null,null,null,0,null,null,null,0,null,null,null,0,null,null,null,0,"",""]
[{"$f":"IF(Al!D35=\"\",\"\",Al!C35)","v":""},{"$f":"IF(Al!D35=\"\",\"\",Al!D35)","v":""},null,"","","",null,null,null,0,null,null,null,0,null,null,null,0,null,null,null,0,null,null,null,0,null,null,null,0,null,null,null,0,null,null,null,0,null,null,null,0,null,null,null,0,null,null,null,0,null,null,null,0,null,null,null,0,null,null,null,0,null,null,null,0,"",""]
[{"$f":"IF(Al!D36=\"\",\"\",Al!C36)","v":""},{"$f":"IF(Al!D36=\"\",\"\",Al!D36)","v":""},null,"","","",null,null,null,0,null,null,null,0,null,null,null,0,null,null,null,0,null,null,null,0,null,null,null,0,null,null,null,0,null,null,null,0,null,null,null,0,null,null,null,0,null,null,null,0,null,null,null,0,null,null,null,0,null,null,null,0,null,null,null,0,"",""]
["G","GLOBAL",null,null,{"$f":"IFERROR(AVERAGEIF(E4:E31,\">0\"),0)","v":0},{"$f":"IFERROR(AVERAGEIF(F4:F31,\">0\"),0)","v":0},null,null,null,{"$f":"IFERROR(AVERAGEIF(J4:J31,\">0\"),0)","v":0},null,null,null,{"$f":"IFERROR(AVERAGEIF(N4:N31,\">0\"),0)","v":0},null,null,null,{"$f":"IFERROR(AVERAGEIF(R4:R31,\">0\"),0)","v":0},null,null,null,{"$f":"IFERROR(AVERAGEIF(V4:V31,\">0\"),0)","v":0},null,null,null,{"$f":"IFERROR(AVERAGEIF(Z4:Z31,\">0\"),0)","v":0},null,null,null,{"$f":"IFERROR(AVERAGEIF(AD4:AD31,\">0\"),0)","v":0},null,null,null,{"$f":"IFERROR(AVERAGEIF(AH4:AH31,\">0\"),0)","v":0},null,null,null,{"$f":"IFERROR(AVERAGEIF(AL4:AL31,\">0\"),0)","v":0},null,null,null,{"$f":"IFERROR(AVERAGEIF(AP4:AP31,\">0\"),0)","v":0},null,null,null,{"$f":"IFERROR(AVERAGEIF(AT4:AT31,\">0\"),0)","v":0},null,null,null,{"$f":"IFERROR(AVERAGEIF(AX4:AX31,\">0\"),0)","v":0},null,null,null,{"$f":"IFERROR(AVERAGEIF(BB4:BB31,\">0\"),0)","v":0},null,null,null,{"$f":"IFERROR(AVERAGEIF(BF4:BF31,\">0\"),0)","v":0},null,null,null,{"$f":"IFERROR(AVERAGEIF(BJ4:BJ31,\">0\"),0)","v":0},null,null,null,{"$f":"IFERROR(AVERAGEIF(BN4:BN31,\">0\"),0)","v":0}]
[]
[null,"Insuficiente",{"$f":"COUNTIF(F4:F31,\"<4,5\")-COUNTIF(F4:F31,\"=0\")","v":0},null,{"$f":"IFERROR(C34/C$38,\"\")","v":""},null,{"$f":"COUNTIF(J4:J31,\"<1,9\")-COUNTIF(J4:J31,\"=0\")","v":0},null,{"$f":"IFERROR(G34/G$38,\"\")","v":""},null,{"$f":"COUNTIF(N4:N31,\"<1,9\")-COUNTIF(N4:N31,\"=0\")","v":0},null,{"$f":"IFERROR(K34/K$38,\"\")","v":""},null,{"$f":"COUNTIF(R4:R31,\"<1,9\")-COUNTIF(R4:R31,\"=0\")","v":0},null,{"$f":"IFERROR(O34/O$38,\"\")","v":""},null,{"$f":"COUNTIF(V4:V31,\"<1,9\")-COUNTIF(V4:V31,\"=0\")","v":0},null,{"$f":"IFERROR(S34/S$38,\"\")","v":""},null,{"$f":"COUNTIF(Z4:Z31,\"<1,9\")-COUNTIF(Z4:Z31,\"=0\")","v":0},null,{"$f":"IFERROR(W34/W$38,\"\")","v":""},null,{"$f":"COUNTIF(AD4:AD31,\"<1,9\")-COUNTIF(AD4:AD31,\"=0\")","v":0},null,{"$f":"IFERROR(AA34/AA$38,\"\")","v":""},null,{"$f":"COUNTIF(AH4:AH31,\"<1,9\")-COUNTIF(AH4:AH31,\"=0\")","v":0},null,{"$f":"IFERROR(AE34/AE$38,\"\")","v":""},null,{"$f":"COUNTIF(AL4:AL31,\"<1,9\")-COUNTIF(AL4:AL31,\"=0\")","v":0},null,{"$f":"IFERROR(AI34/AI$38,\"\")","v":""},null,{"$f":"COUNTIF(AP4:AP31,\"<1,9\")-COUNTIF(AP4:AP31,\"=0\")","v":0},null,{"$f":"IFERROR(AM34/AM$38,\"\")","v":""},null,{"$f":"COUNTIF(AT4:AT31,\"<1,9\")-COUNTIF(AT4:AT31,\"=0\")","v":0},null,{"$f":"IFERROR(AQ34/AQ$38,\"\")","v":""},null,{"$f":"COUNTIF(AX4:AX31,\"<1,9\")-COUNTIF(AX4:AX31,\"=0\")","v":0},null,{"$f":"IFERROR(AU34/AU$38,\"\")","v":""},null,{"$f":"COUNTIF(BB4:BB31,\"<1,9\")-COUNTIF(BB4:BB31,\"=0\")","v":0},null,{"$f":"IFERROR(AY34/AY$38,\"\")","v":""},null,{"$f":"COUNTIF(BF4:BF31,\"<1,9\")-COUNTIF(BF4:BF31,\"=0\")","v":0},null,{"$f":"IFERROR(BC34/BC$38,\"\")","v":""},null,{"$f":"COUNTIF(BJ4:BJ31,\"<1,9\")-COUNTIF(BJ4:BJ31,\"=0\")","v":0},null,{"$f":"IFERROR(BG34/BG$38,\"\")","v":""},null,{"$f":"COUNTIF(BN4:BN31,\"<1,9\")-COUNTIF(BN4:BN31,\"=0\")","v":0},null,{"$f":"IFERROR(BK34/BK$38,\"\")","v":""},null,null,"Insuficiente"]
[null,"Bien",{"$f":"COUNTIF(F4:F31,\">4,5\")-COUNTIF(F4:F31,\">=6,5\")","v":0},null,{"$f":"IFERROR(C35/C$38,\"\")","v":""},null,{"$f":"COUNTIF(J4:J31,\">=1,9\")-COUNTIF(J4:J31,\">=2,7\")","v":0},null,{"$f":"IFERROR(G35/G$38,\"\")","v":""},null,{"$f":"COUNTIF(N4:N31,\">=1,9\")-COUNTIF(N4:N31,\">=2,7\")","v":0},null,{"$f":"IFERROR(K35/K$38,\"\")","v":""},null,{"$f":"COUNTIF(R4:R31,\">=1,9\")-COUNTIF(R4:R31,\">=2,7\")","v":0},null,{"$f":"IFERROR(O35/O$38,\"\")","v":""},null,{"$f":"COUNTIF(V4:V31,\">=1,9\")-COUNTIF(V4:V31,\">=2,7\")","v":0},null,{"$f":"IFERROR(S35/S$38,\"\")","v":""},null,{"$f":"COUNTIF(Z4:Z31,\">=1,9\")-COUNTIF(Z4:Z31,\">=2,7\")","v":0},null,{"$f":"IFERROR(W35/W$38,\"\")","v":""},null,{"$f":"COUNTIF(AD4:AD31,\">=1,9\")-COUNTIF(AD4:AD31,\">=2,7\")","v":0},null,{"$f":"IFERROR(AA35/AA$38,\"\")","v":""},null,{"$f":"COUNTIF(AH4:AH31,\">=1,9\")-COUNTIF(AH4:AH31,\">=2,7\")","v":0},null,{"$f":"IFERROR(AE35/AE$38,\"\")","v":""},null,{"$f":"COUNTIF(AL4:AL31,\">=1,9\")-COUNTIF(AL4:AL31,\">=2,7\")","v":0},null,{"$f":"IFERROR(AI35/AI$38,\"\")","v":""},null,{"$f":"COUNTIF(AP4:AP31,\">=1,9\")-COUNTIF(AP4:AP31,\">=2,7\")","v":0},null,{"$f":"IFERROR(AM35/AM$38,\"\")","v":""},null,{"$f":"COUNTIF(AT4:AT31,\">=1,9\")-COUNTIF(AT4:AT31,\">=2,7\")","v":0},null,{"$f":"IFERROR(AQ35/AQ$38,\"\")","v":""},null,{"$f":"COUNTIF(AX4:AX31,\">=1,9\")-COUNTIF(AX4:AX31,\">=2,7\")","v":0},null,{"$f":"IFERROR(AU35/AU$38,\"\")","v":""},null,{"$f":"COUNTIF(BB4:BB31,\">=1,9\")-COUNTIF(BB4:BB31,\">=2,7\")","v":0},null,{"$f":"IFERROR(AY35/AY$38,\"\")","v":""},null,{"$f":"COUNTIF(BF4:BF31,\">=1,9\")-COUNTIF(BF4:BF31,\">=2,7\")","v":0},null,{"$f":"IFERROR(BC35/BC$38,\"\")","v":""},null,{"$f":"COUNTIF(BJ4:BJ31,\">=1,9\")-COUNTIF(BJ4:BJ31,\">=2,7\")","v":0},null,{"$f":"IFERROR(BG35/BG$38,\"\")","v":""},null,{"$f":"COUNTIF(BN4:BN31,\">=1,9\")-COUNTIF(BN4:BN31,\">=2,7\")","v":0},null,{"$f":"IFERROR(BK35/BK$38,\"\")","v":""},null,null,"Bien"]
[null,"Notable",{"$f":"COUNTIF(F4:F31,\">6,5\")-COUNTIF(F4:F31,\">8,5\")","v":0},null,{"$f":"IFERROR(C36/C$38,\"\")","v":""},null,{"$f":"COUNTIF(J4:J31,\">=2,7\")-COUNTIF(J4:J31,\">=3,5\")","v":0},null,{"$f":"IFERROR(G36/G$38,\"\")","v":""},null,{"$f":"COUNTIF(N4:N31,\">=2,7\")-COUNTIF(N4:N31,\">=3,5\")","v":0},null,{"$f":"IFERROR(K36/K$38,\"\")","v":""},null,{"$f":"COUNTIF(R4:R31,\">=2,7\")-COUNTIF(R4:R31,\">=3,5\")","v":0},null,{"$f":"IFERROR(O36/O$38,\"\")","v":""},null,{"$f":"COUNTIF(V4:V31,\">=2,7\")-COUNTIF(V4:V31,\">=3,5\")","v":0},null,{"$f":"IFERROR(S36/S$38,\"\")","v":""},null,{"$f":"COUNTIF(Z4:Z31,\">=2,7\")-COUNTIF(Z4:Z31,\">=3,5\")","v":0},null,{"$f":"IFERROR(W36/W$38,\"\")","v":""},null,{"$f":"COUNTIF(AD4:AD31,\">=2,7\")-COUNTIF(AD4:AD31,\">=3,5\")","v":0},null,{"$f":"IFERROR(AA36/AA$38,\"\")","v":""},null,{"$f":"COUNTIF(AH4:AH31,\">=2,7\")-COUNTIF(AH4:AH31,\">=3,5\")","v":0},null,{"$f":"IFERROR(AE36/AE$38,\"\")","v":""},null,{"$f":"COUNTIF(AL4:AL31,\">=2,7\")-COUNTIF(AL4:AL31,\">=3,5\")","v":0},null,{"$f":"IFERROR(AI36/AI$38,\"\")","v":""},null,{"$f":"COUNTIF(AP4:AP31,\">=2,7\")-COUNTIF(AP4:AP31,\">=3,5\")","v":0},null,{"$f":"IFERROR(AM36/AM$38,\"\")","v":""},null,{"$f":"COUNTIF(AT4:AT31,\">=2,7\")-COUNTIF(AT4:AT31,\">=3,5\")","v":0},null,{"$f":"IFERROR(AQ36/AQ$38,\"\")","v":""},null,{"$f":"COUNTIF(AX4:AX31,\">=2,7\")-COUNTIF(AX4:AX31,\">=3,5\")","v":0},null,{"$f":"IFERROR(AU36/AU$38,\"\")","v":""},null,{"$f":"COUNTIF(BB4:BB31,\">=2,7\")-COUNTIF(BB4:BB31,\">=3,5\")","v":0},null,{"$f":"IFERROR(AY36/AY$38,\"\")","v":""},null,{"$f":"COUNTIF(BF4:BF31,\">=2,7\")-COUNTIF(BF4:BF31,\">=3,5\")","v":0},null,{"$f":"IFERROR(BC36/BC$38,\"\")","v":""},null,{"$f":"COUNTIF(BJ4:BJ31,\">=2,7\")-COUNTIF(BJ4:BJ31,\">=3,5\")","v":0},null,{"$f":"IFERROR(BG36/BG$38,\"\")","v":""},null,{"$f":"COUNTIF(BN4:BN31,\">=2,7\")-COUNTIF(BN4:BN31,\">=3,5\")","v":0},null,{"$f":"IFERROR(BK36/BK$38,\"\")","v":""},null,null,"Notable"]
[null,"Sobresaliente",{"$f":"COUNTIF(F4:F31,\">8,5\")","v":0},null,{"$f":"IFERROR(C37/C$38,\"\")","v":""},null,{"$f":"COUNTIF(J4:J31,\">=3,5\")","v":0},null,{"$f":"IFERROR(G37/G$38,\"\")","v":""},null,{"$f":"COUNTIF(N4:N31,\">=3,5\")","v":0},null,{"$f":"IFERROR(K37/K$38,\"\")","v":""},null,{"$f":"COUNTIF(R4:R31,\">=3,5\")","v":0},null,{"$f":"IFERROR(O37/O$38,\"\")","v":""},null,{"$f":"COUNTIF(V4:V31,\">=3,5\")","v":0},null,{"$f":"IFERROR(S37/S$38,\"\")","v":""},null,{"$f":"COUNTIF(Z4:Z31,\">=3,5\")","v":0},null,{"$f":"IFERROR(W37/W$38,\"\")","v":""},null,{"$f":"COUNTIF(AD4:AD31,\">=3,5\")","v":0},null,{"$f":"IFERROR(AA37/AA$38,\"\")","v":""},null,{"$f":"COUNTIF(AH4:AH31,\">=3,5\")","v":0},null,{"$f":"IFERROR(AE37/AE$38,\"\")","v":""},null,{"$f":"COUNTIF(AL4:AL31,\">=3,5\")","v":0},null,{"$f":"IFERROR(AI37/AI$38,\"\")","v":""},null,{"$f":"COUNTIF(AP4:AP31,\">=3,5\")","v":0},null,{"$f":"IFERROR(AM37/AM$38,\"\")","v":""},null,{"$f":"COUNTIF(AT4:AT31,\">=3,5\")","v":0},null,{"$f":"IFERROR(AQ37/AQ$38,\"\")","v":""},null,{"$f":"COUNTIF(AX4:AX31,\">=3,5\")","v":0},null,{"$f":"IFERROR(AU37/AU$38,\"\")","v":""},null,{"$f":"COUNTIF(BB4:BB31,\">=3,5\")","v":0},null,{"$f":"IFERROR(AY37/AY$38,\"\")","v":""},null,{"$f":"COUNTIF(BF4:BF31,\">=3,5\")","v":0},null,{"$f":"IFERROR(BC37/BC$38,\"\")","v":""},null,{"$f":"COUNTIF(BJ4:BJ31,\">=3,5\")","v":0},null,{"$f":"IFERROR(BG37/BG$38,\"\")","v":""},null,{"$f":"COUNTIF(BN4:BN31,\">=3,5\")","v":0},null,{"$f":"IFERROR(BK37/BK$38,\"\")","v":""},null,null,"Sobresaliente"]
[null,"Evaluados",{"$f":"SUM(C34:D37)","v":0},null,{"$f":"SUM(E34:F37)","v":0},null,{"$f":"SUM(G34:H37)","v":0},null,{"$f":"SUM(I34:J37)","v":0},null,{"$f":"SUM(K34:L37)","v":0},null,{"$f":"SUM(M34:N37)","v":0},null,{"$f":"SUM(O34:P37)","v":0},null,{"$f":"SUM(Q34:R37)","v":0},null,{"$f":"SUM(S34:T37)","v":0},null,{"$f":"SUM(U34:V37)","v":0},null,{"$f":"SUM(W34:X37)","v":0},null,{"$f":"SUM(Y34:Z37)","v":0},null,{"$f":"SUM(AA34:AB37)","v":0},null,{"$f":"SUM(AC34:AD37)","v":0},null,{"$f":"SUM(AE34:AF37)","v":0},null,{"$f":"SUM(AG34:AH37)","v":0},null,{"$f":"SUM(AI34:AJ37)","v":0},null,{"$f":"SUM(AK34:AL37)","v":0},null,{"$f":"SUM(AM34:AN37)","v":0},null,{"$f":"SUM(AO34:AP37)","v":0},null,{"$f":"SUM(AQ34:AR37)","v":0},null,{"$f":"SUM(AS34:AT37)","v":0},null,{"$f":"SUM(AU34:AV37)","v":0},null,{"$f":"SUM(AW34:AX37)","v":0},null,{"$f":"SUM(AY34:AZ37)","v":0},null,{"$f":"SUM(BA34:BB37)","v":0},null,{"$f":"SUM(BC34:BD37)","v":0},null,{"$f":"SUM(BE34:BF37)","v":0},null,{"$f":"SUM(BG34:BH37)","v":0},null,{"$f":"SUM(BI34:BJ37)","v":0},null,{"$f":"SUM(BK34:BL37)","v":0},null,{"$f":"SUM(BM34:BN37)","v":0},null,null,"Evaluados"]
[]
[]
[null,2,null,null,null,null,10,14,18,22,26,30,34,38,42,46,50,54,58,62,66,null,null,null,null,null,null,null,null,null,null,null,null,null,null,null,null,null,null,null,null,null,null,null,null,null,null,null,null,null,null,null,null,null,null,null,null,null,null,null,null,null,null,null,null,null,null,2]
["G","CLASE",null,null,null,{"$f":"IFERROR(VLOOKUP($A$42,$A$4:$AT$32,F41),\"\")","v":""},{"$f":"IFERROR(VLOOKUP(clase,todo,G41),\"\")","v":0},0,0,0,0,0,0,0,0,0,0,0,0,0,0,{"$f":"IFERROR(VLOOKUP($A$42,$A$4:$AT$32,V41),\"\")","v":""},{"$f":"IFERROR(VLOOKUP($A$42,$A$4:$AT$32,W41),\"\")","v":""},{"$f":"IFERROR(VLOOKUP($A$42,$A$4:$AT$32,X41),\"\")","v":""}]
[1,{"$f":"IFERROR(VLOOKUP($A$43,$A$4:$AT$32,B$41),\"\")","v":""},null,null,null,null,{"$f":"IFERROR(VLOOKUP(alumno,todo,G41),\"\")","v":""},"","","","","","","","","","","","","",""]
[null,"(Comparar con la clase)",null,null,null,null,{"$f":"IF(J3=0,\"\",J3)","v":""},{"$f":"IF(N3=0,\"\",N3)","v":""},{"$f":"IF(R3=0,\"\",R3)","v":""},{"$f":"IF(V3=0,\"\",V3)","v":""},{"$f":"IF(Z3=0,\"\",Z3)","v":""},{"$f":"IF(AD3=0,\"\",AD3)","v":""},{"$f":"IF(AH3=0,\"\",AH3)","v":""},{"$f":"IF(AL3=0,\"\",AL3)","v":""},{"$f":"IF(AP3=0,\"\",AP3)","v":""},{"$f":"IF(AT3=0,\"\",AT3)","v":""},{"$f":"IF(AX3=0,\"\",AX3)","v":""},{"$f":"IF(BB3=0,\"\",BB3)","v":""},{"$f":"IF(BF3=0,\"\",BF3)","v":""},{"$f":"IF(BJ3=0,\"\",BJ3)","v":""},{"$f":"IF(BN3=0,\"\",BN3)","v":""}]
[]
[]
[]
[]
[]
[]
[]
[]
[]
[]
[]
[]
[]
[]
[]
[null,".",null,null,null,null,null,null,null,null,null,null,null,null,null,null,null,null,null,null,null,null,null,null,null,null,null,null,null,null,null,null,null,null,null,null,null,null,null,null,null,null,null,null,null,null,null,null,null,null,null,null,null,null,null,null,null,null,null,null,null,null,null,null,null,null,null,"."]

{"sheet":"E7","index":7,"n_rows":60,"n_cols":68,"rows_kept":60,"cut":false,"hidden":false,"merged":[[38,38,38,41],[37,64,37,65],[38,2,38,5],[38,42,38,45],[38,62,38,65],[37,52,37,53],[37,54,37,55],[37,56,37,57],[37,58,37,59],[37,60,37,61],[37,62,37,63],[37,40,37,41],[37,42,37,43],[37,44,37,45],[37,46,37,47],[37,48,37,49],[37,50,37,51],[37,28,37,29],[37,30,37,31],[37,32,37,33],[37,34,37,35],[37,36,37,37],[37,38,37,39],[37,16,37,17],[37,18,37,19],[37,20,37,21],[37,22,37,23],[37,24,37,25],[37,26,37,27],[36,60,36,61],[36,62,36,63],[36,64,36,65],[37,2,37,3],[37,4,37,5],[37,6,37,7],[37,8,37,9],[37,10,37,11],[37,12,37,13],[37,14,37,15],[36,48,36,49],[36,50,36,51],[36,52,36,53],[36,54,36,55],[36,56,36,57],[36,58,36,59],[36,36,36,37],[36,38,36,39],[36,40,36,41],[36,12,36,13],[36,14,36,15],[36,16,36,17],[36,18,36,19],[36,20,36,21],[36,22,36,23],[35,56,35,57],[35,58,35,59],[35,60,35,61],[35,30,35,31],[36,42,36,43],[36,44,36,45],[36,46,36,47],[36,24,36,25],[36,26,36,27],[36,28,36,29],[36,30,36,31],[36,32,36,33],[36,34,36,35],[35,62,35,63],[35,64,35,65],[36,2,36,3],[36,4,36,5],[36,6,36,7],[36,8,36,9],[36,10,36,11],[35,44,35,45],[35,46,35,47],[35,48,35,49],[35,50,35,51],[35,52,35,53],[35,54,35,55],[35,32,35,33],[35,34,35,35],[35,36,35,37],[35,38,35,39],[35,40,35,41],[35,42,35,43],[35,20,35,21],[35,22,35,23],[35,24,35,25],[35,26,35,27],[35,28,35,29],[34,64,34,65],[35,2,35,3],[35,4,35,5],[35,6,35,7],[35,8,35,9],[35,10,35,11],[35,12,35,13],[35,14,35,15],[35,16,35,17],[35,18,35,19],[34,52,34,53],[34,54,34,55],[34,56,34,57],[34,58,34,59],[34,60,34,61],[34,62,34,63],[34,40,34,41],[34,42,34,43],[34,44,34,45],[34,46,34,47],[34,48,34,49],[34,50,34,51],[34,28,34,29],[34,30,34,31],[34,32,34,33],[34,34,34,35],[34,36,34,37],[34,38,34,39],[34,16,34,17],[34,18,34,19],[34,20,34,21],[34,22,34,23],[34,24,34,25],[34,26,34,27],[33,60,33,61],[33,62,33,63],[33,64,33,65],[34,2,34,3],[34,4,34,5],[34,6,34,7],[34,8,34,9],[34,10,34,11],[34,12,34,13],[34,14,34,15],[33,48,33,49],[33,50,33,51],[33,52,33,53],[33,54,33,55],[33,56,33,57],[33,58,33,59],[33,36,33,37],[33,38,33,39],[33,40,33,41],[33,42,33,43],[33,44,33,45],[33,46,33,47],[33,24,33,25],[33,26,33,27],[33,2,33,3],[33,4,33,5],[33,6,33,7],[33,8,33,9],[33,10,33,11],[1,26,1,29],[1,30,1,33],[1,34,1,37],[1,38,1,41],[33,28,33,29],[33,30,33,31],[33,32,33,33],[33,34,33,35],[33,12,33,13],[33,14,33,15],[33,16,33,17],[33,18,33,19],[33,20,33,21],[33,22,33,23],[2,0,2,1],[2,66,2,67],[1,0,1,1],[1,6,1,9],[1,10,1,13],[1,14,1,17],[1,18,1,21],[1,22,1,25],[1,50,1,53],[1,54,1,57],[1,58,1,61],[1,62,1,65],[1,66,1,67],[1,42,1,45],[1,46,1,49]]}
[null,null,null,null,null,null,{"$f":"IF(J3=\"\",0,IF(J32>0,J1,0))","v":0},null,null,{"$f":"IF(J3=\"\",\"\",VLOOKUP(J3,Indicadores,2,FALSE))","v":""},{"$f":"IF(N3=\"\",0,IF(N32>0,N1,0))","v":0},null,null,{"$f":"IF(N3=\"\",\"\",VLOOKUP(N3,Indicadores,2,FALSE))","v":""},{"$f":"IF(R3=\"\",0,IF(R32>0,R1,0))","v":0},null,null,{"$f":"IF(R3=\"\",\"\",VLOOKUP(R3,Indicadores,2,FALSE))","v":""},{"$f":"IF(V3=\"\",0,IF(V32>0,V1,0))","v":0},null,null,{"$f":"IF(V3=\"\",\"\",VLOOKUP(V3,Indicadores,2,FALSE))","v":""},{"$f":"IF(Z3=\"\",0,IF(Z32>0,Z1,0))","v":0},null,null,{"$f":"IF(Z3=\"\",\"\",VLOOKUP(Z3,Indicadores,2,FALSE))","v":""},{"$f":"IF(AD3=\"\",0,IF(AD32>0,AD1,0))","v":0},null,null,{"$f":"IF(AD3=\"\",\"\",VLOOKUP(AD3,Indicadores,2,FALSE))","v":""},{"$f":"IF(AH3=\"\",0,IF(AH32>0,AH1,0))","v":0},null,null,{"$f":"IF(AH3=\"\",\"\",VLOOKUP(AH3,Indicadores,2,FALSE))","v":""},{"$f":"IF(AL3=\"\",0,IF(AL32>0,AL1,0))","v":0},null,null,{"$f":"IF(AL3=\"\",\"\",VLOOKUP(AL3,Indicadores,2,FALSE))","v":""},{"$f":"IF(AP3=\"\",0,IF(AP32>0,AP1,0))","v":0},null,null,{"$f":"IF(AP3=\"\",\"\",VLOOKUP(AP3,Indicadores,2,FALSE))","v":""},{"$f":"IF(AT3=\"\",0,IF(AT32>0,AT1,0))","v":0},null,null,{"$f":"IF(AT3=\"\",\"\",VLOOKUP(AT3,Indicadores,2,FALSE))","v":""},{"$f":"IF(AX3=\"\",0,IF(AX32>0,AX1,0))","v":0},null,null,{"$f":"IF(AX3=\"\",\"\",VLOOKUP(AX3,Indicadores,2,FALSE))","v":""},{"$f":"IF(BB3=\"\",0,IF(BB32>0,BB1,0))","v":0},null,null,{"$f":"IF(BB3=\"\",\"\",VLOOKUP(BB3,Indicadores,2,FALSE))","v":""},{"$f":"IF(BF3=\"\",0,IF(BF32>0,BF1,0))","v":0},null,null,{"$f":"IF(BF3=\"\",\"\",VLOOKUP(BF3,Indicadores,2,FALSE))","v":""},{"$f":"IF(BJ3=\"\",0,IF(BJ32>0,BJ1,0))","v":0},null,null,{"$f":"IF(BJ3=\"\",\"\",VLOOKUP(BJ3,Indicadores,2,FALSE))","v":""},{"$f":"IF(BN3=\"\",0,IF(BN32>0,BN1,0))","v":0},null,null,{"$f":"IF(BN3=\"\",\"\",VLOOKUP(BN3,Indicadores,2,FALSE))","v":""}]
[{"$f":"Al!D2 & CHAR(10)  & Al!D5  & CHAR(32) & Al!B5","v":"AVE MARÍA ALBOLOTE\nRÚBRICAS LENGUA 1º"},null,null,"Total puntos","Puntuación sobre 4","Puntuación sobre 10",{"$f":"IF(J3=\"\",\"\",VLOOKUP(J3,Indicadores,3,FALSE))","v":""},null,null,null,{"$f":"IF(N3=\"\",\"\",VLOOKUP(N3,Indicadores,3,FALSE))","v":""},null,null,null,{"$f":"IF(R3=\"\",\"\",VLOOKUP(R3,Indicadores,3,FALSE))","v":""},null,null,null,{"$f":"IF(V3=\"\",\"\",VLOOKUP(V3,Indicadores,3,FALSE))","v":""},null,null,null,{"$f":"IF(Z3=\"\",\"\",VLOOKUP(Z3,Indicadores,3,FALSE))","v":""},null,null,null,{"$f":"IF(AD3=\"\",\"\",VLOOKUP(AD3,Indicadores,3,FALSE))","v":""},null,null,null,{"$f":"IF(AH3=\"\",\"\",VLOOKUP(AH3,Indicadores,3,FALSE))","v":""},null,null,null,{"$f":"IF(AL3=\"\",\"\",VLOOKUP(AL3,Indicadores,3,FALSE))","v":""},null,null,null,{"$f":"IF(AP3=\"\",\"\",VLOOKUP(AP3,Indicadores,3,FALSE))","v":""},null,null,null,{"$f":"IF(AT3=\"\",\"\",VLOOKUP(AT3,Indicadores,3,FALSE))","v":""},null,null,null,{"$f":"IF(AX3=\"\",\"\",VLOOKUP(AX3,Indicadores,3,FALSE))","v":""},null,null,null,{"$f":"IF(BB3=\"\",\"\",VLOOKUP(BB3,Indicadores,3,FALSE))","v":""},null,null,null,{"$f":"IF(BF3=\"\",\"\",VLOOKUP(BF3,Indicadores,3,FALSE))","v":""},null,null,null,{"$f":"IF(BJ3=\"\",\"\",VLOOKUP(BJ3,Indicadores,3,FALSE))","v":""},null,null,null,{"$f":"IF(BN3=\"\",\"\",VLOOKUP(BN3,Indicadores,3,FALSE))","v":""}]
[null,null,null,{"$f":"SUM(Valores)*4","v":0},4,10,null,null,null,null,null,null,null,null,null,null,null,null,null,null,null,null,null,null,null,null,null,null,null,null,null,null,null,null,null,null,null,null,null,null,null,null,null,null,null,null,null,null,null,null,null,null,null,null,null,null,null,null,null,null,null,null,null,null,null,null,{"$f":"A3","v":0}]
[{"$f":"IF(Al!D9=\"\",\"\",Al!C9)","v":""},{"$f":"IF(Al!D9=\"\",\"\",Al!D9)","v":""},null,{"$f":"IF((J4*V.01+N4*V.02+R4*V.03+V4*V.04+Z4*V.05+AD4*V.06+AH4*V.07+AL4*V.08+AP4*V.09+AT4*V.10+AX4*V.11+BB4*V.12+BF4*V.13+BJ4*V.14+BN4*V.15)=0,\"\",J4*V.01+N4*V.02+R4*V.03+V4*V.04+Z4*V.05+AD4*V.06+AH4*V.07+AL4*V.08+AP4*V.09+AT4*V.10+AX4*V.11+BB4*V.12+BF4*V.13+BJ4*V.14+BN4*V.15)","v":""},{"$f":"IF(D4=\"\",\"\",D4*Punt4/total)","v":""},{"$f":"IF(D4=\"\",\"\",D4*Punt10/total)","v":""},null,null,null,{"$f":"IFERROR(AVERAGE(G4:I4),0)","v":0},null,null,null,{"$f":"IFERROR(AVERAGE(K4:M4),0)","v":0},null,null,null,{"$f":"IFERROR(AVERAGE(O4:Q4),0)","v":0},null,null,null,{"$f":"IFERROR(AVERAGE(S4:U4),0)","v":0},null,null,null,{"$f":"IFERROR(AVERAGE(W4:Y4),0)","v":0},null,null,null,{"$f":"IFERROR(AVERAGE(AA4:AC4),0)","v":0},null,null,null,{"$f":"IFERROR(AVERAGE(AE4:AG4),0)","v":0},null,null,null,{"$f":"IFERROR(AVERAGE(AI4:AK4),0)","v":0},null,null,null,{"$f":"IFERROR(AVERAGE(AM4:AO4),0)","v":0},null,null,null,{"$f":"IFERROR(AVERAGE(AQ4:AS4),0)","v":0},null,null,null,{"$f":"IFERROR(AVERAGE(AU4:AW4),0)","v":0},null,null,null,{"$f":"IFERROR(AVERAGE(AY4:BA4),0)","v":0},null,null,null,{"$f":"IFERROR(AVERAGE(BC4:BE4),0)","v":0},null,null,null,{"$f":"IFERROR(AVERAGE(BG4:BI4),0)","v":0},null,null,null,{"$f":"IFERROR(AVERAGE(BK4:BM4),0)","v":0},{"$f":"A4","v":""},{"$f":"B4","v":""}]
[{"$f":"IF(Al!D10=\"\",\"\",Al!C10)","v":""},{"$f":"IF(Al!D10=\"\",\"\",Al!D10)","v":""},null,"","","",null,null,null,0,null,null,null,0,null,null,null,0,null,null,null,0,null,null,null,0,null,null,null,0,null,null,null,0,null,null,null,0,null,null,null,0,null,null,null,0,null,null,null,0,null,null,null,0,null,null,null,0,null,null,null,0,null,null,null,0,{"$f":"A5","v":""},""]
[{"$f":"IF(Al!D11=\"\",\"\",Al!C11)","v":""},{"$f":"IF(Al!D11=\"\",\"\",Al!D11)","v":""},null,"","","",null,null,null,0,null,null,null,0,null,null,null,0,null,null,null,0,null,null,null,0,null,null,null,0,null,null,null,0,null,null,null,0,null,null,null,0,null,null,null,0,null,null,null,0,null,null,null,0,null,null,null,0,null,null,null,0,null,null,null,0,"",""]
[{"$f":"IF(Al!D12=\"\",\"\",Al!C12)","v":""},{"$f":"IF(Al!D12=\"\",\"\",Al!D12)","v":""},null,"","","",null,null,null,0,null,null,null,0,null,null,null,0,null,null,null,0,null,null,null,0,null,null,null,0,null,null,null,0,null,null,null,0,null,null,null,0,null,null,null,0,null,null,null,0,null,null,null,0,null,null,null,0,null,null,null,0,null,null,null,0,"",""]
[{"$f":"IF(Al!D13=\"\",\"\",Al!C13)","v":""},{"$f":"IF(Al!D13=\"\",\"\",Al!D13)","v":""},null,"","","",null,null,null,0,null,null,null,0,null,null,null,0,null,null,null,0,null,null,null,0,null,null,null,0,null,null,null,0,null,null,null,0,null,null,null,0,null,null,null,0,null,null,null,0,null,null,null,0,null,null,null,0,null,null,null,0,null,null,null,0,"",""]
[{"$f":"IF(Al!D14=\"\",\"\",Al!C14)","v":""},{"$f":"IF(Al!D14=\"\",\"\",Al!D14)","v":""},null,"","","",null,null,null,0,null,null,null,0,null,null,null,0,null,null,null,0,null,null,null,0,null,null,null,0,null,null,null,0,null,null,null,0,null,null,null,0,null,null,null,0,null,null,null,0,null,null,null,0,null,null,null,0,null,null,null,0,null,null,null,0,"",""]
[{"$f":"IF(Al!D15=\"\",\"\",Al!C15)","v":""},{"$f":"IF(Al!D15=\"\",\"\",Al!D15)","v":""},null,"","","",null,null,null,0,null,null,null,0,null,null,null,0,null,null,null,0,null,null,null,0,null,null,null,0,null,null,null,0,null,null,null,0,null,null,null,0,null,null,null,0,null,null,null,0,null,null,null,0,null,null,null,0,null,null,null,0,null,null,null,0,"",""]
[{"$f":"IF(Al!D16=\"\",\"\",Al!C16)","v":""},{"$f":"IF(Al!D16=\"\",\"\",Al!D16)","v":""},null,"","","",null,null,null,0,null,null,null,0,null,null,null,0,null,null,null,0,null,null,null,0,null,null,null,0,null,null,null,0,null,null,null,0,null,null,null,0,null,null,null,0,null,null,null,0,null,null,null,0,null,null,null,0,null,null,null,0,null,null,null,0,"",""]
[{"$f":"IF(Al!D17=\"\",\"\",Al!C17)","v":""},{"$f":"IF(Al!D17=\"\",\"\",Al!D17)","v":""},null,"","","",null,null,null,0,null,null,null,0,null,null,null,0,null,null,null,0,null,null,null,0,null,null,null,0,null,null,null,0,null,null,null,0,null,null,null,0,null,null,null,0,null,null,null,0,null,null,null,0,null,null,null,0,null,null,null,0,null,null,null,0,"",""]
[{"$f":"IF(Al!D18=\"\",\"\",Al!C18)","v":""},{"$f":"IF(Al!D18=\"\",\"\",Al!D18)","v":""},null,"","","",null,null,null,0,null,null,null,0,null,null,null,0,null,null,null,0,null,null,null,0,null,null,null,0,null,null,null,0,null,null,null,0,null,null,null,0,null,null,null,0,null,null,null,0,null,null,null,0,null,null,null,0,null,null,null,0,null,null,null,0,"",""]
[{"$f":"IF(Al!D19=\"\",\"\",Al!C19)","v":""},{"$f":"IF(Al!D19=\"\",\"\",Al!D19)","v":""},null,"","","",null,null,null,0,null,null,null,0,null,null,null,0,null,null,null,0,null,null,null,0,null,null,null,0,null,null,null,0,null,null,null,0,null,null,null,0,null,null,null,0,null,null,null,0,null,null,null,0,null,null,null,0,null,null,null,0,null,null,null,0,"",""]
[{"$f":"IF(Al!D20=\"\",\"\",Al!C20)","v":""},{"$f":"IF(Al!D20=\"\",\"\",Al!D20)","v":""},null,"","","",null,null,null,0,null,null,null,0,null,null,null,0,null,null,null,0,null,null,null,0,null,null,null,0,null,null,null,0,null,null,null,0,null,null,null,0,null,null,null,0,null,null,null,0,null,null,null,0,null,null,null,0,null,null,null,0,null,null,null,0,"",""]
[{"$f":"IF(Al!D21=\"\",\"\",Al!C21)","v":""},{"$f":"IF(Al!D21=\"\",\"\",Al!D21)","v":""},null,"","","",null,null,null,0,null,null,null,0,null,null,null,0,null,null,null,0,null,null,null,0,null,null,null,0,null,null,null,0,null,null,null,0,null,null,null,0,null,null,null,0,null,null,null,0,null,null,null,0,null,null,null,0,null,null,null,0,null,null,null,0,"",""]
[{"$f":"IF(Al!D22=\"\",\"\",Al!C22)","v":""},{"$f":"IF(Al!D22=\"\",\"\",Al!D22)","v":""},null,"","","",null,null,null,0,null,null,null,0,null,null,null,0,null,null,null,0,null,null,null,0,null,null,null,0,null,null,null,0,null,null,null,0,null,null,null,0,null,null,null,0,null,null,null,0,null,null,null,0,null,null,null,0,null,null,null,0,null,null,null,0,"",""]
[{"$f":"IF(Al!D23=\"\",\"\",Al!C23)","v":""},{"$f":"IF(Al!D23=\"\",\"\",Al!D23)","v":""},null,"","","",null,null,null,0,null,null,null,0,null,null,null,0,null,null,null,0,null,null,null,0,null,null,null,0,null,null,null,0,null,null,null,0,null,null,null,0,null,null,null,0,null,null,null,0,null,null,null,0,null,null,null,0,null,null,null,0,null,null,null,0,"",""]
[{"$f":"IF(Al!D24=\"\",\"\",Al!C24)","v":""},{"$f":"IF(Al!D24=\"\",\"\",Al!D24)","v":""},null,"","","",null,null,null,0,null,null,null,0,null,null,null,0,null,null,null,0,null,null,null,0,null,null,null,0,null,null,null,0,null,null,null,0,null,null,null,0,null,null,null,0,null,null,null,0,null,null,null,0,null,null,null,0,null,null,null,0,null,null,null,0,"",""]
[{"$f":"IF(Al!D25=\"\",\"\",Al!C25)","v":""},{"$f":"IF(Al!D25=\"\",\"\",Al!D25)","v":""},null,"","","",null,null,null,0,null,null,null,0,null,null,null,0,null,null,null,0,null,null,null,0,null,null,null,0,null,null,null,0,null,null,null,0,null,null,null,0,null,null,null,0,null,null,null,0,null,null,null,0,null,null,null,0,null,null,null,0,null,null,null,0,"",""]
[{"$f":"IF(Al!D26=\"\",\"\",Al!C26)","v":""},{"$f":"IF(Al!D26=\"\",\"\",Al!D26)","v":""},null,"","","",null,null,null,0,null,null,null,0,null,null,null,0,null,null,null,0,null,null,null,0,null,null,null,0,null,null,null,0,null,null,null,0,null,null,null,0,null,null,null,0,null,null,null,0,null,null,null,0,null,null,null,0,null,null,null,0,null,null,null,0,"",""]
[{"$f":"IF(Al!D27=\"\",\"\",Al!C27)","v":""},{"$f":"IF(Al!D27=\"\",\"\",Al!D27)","v":""},null,"","","",null,null,null,0,null,null,null,0,null,null,null,0,null,null,null,0,null,null,null,0,null,null,null,0,null,null,null,0,null,null,null,0,null,null,null,0,null,null,null,0,null,null,null,0,null,null,null,0,null,null,null,0,null,null,null,0,null,null,null,0,"",""]
[{"$f":"IF(Al!D28=\"\",\"\",Al!C28)","v":""},{"$f":"IF(Al!D28=\"\",\"\",Al!D28)","v":""},null,"","","",null,null,null,0,null,null,null,0,null,null,null,0,null,null,null,0,null,null,null,0,null,null,null,0,null,null,null,0,null,null,null,0,null,null,null,0,null,null,null,0,null,null,null,0,null,null,null,0,null,null,null,0,null,null,null,0,null,null,null,0,"",""]
[{"$f":"IF(Al!D29=\"\",\"\",Al!C29)","v":""},{"$f":"IF(Al!D29=\"\",\"\",Al!D29)","v":""},null,"","","",null,null,null,0,null,null,null,0,null,null,null,0,null,null,null,0,null,null,null,0,null,null,null,0,null,null,null,0,null,null,null,0,null,null,null,0,null,null,null,0,null,null,null,0,null,null,null,0,null,null,null,0,null,null,null,0,null,null,null,0,"",""]
[{"$f":"IF(Al!D30=\"\",\"\",Al!C30)","v":""},{"$f":"IF(Al!D30=\"\",\"\",Al!D30)","v":""},null,"","","",null,null,null,0,null,null,null,0,null,null,null,0,null,null,null,0,null,null,null,0,null,null,null,0,null,null,null,0,null,null,null,0,null,null,null,0,null,null,null,0,null,null,null,0,null,null,null,0,null,null,null,0,null,null,null,0,null,null,null,0,"",""]
[{"$f":"IF(Al!D31=\"\",\"\",Al!C31)","v":""},{"$f":"IF(Al!D31=\"\",\"\",Al!D31)","v":""},null,"","","",null,null,null,0,null,null,null,0,null,null,null,0,null,null,null,0,null,null,null,0,null,null,null,0,null,null,null,0,null,null,null,0,null,null,null,0,null,null,null,0,null,null,null,0,null,null,null,0,null,null,null,0,null,null,null,0,null,null,null,0,"",""]
[{"$f":"IF(Al!D32=\"\",\"\",Al!C32)","v":""},{"$f":"IF(Al!D32=\"\",\"\",Al!D32)","v":""},null,"","","",null,null,null,0,null,null,null,0,null,null,null,0,null,null,null,0,null,null,null,0,null,null,null,0,null,null,null,0,null,null,null,0,null,null,null,0,null,null,null,0,null,null,null,0,null,null,null,0,null,null,null,0,null,null,null,0,null,null,null,0,"",""]
[{"$f":"IF(Al!D33=\"\",\"\",Al!C33)","v":""},{"$f":"IF(Al!D33=\"\",\"\",Al!D33)","v":""},null,"","","",null,null,null,0,null,null,null,0,null,null,null,0,null,null,null,0,null,null,null,0,null,null,null,0,null,null,null,0,null,null,null,0,null,null,null,0,null,null,null,0,null,null,null,0,null,null,null,0,null,null,null,0,null,null,null,0,null,null,null,0,"",""]
[{"$f":"IF(Al!D34=\"\",\"\",Al!C34)","v":""},{"$f":"IF(Al!D34=\"\",\"\",Al!D34)","v":""},null,"","","",null,null,null,0,null,null,null,0,null,null,null,0,null,null,null,0,null,null,null,0,null,null,null,0,null,null,null,0,null,null,null,0,null,null,null,0,null,null,null,0,null,null,null,0,null,null,null,0,null,null,null,0,null,null,null,0,null,null,null,0,"",""]
[{"$f":"IF(Al!D35=\"\",\"\",Al!C35)","v":""},{"$f":"IF(Al!D35=\"\",\"\",Al!D35)","v":""},null,"","","",null,null,null,0,null,null,null,0,null,null,null,0,null,null,null,0,null,null,null,0,null,null,null,0,null,null,null,0,null,null,null,0,null,null,null,0,null,null,null,0,null,null,null,0,null,null,null,0,null,null,null,0,null,null,null,0,null,null,null,0,"",""]
[{"$f":"IF(Al!D36=\"\",\"\",Al!C36)","v":""},{"$f":"IF(Al!D36=\"\",\"\",Al!D36)","v":""},null,"","","",null,null,null,0,null,null,null,0,null,null,null,0,null,null,null,0,null,null,null,0,null,null,null,0,null,null,null,0,null,null,null,0,null,null,null,0,null,null,null,0,null,null,null,0,null,null,null,0,null,null,null,0,null,null,null,0,null,null,null,0,"",""]
["G","GLOBAL",null,null,{"$f":"IFERROR(AVERAGEIF(E4:E31,\">0\"),0)","v":0},{"$f":"IFERROR(AVERAGEIF(F4:F31,\">0\"),0)","v":0},null,null,null,{"$f":"IFERROR(AVERAGEIF(J4:J31,\">0\"),0)","v":0},null,null,null,{"$f":"IFERROR(AVERAGEIF(N4:N31,\">0\"),0)","v":0},null,null,null,{"$f":"IFERROR(AVERAGEIF(R4:R31,\">0\"),0)","v":0},null,null,null,{"$f":"IFERROR(AVERAGEIF(V4:V31,\">0\"),0)","v":0},null,null,null,{"$f":"IFERROR(AVERAGEIF(Z4:Z31,\">0\"),0)","v":0},null,null,null,{"$f":"IFERROR(AVERAGEIF(AD4:AD31,\">0\"),0)","v":0},null,null,null,{"$f":"IFERROR(AVERAGEIF(AH4:AH31,\">0\"),0)","v":0},null,null,null,{"$f":"IFERROR(AVERAGEIF(AL4:AL31,\">0\"),0)","v":0},null,null,null,{"$f":"IFERROR(AVERAGEIF(AP4:AP31,\">0\"),0)","v":0},null,null,null,{"$f":"IFERROR(AVERAGEIF(AT4:AT31,\">0\"),0)","v":0},null,null,null,{"$f":"IFERROR(AVERAGEIF(AX4:AX31,\">0\"),0)","v":0},null,null,null,{"$f":"IFERROR(AVERAGEIF(BB4:BB31,\">0\"),0)","v":0},null,null,null,{"$f":"IFERROR(AVERAGEIF(BF4:BF31,\">0\"),0)","v":0},null,null,null,{"$f":"IFERROR(AVERAGEIF(BJ4:BJ31,\">0\"),0)","v":0},null,null,null,{"$f":"IFERROR(AVERAGEIF(BN4:BN31,\">0\"),0)","v":0}]
[]
[null,"Insuficiente",{"$f":"COUNTIF(F4:F31,\"<4,5\")-COUNTIF(F4:F31,\"=0\")","v":0},null,{"$f":"IFERROR(C34/C$38,\"\")","v":""},null,{"$f":"COUNTIF(J4:J31,\"<1,9\")-COUNTIF(J4:J31,\"=0\")","v":0},null,{"$f":"IFERROR(G34/G$38,\"\")","v":""},null,{"$f":"COUNTIF(N4:N31,\"<1,9\")-COUNTIF(N4:N31,\"=0\")","v":0},null,{"$f":"IFERROR(K34/K$38,\"\")","v":""},null,{"$f":"COUNTIF(R4:R31,\"<1,9\")-COUNTIF(R4:R31,\"=0\")","v":0},null,{"$f":"IFERROR(O34/O$38,\"\")","v":""},null,{"$f":"COUNTIF(V4:V31,\"<1,9\")-COUNTIF(V4:V31,\"=0\")","v":0},null,{"$f":"IFERROR(S34/S$38,\"\")","v":""},null,{"$f":"COUNTIF(Z4:Z31,\"<1,9\")-COUNTIF(Z4:Z31,\"=0\")","v":0},null,{"$f":"IFERROR(W34/W$38,\"\")","v":""},null,{"$f":"COUNTIF(AD4:AD31,\"<1,9\")-COUNTIF(AD4:AD31,\"=0\")","v":0},null,{"$f":"IFERROR(AA34/AA$38,\"\")","v":""},null,{"$f":"COUNTIF(AH4:AH31,\"<1,9\")-COUNTIF(AH4:AH31,\"=0\")","v":0},null,{"$f":"IFERROR(AE34/AE$38,\"\")","v":""},null,{"$f":"COUNTIF(AL4:AL31,\"<1,9\")-COUNTIF(AL4:AL31,\"=0\")","v":0},null,{"$f":"IFERROR(AI34/AI$38,\"\")","v":""},null,{"$f":"COUNTIF(AP4:AP31,\"<1,9\")-COUNTIF(AP4:AP31,\"=0\")","v":0},null,{"$f":"IFERROR(AM34/AM$38,\"\")","v":""},null,{"$f":"COUNTIF(AT4:AT31,\"<1,9\")-COUNTIF(AT4:AT31,\"=0\")","v":0},null,{"$f":"IFERROR(AQ34/AQ$38,\"\")","v":""},null,{"$f":"COUNTIF(AX4:AX31,\"<1,9\")-COUNTIF(AX4:AX31,\"=0\")","v":0},null,{"$f":"IFERROR(AU34/AU$38,\"\")","v":""},null,{"$f":"COUNTIF(BB4:BB31,\"<1,9\")-COUNTIF(BB4:BB31,\"=0\")","v":0},null,{"$f":"IFERROR(AY34/AY$38,\"\")","v":""},null,{"$f":"COUNTIF(BF4:BF31,\"<1,9\")-COUNTIF(BF4:BF31,\"=0\")","v":0},null,{"$f":"IFERROR(BC34/BC$38,\"\")","v":""},null,{"$f":"COUNTIF(BJ4:BJ31,\"<1,9\")-COUNTIF(BJ4:BJ31,\"=0\")","v":0},null,{"$f":"IFERROR(BG34/BG$38,\"\")","v":""},null,{"$f":"COUNTIF(BN4:BN31,\"<1,9\")-COUNTIF(BN4:BN31,\"=0\")","v":0},null,{"$f":"IFERROR(BK34/BK$38,\"\")","v":""},null,null,"Insuficiente"]
[null,"Bien",{"$f":"COUNTIF(F4:F31,\">4,5\")-COUNTIF(F4:F31,\">=6,5\")","v":0},null,{"$f":"IFERROR(C35/C$38,\"\")","v":""},null,{"$f":"COUNTIF(J4:J31,\">=1,9\")-COUNTIF(J4:J31,\">=2,7\")","v":0},null,{"$f":"IFERROR(G35/G$38,\"\")","v":""},null,{"$f":"COUNTIF(N4:N31,\">=1,9\")-COUNTIF(N4:N31,\">=2,7\")","v":0},null,{"$f":"IFERROR(K35/K$38,\"\")","v":""},null,{"$f":"COUNTIF(R4:R31,\">=1,9\")-COUNTIF(R4:R31,\">=2,7\")","v":0},null,{"$f":"IFERROR(O35/O$38,\"\")","v":""},null,{"$f":"COUNTIF(V4:V31,\">=1,9\")-COUNTIF(V4:V31,\">=2,7\")","v":0},null,{"$f":"IFERROR(S35/S$38,\"\")","v":""},null,{"$f":"COUNTIF(Z4:Z31,\">=1,9\")-COUNTIF(Z4:Z31,\">=2,7\")","v":0},null,{"$f":"IFERROR(W35/W$38,\"\")","v":""},null,{"$f":"COUNTIF(AD4:AD31,\">=1,9\")-COUNTIF(AD4:AD31,\">=2,7\")","v":0},null,{"$f":"IFERROR(AA35/AA$38,\"\")","v":""},null,{"$f":"COUNTIF(AH4:AH31,\">=1,9\")-COUNTIF(AH4:AH31,\">=2,7\")","v":0},null,{"$f":"IFERROR(AE35/AE$38,\"\")","v":""},null,{"$f":"COUNTIF(AL4:AL31,\">=1,9\")-COUNTIF(AL4:AL31,\">=2,7\")","v":0},null,{"$f":"IFERROR(AI35/AI$38,\"\")","v":""},null,{"$f":"COUNTIF(AP4:AP31,\">=1,9\")-COUNTIF(AP4:AP31,\">=2,7\")","v":0},null,{"$f":"IFERROR(AM35/AM$38,\"\")","v":""},null,{"$f":"COUNTIF(AT4:AT31,\">=1,9\")-COUNTIF(AT4:AT31,\">=2,7\")","v":0},null,{"$f":"IFERROR(AQ35/AQ$38,\"\")","v":""},null,{"$f":"COUNTIF(AX4:AX31,\">=1,9\")-COUNTIF(AX4:AX31,\">=2,7\")","v":0},null,{"$f":"IFERROR(AU35/AU$38,\"\")","v":""},null,{"$f":"COUNTIF(BB4:BB31,\">=1,9\")-COUNTIF(BB4:BB31,\">=2,7\")","v":0},null,{"$f":"IFERROR(AY35/AY$38,\"\")","v":""},null,{"$f":"COUNTIF(BF4:BF31,\">=1,9\")-COUNTIF(BF4:BF31,\">=2,7\")","v":0},null,{"$f":"IFERROR(BC35/BC$38,\"\")","v":""},null,{"$f":"COUNTIF(BJ4:BJ31,\">=1,9\")-COUNTIF(BJ4:BJ31,\">=2,7\")","v":0},null,{"$f":"IFERROR(BG35/BG$38,\"\")","v":""},null,{"$f":"COUNTIF(BN4:BN31,\">=1,9\")-COUNTIF(BN4:BN31,\">=2,7\")","v":0},null,{"$f":"IFERROR(BK35/BK$38,\"\")","v":""},null,null,"Bien"]
[null,"Notable",{"$f":"COUNTIF(F4:F31,\">6,5\")-COUNTIF(F4:F31,\">8,5\")","v":0},null,{"$f":"IFERROR(C36/C$38,\"\")","v":""},null,{"$f":"COUNTIF(J4:J31,\">=2,7\")-COUNTIF(J4:J31,\">=3,5\")","v":0},null,{"$f":"IFERROR(G36/G$38,\"\")","v":""},null,{"$f":"COUNTIF(N4:N31,\">=2,7\")-COUNTIF(N4:N31,\">=3,5\")","v":0},null,{"$f":"IFERROR(K36/K$38,\"\")","v":""},null,{"$f":"COUNTIF(R4:R31,\">=2,7\")-COUNTIF(R4:R31,\">=3,5\")","v":0},null,{"$f":"IFERROR(O36/O$38,\"\")","v":""},null,{"$f":"COUNTIF(V4:V31,\">=2,7\")-COUNTIF(V4:V31,\">=3,5\")","v":0},null,{"$f":"IFERROR(S36/S$38,\"\")","v":""},null,{"$f":"COUNTIF(Z4:Z31,\">=2,7\")-COUNTIF(Z4:Z31,\">=3,5\")","v":0},null,{"$f":"IFERROR(W36/W$38,\"\")","v":""},null,{"$f":"COUNTIF(AD4:AD31,\">=2,7\")-COUNTIF(AD4:AD31,\">=3,5\")","v":0},null,{"$f":"IFERROR(AA36/AA$38,\"\")","v":""},null,{"$f":"COUNTIF(AH4:AH31,\">=2,7\")-COUNTIF(AH4:AH31,\">=3,5\")","v":0},null,{"$f":"IFERROR(AE36/AE$38,\"\")","v":""},null,{"$f":"COUNTIF(AL4:AL31,\">=2,7\")-COUNTIF(AL4:AL31,\">=3,5\")","v":0},null,{"$f":"IFERROR(AI36/AI$38,\"\")","v":""},null,{"$f":"COUNTIF(AP4:AP31,\">=2,7\")-COUNTIF(AP4:AP31,\">=3,5\")","v":0},null,{"$f":"IFERROR(AM36/AM$38,\"\")","v":""},null,{"$f":"COUNTIF(AT4:AT31,\">=2,7\")-COUNTIF(AT4:AT31,\">=3,5\")","v":0},null,{"$f":"IFERROR(AQ36/AQ$38,\"\")","v":""},null,{"$f":"COUNTIF(AX4:AX31,\">=2,7\")-COUNTIF(AX4:AX31,\">=3,5\")","v":0},null,{"$f":"IFERROR(AU36/AU$38,\"\")","v":""},null,{"$f":"COUNTIF(BB4:BB31,\">=2,7\")-COUNTIF(BB4:BB31,\">=3,5\")","v":0},null,{"$f":"IFERROR(AY36/AY$38,\"\")","v":""},null,{"$f":"COUNTIF(BF4:BF31,\">=2,7\")-COUNTIF(BF4:BF31,\">=3,5\")","v":0},null,{"$f":"IFERROR(BC36/BC$38,\"\")","v":""},null,{"$f":"COUNTIF(BJ4:BJ31,\">=2,7\")-COUNTIF(BJ4:BJ31,\">=3,5\")","v":0},null,{"$f":"IFERROR(BG36/BG$38,\"\")","v":""},null,{"$f":"COUNTIF(BN4:BN31,\">=2,7\")-COUNTIF(BN4:BN31,\">=3,5\")","v":0},null,{"$f":"IFERROR(BK36/BK$38,\"\")","v":""},null,null,"Notable"]
[null,"Sobresaliente",{"$f":"COUNTIF(F4:F31,\">8,5\")","v":0},null,{"$f":"IFERROR(C37/C$38,\"\")","v":""},null,{"$f":"COUNTIF(J4:J31,\">=3,5\")","v":0},null,{"$f":"IFERROR(G37/G$38,\"\")","v":""},null,{"$f":"COUNTIF(N4:N31,\">=3,5\")","v":0},null,{"$f":"IFERROR(K37/K$38,\"\")","v":""},null,{"$f":"COUNTIF(R4:R31,\">=3,5\")","v":0},null,{"$f":"IFERROR(O37/O$38,\"\")","v":""},null,{"$f":"COUNTIF(V4:V31,\">=3,5\")","v":0},null,{"$f":"IFERROR(S37/S$38,\"\")","v":""},null,{"$f":"COUNTIF(Z4:Z31,\">=3,5\")","v":0},null,{"$f":"IFERROR(W37/W$38,\"\")","v":""},null,{"$f":"COUNTIF(AD4:AD31,\">=3,5\")","v":0},null,{"$f":"IFERROR(AA37/AA$38,\"\")","v":""},null,{"$f":"COUNTIF(AH4:AH31,\">=3,5\")","v":0},null,{"$f":"IFERROR(AE37/AE$38,\"\")","v":""},null,{"$f":"COUNTIF(AL4:AL31,\">=3,5\")","v":0},null,{"$f":"IFERROR(AI37/AI$38,\"\")","v":""},null,{"$f":"COUNTIF(AP4:AP31,\">=3,5\")","v":0},null,{"$f":"IFERROR(AM37/AM$38,\"\")","v":""},null,{"$f":"COUNTIF(AT4:AT31,\">=3,5\")","v":0},null,{"$f":"IFERROR(AQ37/AQ$38,\"\")","v":""},null,{"$f":"COUNTIF(AX4:AX31,\">=3,5\")","v":0},null,{"$f":"IFERROR(AU37/AU$38,\"\")","v":""},null,{"$f":"COUNTIF(BB4:BB31,\">=3,5\")","v":0},null,{"$f":"IFERROR(AY37/AY$38,\"\")","v":""},null,{"$f":"COUNTIF(BF4:BF31,\">=3,5\")","v":0},null,{"$f":"IFERROR(BC37/BC$38,\"\")","v":""},null,{"$f":"COUNTIF(BJ4:BJ31,\">=3,5\")","v":0},null,{"$f":"IFERROR(BG37/BG$38,\"\")","v":""},null,{"$f":"COUNTIF(BN4:BN31,\">=3,5\")","v":0},null,{"$f":"IFERROR(BK37/BK$38,\"\")","v":""},null,null,"Sobresaliente"]
[null,"Evaluados",{"$f":"SUM(C34:D37)","v":0},null,{"$f":"SUM(E34:F37)","v":0},null,{"$f":"SUM(G34:H37)","v":0},null,{"$f":"SUM(I34:J37)","v":0},null,{"$f":"SUM(K34:L37)","v":0},null,{"$f":"SUM(M34:N37)","v":0},null,{"$f":"SUM(O34:P37)","v":0},null,{"$f":"SUM(Q34:R37)","v":0},null,{"$f":"SUM(S34:T37)","v":0},null,{"$f":"SUM(U34:V37)","v":0},null,{"$f":"SUM(W34:X37)","v":0},null,{"$f":"SUM(Y34:Z37)","v":0},null,{"$f":"SUM(AA34:AB37)","v":0},null,{"$f":"SUM(AC34:AD37)","v":0},null,{"$f":"SUM(AE34:AF37)","v":0},null,{"$f":"SUM(AG34:AH37)","v":0},null,{"$f":"SUM(AI34:AJ37)","v":0},null,{"$f":"SUM(AK34:AL37)","v":0},null,{"$f":"SUM(AM34:AN37)","v":0},null,{"$f":"SUM(AO34:AP37)","v":0},null,{"$f":"SUM(AQ34:AR37)","v":0},null,{"$f":"SUM(AS34:AT37)","v":0},null,{"$f":"SUM(AU34:AV37)","v":0},null,{"$f":"SUM(AW34:AX37)","v":0},null,{"$f":"SUM(AY34:AZ37)","v":0},null,{"$f":"SUM(BA34:BB37)","v":0},null,{"$f":"SUM(BC34:BD37)","v":0},null,{"$f":"SUM(BE34:BF37)","v":0},null,{"$f":"SUM(BG34:BH37)","v":0},null,{"$f":"SUM(BI34:BJ37)","v":0},null,{"$f":"SUM(BK34:BL37)","v":0},null,{"$f":"SUM(BM34:BN37)","v":0},null,null,"Evaluados"]
[]
[]
[null,2,null,null,null,null,10,14,18,22,26,30,34,38,42,46,50,54,58,62,66,null,null,null,null,null,null,null,null,null,null,null,null,null,null,null,null,null,null,null,null,null,null,null,null,null,null,null,null,null,null,null,null,null,null,null,null,null,null,null,null,null,null,null,null,null,null,2]
["G","CLASE",null,null,null,{"$f":"IFERROR(VLOOKUP($A$42,$A$4:$AT$32,F41),\"\")","v":""},{"$f":"IFERROR(VLOOKUP(clase,todo,G41),\"\")","v":0},0,0,0,0,0,0,0,0,0,0,0,0,0,0,{"$f":"IFERROR(VLOOKUP($A$42,$A$4:$AT$32,V41),\"\")","v":""},{"$f":"IFERROR(VLOOKUP($A$42,$A$4:$AT$32,W41),\"\")","v":""},{"$f":"IFERROR(VLOOKUP($A$42,$A$4:$AT$32,X41),\"\")","v":""}]
[1,{"$f":"IFERROR(VLOOKUP($A$43,$A$4:$AT$32,B$41),\"\")","v":""},null,null,null,null,{"$f":"IFERROR(VLOOKUP(alumno,todo,G41),\"\")","v":""},"","","","","","","","","","","","","",""]
[null,"(Comparar con la clase)",null,null,null,null,{"$f":"IF(J3=0,\"\",J3)","v":""},{"$f":"IF(N3=0,\"\",N3)","v":""},{"$f":"IF(R3=0,\"\",R3)","v":""},{"$f":"IF(V3=0,\"\",V3)","v":""},{"$f":"IF(Z3=0,\"\",Z3)","v":""},{"$f":"IF(AD3=0,\"\",AD3)","v":""},{"$f":"IF(AH3=0,\"\",AH3)","v":""},{"$f":"IF(AL3=0,\"\",AL3)","v":""},{"$f":"IF(AP3=0,\"\",AP3)","v":""},{"$f":"IF(AT3=0,\"\",AT3)","v":""},{"$f":"IF(AX3=0,\"\",AX3)","v":""},{"$f":"IF(BB3=0,\"\",BB3)","v":""},{"$f":"IF(BF3=0,\"\",BF3)","v":""},{"$f":"IF(BJ3=0,\"\",BJ3)","v":""},{"$f":"IF(BN3=0,\"\",BN3)","v":""}]
[]
[]
[]
[]
[]
[]
[]
[]
[]
[]
[]
[]
[]
[]
[]
[null,".",null,null,null,null,null,null,null,null,null,null,null,null,null,null,null,null,null,null,null,null,null,null,null,null,null,null,null,null,null,null,null,null,null,null,null,null,null,null,null,null,null,null,null,null,null,null,null,null,null,null,null,null,null,null,null,null,null,null,null,null,null,null,null,null,null,"."]

{"sheet":"E8","index":8,"n_rows":60,"n_cols":68,"rows_kept":60,"cut":false,"hidden":false,"merged":[[38,38,38,41],[37,64,37,65],[38,2,38,5],[38,42,38,45],[38,62,38,65],[37,52,37,53],[37,54,37,55],[37,56,37,57],[37,58,37,59],[37,60,37,61],[37,62,37,63],[37,40,37,41],[37,42,37,43],[37,44,37,45],[37,46,37,47],[37,48,37,49],[37,50,37,51],[37,28,37,29],[37,30,37,31],[37,32,37,33],[37,34,37,35],[37,36,37,37],[37,38,37,39],[37,16,37,17],[37,18,37,19],[37,20,37,21],[37,22,37,23],[37,24,37,25],[37,26,37,27],[36,60,36,61],[36,62,36,63],[36,64,36,65],[37,2,37,3],[37,4,37,5],[37,6,37,7],[37,8,37,9],[37,10,37,11],[37,12,37,13],[37,14,37,15],[36,48,36,49],[36,50,36,51],[36,52,36,53],[36,54,36,55],[36,56,36,57],[36,58,36,59],[36,36,36,37],[36,38,36,39],[36,40,36,41],[36,12,36,13],[36,14,36,15],[36,16,36,17],[36,18,36,19],[36,20,36,21],[36,22,36,23],[35,56,35,57],[35,58,35,59],[35,60,35,61],[35,30,35,31],[36,42,36,43],[36,44,36,45],[36,46,36,47],[36,24,36,25],[36,26,36,27],[36,28,36,29],[36,30,36,31],[36,32,36,33],[36,34,36,35],[35,62,35,63],[35,64,35,65],[36,2,36,3],[36,4,36,5],[36,6,36,7],[36,8,36,9],[36,10,36,11],[35,44,35,45],[35,46,35,47],[35,48,35,49],[35,50,35,51],[35,52,35,53],[35,54,35,55],[35,32,35,33],[35,34,35,35],[35,36,35,37],[35,38,35,39],[35,40,35,41],[35,42,35,43],[35,20,35,21],[35,22,35,23],[35,24,35,25],[35,26,35,27],[35,28,35,29],[34,64,34,65],[35,2,35,3],[35,4,35,5],[35,6,35,7],[35,8,35,9],[35,10,35,11],[35,12,35,13],[35,14,35,15],[35,16,35,17],[35,18,35,19],[34,52,34,53],[34,54,34,55],[34,56,34,57],[34,58,34,59],[34,60,34,61],[34,62,34,63],[34,40,34,41],[34,42,34,43],[34,44,34,45],[34,46,34,47],[34,48,34,49],[34,50,34,51],[34,28,34,29],[34,30,34,31],[34,32,34,33],[34,34,34,35],[34,36,34,37],[34,38,34,39],[34,16,34,17],[34,18,34,19],[34,20,34,21],[34,22,34,23],[34,24,34,25],[34,26,34,27],[33,60,33,61],[33,62,33,63],[33,64,33,65],[34,2,34,3],[34,4,34,5],[34,6,34,7],[34,8,34,9],[34,10,34,11],[34,12,34,13],[34,14,34,15],[33,48,33,49],[33,50,33,51],[33,52,33,53],[33,54,33,55],[33,56,33,57],[33,58,33,59],[33,36,33,37],[33,38,33,39],[33,40,33,41],[33,42,33,43],[33,44,33,45],[33,46,33,47],[33,24,33,25],[33,26,33,27],[33,2,33,3],[33,4,33,5],[33,6,33,7],[33,8,33,9],[33,10,33,11],[1,26,1,29],[1,30,1,33],[1,34,1,37],[1,38,1,41],[33,28,33,29],[33,30,33,31],[33,32,33,33],[33,34,33,35],[33,12,33,13],[33,14,33,15],[33,16,33,17],[33,18,33,19],[33,20,33,21],[33,22,33,23],[2,0,2,1],[2,66,2,67],[1,0,1,1],[1,6,1,9],[1,10,1,13],[1,14,1,17],[1,18,1,21],[1,22,1,25],[1,50,1,53],[1,54,1,57],[1,58,1,61],[1,62,1,65],[1,66,1,67],[1,42,1,45],[1,46,1,49]]}
[null,null,null,null,null,null,{"$f":"IF(J3=\"\",0,IF(J32>0,J1,0))","v":0},null,null,{"$f":"IF(J3=\"\",\"\",VLOOKUP(J3,Indicadores,2,FALSE))","v":""},{"$f":"IF(N3=\"\",0,IF(N32>0,N1,0))","v":0},null,null,{"$f":"IF(N3=\"\",\"\",VLOOKUP(N3,Indicadores,2,FALSE))","v":""},{"$f":"IF(R3=\"\",0,IF(R32>0,R1,0))","v":0},null,null,{"$f":"IF(R3=\"\",\"\",VLOOKUP(R3,Indicadores,2,FALSE))","v":""},{"$f":"IF(V3=\"\",0,IF(V32>0,V1,0))","v":0},null,null,{"$f":"IF(V3=\"\",\"\",VLOOKUP(V3,Indicadores,2,FALSE))","v":""},{"$f":"IF(Z3=\"\",0,IF(Z32>0,Z1,0))","v":0},null,null,{"$f":"IF(Z3=\"\",\"\",VLOOKUP(Z3,Indicadores,2,FALSE))","v":""},{"$f":"IF(AD3=\"\",0,IF(AD32>0,AD1,0))","v":0},null,null,{"$f":"IF(AD3=\"\",\"\",VLOOKUP(AD3,Indicadores,2,FALSE))","v":""},{"$f":"IF(AH3=\"\",0,IF(AH32>0,AH1,0))","v":0},null,null,{"$f":"IF(AH3=\"\",\"\",VLOOKUP(AH3,Indicadores,2,FALSE))","v":""},{"$f":"IF(AL3=\"\",0,IF(AL32>0,AL1,0))","v":0},null,null,{"$f":"IF(AL3=\"\",\"\",VLOOKUP(AL3,Indicadores,2,FALSE))","v":""},{"$f":"IF(AP3=\"\",0,IF(AP32>0,AP1,0))","v":0},null,null,{"$f":"IF(AP3=\"\",\"\",VLOOKUP(AP3,Indicadores,2,FALSE))","v":""},{"$f":"IF(AT3=\"\",0,IF(AT32>0,AT1,0))","v":0},null,null,{"$f":"IF(AT3=\"\",\"\",VLOOKUP(AT3,Indicadores,2,FALSE))","v":""},{"$f":"IF(AX3=\"\",0,IF(AX32>0,AX1,0))","v":0},null,null,{"$f":"IF(AX3=\"\",\"\",VLOOKUP(AX3,Indicadores,2,FALSE))","v":""},{"$f":"IF(BB3=\"\",0,IF(BB32>0,BB1,0))","v":0},null,null,{"$f":"IF(BB3=\"\",\"\",VLOOKUP(BB3,Indicadores,2,FALSE))","v":""},{"$f":"IF(BF3=\"\",0,IF(BF32>0,BF1,0))","v":0},null,null,{"$f":"IF(BF3=\"\",\"\",VLOOKUP(BF3,Indicadores,2,FALSE))","v":""},{"$f":"IF(BJ3=\"\",0,IF(BJ32>0,BJ1,0))","v":0},null,null,{"$f":"IF(BJ3=\"\",\"\",VLOOKUP(BJ3,Indicadores,2,FALSE))","v":""},{"$f":"IF(BN3=\"\",0,IF(BN32>0,BN1,0))","v":0},null,null,{"$f":"IF(BN3=\"\",\"\",VLOOKUP(BN3,Indicadores,2,FALSE))","v":""}]
[{"$f":"Al!D2 & CHAR(10)  & Al!D5  & CHAR(32) & Al!B5","v":"AVE MARÍA ALBOLOTE\nRÚBRICAS LENGUA 1º"},null,null,"Total puntos","Puntuación sobre 4","Puntuación sobre 10",{"$f":"IF(J3=\"\",\"\",VLOOKUP(J3,Indicadores,3,FALSE))","v":""},null,null,null,{"$f":"IF(N3=\"\",\"\",VLOOKUP(N3,Indicadores,3,FALSE))","v":""},null,null,null,{"$f":"IF(R3=\"\",\"\",VLOOKUP(R3,Indicadores,3,FALSE))","v":""},null,null,null,{"$f":"IF(V3=\"\",\"\",VLOOKUP(V3,Indicadores,3,FALSE))","v":""},null,null,null,{"$f":"IF(Z3=\"\",\"\",VLOOKUP(Z3,Indicadores,3,FALSE))","v":""},null,null,null,{"$f":"IF(AD3=\"\",\"\",VLOOKUP(AD3,Indicadores,3,FALSE))","v":""},null,null,null,{"$f":"IF(AH3=\"\",\"\",VLOOKUP(AH3,Indicadores,3,FALSE))","v":""},null,null,null,{"$f":"IF(AL3=\"\",\"\",VLOOKUP(AL3,Indicadores,3,FALSE))","v":""},null,null,null,{"$f":"IF(AP3=\"\",\"\",VLOOKUP(AP3,Indicadores,3,FALSE))","v":""},null,null,null,{"$f":"IF(AT3=\"\",\"\",VLOOKUP(AT3,Indicadores,3,FALSE))","v":""},null,null,null,{"$f":"IF(AX3=\"\",\"\",VLOOKUP(AX3,Indicadores,3,FALSE))","v":""},null,null,null,{"$f":"IF(BB3=\"\",\"\",VLOOKUP(BB3,Indicadores,3,FALSE))","v":""},null,null,null,{"$f":"IF(BF3=\"\",\"\",VLOOKUP(BF3,Indicadores,3,FALSE))","v":""},null,null,null,{"$f":"IF(BJ3=\"\",\"\",VLOOKUP(BJ3,Indicadores,3,FALSE))","v":""},null,null,null,{"$f":"IF(BN3=\"\",\"\",VLOOKUP(BN3,Indicadores,3,FALSE))","v":""}]
[null,null,null,{"$f":"SUM(Valores)*4","v":0},4,10,null,null,null,null,null,null,null,null,null,null,null,null,null,null,null,null,null,null,null,null,null,null,null,null,null,null,null,null,null,null,null,null,null,null,null,null,null,null,null,null,null,null,null,null,null,null,null,null,null,null,null,null,null,null,null,null,null,null,null,null,{"$f":"A3","v":0}]
[{"$f":"IF(Al!D9=\"\",\"\",Al!C9)","v":""},{"$f":"IF(Al!D9=\"\",\"\",Al!D9)","v":""},null,{"$f":"IF((J4*V.01+N4*V.02+R4*V.03+V4*V.04+Z4*V.05+AD4*V.06+AH4*V.07+AL4*V.08+AP4*V.09+AT4*V.10+AX4*V.11+BB4*V.12+BF4*V.13+BJ4*V.14+BN4*V.15)=0,\"\",J4*V.01+N4*V.02+R4*V.03+V4*V.04+Z4*V.05+AD4*V.06+AH4*V.07+AL4*V.08+AP4*V.09+AT4*V.10+AX4*V.11+BB4*V.12+BF4*V.13+BJ4*V.14+BN4*V.15)","v":""},{"$f":"IF(D4=\"\",\"\",D4*Punt4/total)","v":""},{"$f":"IF(D4=\"\",\"\",D4*Punt10/total)","v":""},null,null,null,{"$f":"IFERROR(AVERAGE(G4:I4),0)","v":0},null,null,null,{"$f":"IFERROR(AVERAGE(K4:M4),0)","v":0},null,null,null,{"$f":"IFERROR(AVERAGE(O4:Q4),0)","v":0},null,null,null,{"$f":"IFERROR(AVERAGE(S4:U4),0)","v":0},null,null,null,{"$f":"IFERROR(AVERAGE(W4:Y4),0)","v":0},null,null,null,{"$f":"IFERROR(AVERAGE(AA4:AC4),0)","v":0},null,null,null,{"$f":"IFERROR(AVERAGE(AE4:AG4),0)","v":0},null,null,null,{"$f":"IFERROR(AVERAGE(AI4:AK4),0)","v":0},null,null,null,{"$f":"IFERROR(AVERAGE(AM4:AO4),0)","v":0},null,null,null,{"$f":"IFERROR(AVERAGE(AQ4:AS4),0)","v":0},null,null,null,{"$f":"IFERROR(AVERAGE(AU4:AW4),0)","v":0},null,null,null,{"$f":"IFERROR(AVERAGE(AY4:BA4),0)","v":0},null,null,null,{"$f":"IFERROR(AVERAGE(BC4:BE4),0)","v":0},null,null,null,{"$f":"IFERROR(AVERAGE(BG4:BI4),0)","v":0},null,null,null,{"$f":"IFERROR(AVERAGE(BK4:BM4),0)","v":0},{"$f":"A4","v":""},{"$f":"B4","v":""}]
[{"$f":"IF(Al!D10=\"\",\"\",Al!C10)","v":""},{"$f":"IF(Al!D10=\"\",\"\",Al!D10)","v":""},null,"","","",null,null,null,0,null,null,null,0,null,null,null,0,null,null,null,0,null,null,null,0,null,null,null,0,null,null,null,0,null,null,null,0,null,null,null,0,null,null,null,0,null,null,null,0,null,null,null,0,null,null,null,0,null,null,null,0,null,null,null,0,{"$f":"A5","v":""},""]
[{"$f":"IF(Al!D11=\"\",\"\",Al!C11)","v":""},{"$f":"IF(Al!D11=\"\",\"\",Al!D11)","v":""},null,"","","",null,null,null,0,null,null,null,0,null,null,null,0,null,null,null,0,null,null,null,0,null,null,null,0,null,null,null,0,null,null,null,0,null,null,null,0,null,null,null,0,null,null,null,0,null,null,null,0,null,null,null,0,null,null,null,0,null,null,null,0,"",""]
[{"$f":"IF(Al!D12=\"\",\"\",Al!C12)","v":""},{"$f":"IF(Al!D12=\"\",\"\",Al!D12)","v":""},null,"","","",null,null,null,0,null,null,null,0,null,null,null,0,null,null,null,0,null,null,null,0,null,null,null,0,null,null,null,0,null,null,null,0,null,null,null,0,null,null,null,0,null,null,null,0,null,null,null,0,null,null,null,0,null,null,null,0,null,null,null,0,"",""]
[{"$f":"IF(Al!D13=\"\",\"\",Al!C13)","v":""},{"$f":"IF(Al!D13=\"\",\"\",Al!D13)","v":""},null,"","","",null,null,null,0,null,null,null,0,null,null,null,0,null,null,null,0,null,null,null,0,null,null,null,0,null,null,null,0,null,null,null,0,null,null,null,0,null,null,null,0,null,null,null,0,null,null,null,0,null,null,null,0,null,null,null,0,null,null,null,0,"",""]
[{"$f":"IF(Al!D14=\"\",\"\",Al!C14)","v":""},{"$f":"IF(Al!D14=\"\",\"\",Al!D14)","v":""},null,"","","",null,null,null,0,null,null,null,0,null,null,null,0,null,null,null,0,null,null,null,0,null,null,null,0,null,null,null,0,null,null,null,0,null,null,null,0,null,null,null,0,null,null,null,0,null,null,null,0,null,null,null,0,null,null,null,0,null,null,null,0,"",""]
[{"$f":"IF(Al!D15=\"\",\"\",Al!C15)","v":""},{"$f":"IF(Al!D15=\"\",\"\",Al!D15)","v":""},null,"","","",null,null,null,0,null,null,null,0,null,null,null,0,null,null,null,0,null,null,null,0,null,null,null,0,null,null,null,0,null,null,null,0,null,null,null,0,null,null,null,0,null,null,null,0,null,null,null,0,null,null,null,0,null,null,null,0,null,null,null,0,"",""]
[{"$f":"IF(Al!D16=\"\",\"\",Al!C16)","v":""},{"$f":"IF(Al!D16=\"\",\"\",Al!D16)","v":""},null,"","","",null,null,null,0,null,null,null,0,null,null,null,0,null,null,null,0,null,null,null,0,null,null,null,0,null,null,null,0,null,null,null,0,null,null,null,0,null,null,null,0,null,null,null,0,null,null,null,0,null,null,null,0,null,null,null,0,null,null,null,0,"",""]
[{"$f":"IF(Al!D17=\"\",\"\",Al!C17)","v":""},{"$f":"IF(Al!D17=\"\",\"\",Al!D17)","v":""},null,"","","",null,null,null,0,null,null,null,0,null,null,null,0,null,null,null,0,null,null,null,0,null,null,null,0,null,null,null,0,null,null,null,0,null,null,null,0,null,null,null,0,null,null,null,0,null,null,null,0,null,null,null,0,null,null,null,0,null,null,null,0,"",""]
[{"$f":"IF(Al!D18=\"\",\"\",Al!C18)","v":""},{"$f":"IF(Al!D18=\"\",\"\",Al!D18)","v":""},null,"","","",null,null,null,0,null,null,null,0,null,null,null,0,null,null,null,0,null,null,null,0,null,null,null,0,null,null,null,0,null,null,null,0,null,null,null,0,null,null,null,0,null,null,null,0,null,null,null,0,null,null,null,0,null,null,null,0,null,null,null,0,"",""]
[{"$f":"IF(Al!D19=\"\",\"\",Al!C19)","v":""},{"$f":"IF(Al!D19=\"\",\"\",Al!D19)","v":""},null,"","","",null,null,null,0,null,null,null,0,null,null,null,0,null,null,null,0,null,null,null,0,null,null,null,0,null,null,null,0,null,null,null,0,null,null,null,0,null,null,null,0,null,null,null,0,null,null,null,0,null,null,null,0,null,null,null,0,null,null,null,0,"",""]
[{"$f":"IF(Al!D20=\"\",\"\",Al!C20)","v":""},{"$f":"IF(Al!D20=\"\",\"\",Al!D20)","v":""},null,"","","",null,null,null,0,null,null,null,0,null,null,null,0,null,null,null,0,null,null,null,0,null,null,null,0,null,null,null,0,null,null,null,0,null,null,null,0,null,null,null,0,null,null,null,0,null,null,null,0,null,null,null,0,null,null,null,0,null,null,null,0,"",""]
[{"$f":"IF(Al!D21=\"\",\"\",Al!C21)","v":""},{"$f":"IF(Al!D21=\"\",\"\",Al!D21)","v":""},null,"","","",null,null,null,0,null,null,null,0,null,null,null,0,null,null,null,0,null,null,null,0,null,null,null,0,null,null,null,0,null,null,null,0,null,null,null,0,null,null,null,0,null,null,null,0,null,null,null,0,null,null,null,0,null,null,null,0,null,null,null,0,"",""]
[{"$f":"IF(Al!D22=\"\",\"\",Al!C22)","v":""},{"$f":"IF(Al!D22=\"\",\"\",Al!D22)","v":""},null,"","","",null,null,null,0,null,null,null,0,null,null,null,0,null,null,null,0,null,null,null,0,null,null,null,0,null,null,null,0,null,null,null,0,null,null,null,0,null,null,null,0,null,null,null,0,null,null,null,0,null,null,null,0,null,null,null,0,null,null,null,0,"",""]
[{"$f":"IF(Al!D23=\"\",\"\",Al!C23)","v":""},{"$f":"IF(Al!D23=\"\",\"\",Al!D23)","v":""},null,"","","",null,null,null,0,null,null,null,0,null,null,null,0,null,null,null,0,null,null,null,0,null,null,null,0,null,null,null,0,null,null,null,0,null,null,null,0,null,null,null,0,null,null,null,0,null,null,null,0,null,null,null,0,null,null,null,0,null,null,null,0,"",""]
[{"$f":"IF(Al!D24=\"\",\"\",Al!C24)","v":""},{"$f":"IF(Al!D24=\"\",\"\",Al!D24)","v":""},null,"","","",null,null,null,0,null,null,null,0,null,null,null,0,null,null,null,0,null,null,null,0,null,null,null,0,null,null,null,0,null,null,null,0,null,null,null,0,null,null,null,0,null,null,null,0,null,null,null,0,null,null,null,0,null,null,null,0,null,null,null,0,"",""]
[{"$f":"IF(Al!D25=\"\",\"\",Al!C25)","v":""},{"$f":"IF(Al!D25=\"\",\"\",Al!D25)","v":""},null,"","","",null,null,null,0,null,null,null,0,null,null,null,0,null,null,null,0,null,null,null,0,null,null,null,0,null,null,null,0,null,null,null,0,null,null,null,0,null,null,null,0,null,null,null,0,null,null,null,0,null,null,null,0,null,null,null,0,null,null,null,0,"",""]
[{"$f":"IF(Al!D26=\"\",\"\",Al!C26)","v":""},{"$f":"IF(Al!D26=\"\",\"\",Al!D26)","v":""},null,"","","",null,null,null,0,null,null,null,0,null,null,null,0,null,null,null,0,null,null,null,0,null,null,null,0,null,null,null,0,null,null,null,0,null,null,null,0,null,null,null,0,null,null,null,0,null,null,null,0,null,null,null,0,null,null,null,0,null,null,null,0,"",""]
[{"$f":"IF(Al!D27=\"\",\"\",Al!C27)","v":""},{"$f":"IF(Al!D27=\"\",\"\",Al!D27)","v":""},null,"","","",null,null,null,0,null,null,null,0,null,null,null,0,null,null,null,0,null,null,null,0,null,null,null,0,null,null,null,0,null,null,null,0,null,null,null,0,null,null,null,0,null,null,null,0,null,null,null,0,null,null,null,0,null,null,null,0,null,null,null,0,"",""]
[{"$f":"IF(Al!D28=\"\",\"\",Al!C28)","v":""},{"$f":"IF(Al!D28=\"\",\"\",Al!D28)","v":""},null,"","","",null,null,null,0,null,null,null,0,null,null,null,0,null,null,null,0,null,null,null,0,null,null,null,0,null,null,null,0,null,null,null,0,null,null,null,0,null,null,null,0,null,null,null,0,null,null,null,0,null,null,null,0,null,null,null,0,null,null,null,0,"",""]
[{"$f":"IF(Al!D29=\"\",\"\",Al!C29)","v":""},{"$f":"IF(Al!D29=\"\",\"\",Al!D29)","v":""},null,"","","",null,null,null,0,null,null,null,0,null,null,null,0,null,null,null,0,null,null,null,0,null,null,null,0,null,null,null,0,null,null,null,0,null,null,null,0,null,null,null,0,null,null,null,0,null,null,null,0,null,null,null,0,null,null,null,0,null,null,null,0,"",""]
[{"$f":"IF(Al!D30=\"\",\"\",Al!C30)","v":""},{"$f":"IF(Al!D30=\"\",\"\",Al!D30)","v":""},null,"","","",null,null,null,0,null,null,null,0,null,null,null,0,null,null,null,0,null,null,null,0,null,null,null,0,null,null,null,0,null,null,null,0,null,null,null,0,null,null,null,0,null,null,null,0,null,null,null,0,null,null,null,0,null,null,null,0,null,null,null,0,"",""]
[{"$f":"IF(Al!D31=\"\",\"\",Al!C31)","v":""},{"$f":"IF(Al!D31=\"\",\"\",Al!D31)","v":""},null,"","","",null,null,null,0,null,null,null,0,null,null,null,0,null,null,null,0,null,null,null,0,null,null,null,0,null,null,null,0,null,null,null,0,null,null,null,0,null,null,null,0,null,null,null,0,null,null,null,0,null,null,null,0,null,null,null,0,null,null,null,0,"",""]
[{"$f":"IF(Al!D32=\"\",\"\",Al!C32)","v":""},{"$f":"IF(Al!D32=\"\",\"\",Al!D32)","v":""},null,"","","",null,null,null,0,null,null,null,0,null,null,null,0,null,null,null,0,null,null,null,0,null,null,null,0,null,null,null,0,null,null,null,0,null,null,null,0,null,null,null,0,null,null,null,0,null,null,null,0,null,null,null,0,null,null,null,0,null,null,null,0,"",""]
[{"$f":"IF(Al!D33=\"\",\"\",Al!C33)","v":""},{"$f":"IF(Al!D33=\"\",\"\",Al!D33)","v":""},null,"","","",null,null,null,0,null,null,null,0,null,null,null,0,null,null,null,0,null,null,null,0,null,null,null,0,null,null,null,0,null,null,null,0,null,null,null,0,null,null,null,0,null,null,null,0,null,null,null,0,null,null,null,0,null,null,null,0,null,null,null,0,"",""]
[{"$f":"IF(Al!D34=\"\",\"\",Al!C34)","v":""},{"$f":"IF(Al!D34=\"\",\"\",Al!D34)","v":""},null,"","","",null,null,null,0,null,null,null,0,null,null,null,0,null,null,null,0,null,null,null,0,null,null,null,0,null,null,null,0,null,null,null,0,null,null,null,0,null,null,null,0,null,null,null,0,null,null,null,0,null,null,null,0,null,null,null,0,null,null,null,0,"",""]
[{"$f":"IF(Al!D35=\"\",\"\",Al!C35)","v":""},{"$f":"IF(Al!D35=\"\",\"\",Al!D35)","v":""},null,"","","",null,null,null,0,null,null,null,0,null,null,null,0,null,null,null,0,null,null,null,0,null,null,null,0,null,null,null,0,null,null,null,0,null,null,null,0,null,null,null,0,null,null,null,0,null,null,null,0,null,null,null,0,null,null,null,0,null,null,null,0,"",""]
[{"$f":"IF(Al!D36=\"\",\"\",Al!C36)","v":""},{"$f":"IF(Al!D36=\"\",\"\",Al!D36)","v":""},null,"","","",null,null,null,0,null,null,null,0,null,null,null,0,null,null,null,0,null,null,null,0,null,null,null,0,null,null,null,0,null,null,null,0,null,null,null,0,null,null,null,0,null,null,null,0,null,null,null,0,null,null,null,0,null,null,null,0,null,null,null,0,"",""]
["G","GLOBAL",null,null,{"$f":"IFERROR(AVERAGEIF(E4:E31,\">0\"),0)","v":0},{"$f":"IFERROR(AVERAGEIF(F4:F31,\">0\"),0)","v":0},null,null,null,{"$f":"IFERROR(AVERAGEIF(J4:J31,\">0\"),0)","v":0},null,null,null,{"$f":"IFERROR(AVERAGEIF(N4:N31,\">0\"),0)","v":0},null,null,null,{"$f":"IFERROR(AVERAGEIF(R4:R31,\">0\"),0)","v":0},null,null,null,{"$f":"IFERROR(AVERAGEIF(V4:V31,\">0\"),0)","v":0},null,null,null,{"$f":"IFERROR(AVERAGEIF(Z4:Z31,\">0\"),0)","v":0},null,null,null,{"$f":"IFERROR(AVERAGEIF(AD4:AD31,\">0\"),0)","v":0},null,null,null,{"$f":"IFERROR(AVERAGEIF(AH4:AH31,\">0\"),0)","v":0},null,null,null,{"$f":"IFERROR(AVERAGEIF(AL4:AL31,\">0\"),0)","v":0},null,null,null,{"$f":"IFERROR(AVERAGEIF(AP4:AP31,\">0\"),0)","v":0},null,null,null,{"$f":"IFERROR(AVERAGEIF(AT4:AT31,\">0\"),0)","v":0},null,null,null,{"$f":"IFERROR(AVERAGEIF(AX4:AX31,\">0\"),0)","v":0},null,null,null,{"$f":"IFERROR(AVERAGEIF(BB4:BB31,\">0\"),0)","v":0},null,null,null,{"$f":"IFERROR(AVERAGEIF(BF4:BF31,\">0\"),0)","v":0},null,null,null,{"$f":"IFERROR(AVERAGEIF(BJ4:BJ31,\">0\"),0)","v":0},null,null,null,{"$f":"IFERROR(AVERAGEIF(BN4:BN31,\">0\"),0)","v":0}]
[]
[null,"Insuficiente",{"$f":"COUNTIF(F4:F31,\"<4,5\")-COUNTIF(F4:F31,\"=0\")","v":0},null,{"$f":"IFERROR(C34/C$38,\"\")","v":""},null,{"$f":"COUNTIF(J4:J31,\"<1,9\")-COUNTIF(J4:J31,\"=0\")","v":0},null,{"$f":"IFERROR(G34/G$38,\"\")","v":""},null,{"$f":"COUNTIF(N4:N31,\"<1,9\")-COUNTIF(N4:N31,\"=0\")","v":0},null,{"$f":"IFERROR(K34/K$38,\"\")","v":""},null,{"$f":"COUNTIF(R4:R31,\"<1,9\")-COUNTIF(R4:R31,\"=0\")","v":0},null,{"$f":"IFERROR(O34/O$38,\"\")","v":""},null,{"$f":"COUNTIF(V4:V31,\"<1,9\")-COUNTIF(V4:V31,\"=0\")","v":0},null,{"$f":"IFERROR(S34/S$38,\"\")","v":""},null,{"$f":"COUNTIF(Z4:Z31,\"<1,9\")-COUNTIF(Z4:Z31,\"=0\")","v":0},null,{"$f":"IFERROR(W34/W$38,\"\")","v":""},null,{"$f":"COUNTIF(AD4:AD31,\"<1,9\")-COUNTIF(AD4:AD31,\"=0\")","v":0},null,{"$f":"IFERROR(AA34/AA$38,\"\")","v":""},null,{"$f":"COUNTIF(AH4:AH31,\"<1,9\")-COUNTIF(AH4:AH31,\"=0\")","v":0},null,{"$f":"IFERROR(AE34/AE$38,\"\")","v":""},null,{"$f":"COUNTIF(AL4:AL31,\"<1,9\")-COUNTIF(AL4:AL31,\"=0\")","v":0},null,{"$f":"IFERROR(AI34/AI$38,\"\")","v":""},null,{"$f":"COUNTIF(AP4:AP31,\"<1,9\")-COUNTIF(AP4:AP31,\"=0\")","v":0},null,{"$f":"IFERROR(AM34/AM$38,\"\")","v":""},null,{"$f":"COUNTIF(AT4:AT31,\"<1,9\")-COUNTIF(AT4:AT31,\"=0\")","v":0},null,{"$f":"IFERROR(AQ34/AQ$38,\"\")","v":""},null,{"$f":"COUNTIF(AX4:AX31,\"<1,9\")-COUNTIF(AX4:AX31,\"=0\")","v":0},null,{"$f":"IFERROR(AU34/AU$38,\"\")","v":""},null,{"$f":"COUNTIF(BB4:BB31,\"<1,9\")-COUNTIF(BB4:BB31,\"=0\")","v":0},null,{"$f":"IFERROR(AY34/AY$38,\"\")","v":""},null,{"$f":"COUNTIF(BF4:BF31,\"<1,9\")-COUNTIF(BF4:BF31,\"=0\")","v":0},null,{"$f":"IFERROR(BC34/BC$38,\"\")","v":""},null,{"$f":"COUNTIF(BJ4:BJ31,\"<1,9\")-COUNTIF(BJ4:BJ31,\"=0\")","v":0},null,{"$f":"IFERROR(BG34/BG$38,\"\")","v":""},null,{"$f":"COUNTIF(BN4:BN31,\"<1,9\")-COUNTIF(BN4:BN31,\"=0\")","v":0},null,{"$f":"IFERROR(BK34/BK$38,\"\")","v":""},null,null,"Insuficiente"]
[null,"Bien",{"$f":"COUNTIF(F4:F31,\">4,5\")-COUNTIF(F4:F31,\">=6,5\")","v":0},null,{"$f":"IFERROR(C35/C$38,\"\")","v":""},null,{"$f":"COUNTIF(J4:J31,\">=1,9\")-COUNTIF(J4:J31,\">=2,7\")","v":0},null,{"$f":"IFERROR(G35/G$38,\"\")","v":""},null,{"$f":"COUNTIF(N4:N31,\">=1,9\")-COUNTIF(N4:N31,\">=2,7\")","v":0},null,{"$f":"IFERROR(K35/K$38,\"\")","v":""},null,{"$f":"COUNTIF(R4:R31,\">=1,9\")-COUNTIF(R4:R31,\">=2,7\")","v":0},null,{"$f":"IFERROR(O35/O$38,\"\")","v":""},null,{"$f":"COUNTIF(V4:V31,\">=1,9\")-COUNTIF(V4:V31,\">=2,7\")","v":0},null,{"$f":"IFERROR(S35/S$38,\"\")","v":""},null,{"$f":"COUNTIF(Z4:Z31,\">=1,9\")-COUNTIF(Z4:Z31,\">=2,7\")","v":0},null,{"$f":"IFERROR(W35/W$38,\"\")","v":""},null,{"$f":"COUNTIF(AD4:AD31,\">=1,9\")-COUNTIF(AD4:AD31,\">=2,7\")","v":0},null,{"$f":"IFERROR(AA35/AA$38,\"\")","v":""},null,{"$f":"COUNTIF(AH4:AH31,\">=1,9\")-COUNTIF(AH4:AH31,\">=2,7\")","v":0},null,{"$f":"IFERROR(AE35/AE$38,\"\")","v":""},null,{"$f":"COUNTIF(AL4:AL31,\">=1,9\")-COUNTIF(AL4:AL31,\">=2,7\")","v":0},null,{"$f":"IFERROR(AI35/AI$38,\"\")","v":""},null,{"$f":"COUNTIF(AP4:AP31,\">=1,9\")-COUNTIF(AP4:AP31,\">=2,7\")","v":0},null,{"$f":"IFERROR(AM35/AM$38,\"\")","v":""},null,{"$f":"COUNTIF(AT4:AT31,\">=1,9\")-COUNTIF(AT4:AT31,\">=2,7\")","v":0},null,{"$f":"IFERROR(AQ35/AQ$38,\"\")","v":""},null,{"$f":"COUNTIF(AX4:AX31,\">=1,9\")-COUNTIF(AX4:AX31,\">=2,7\")","v":0},null,{"$f":"IFERROR(AU35/AU$38,\"\")","v":""},null,{"$f":"COUNTIF(BB4:BB31,\">=1,9\")-COUNTIF(BB4:BB31,\">=2,7\")","v":0},null,{"$f":"IFERROR(AY35/AY$38,\"\")","v":""},null,{"$f":"COUNTIF(BF4:BF31,\">=1,9\")-COUNTIF(BF4:BF31,\">=2,7\")","v":0},null,{"$f":"IFERROR(BC35/BC$38,\"\")","v":""},null,{"$f":"COUNTIF(BJ4:BJ31,\">=1,9\")-COUNTIF(BJ4:BJ31,\">=2,7\")","v":0},null,{"$f":"IFERROR(BG35/BG$38,\"\")","v":""},null,{"$f":"COUNTIF(BN4:BN31,\">=1,9\")-COUNTIF(BN4:BN31,\">=2,7\")","v":0},null,{"$f":"IFERROR(BK35/BK$38,\"\")","v":""},null,null,"Bien"]
[null,"Notable",{"$f":"COUNTIF(F4:F31,\">6,5\")-COUNTIF(F4:F31,\">8,5\")","v":0},null,{"$f":"IFERROR(C36/C$38,\"\")","v":""},null,{"$f":"COUNTIF(J4:J31,\">=2,7\")-COUNTIF(J4:J31,\">=3,5\")","v":0},null,{"$f":"IFERROR(G36/G$38,\"\")","v":""},null,{"$f":"COUNTIF(N4:N31,\">=2,7\")-COUNTIF(N4:N31,\">=3,5\")","v":0},null,{"$f":"IFERROR(K36/K$38,\"\")","v":""},null,{"$f":"COUNTIF(R4:R31,\">=2,7\")-COUNTIF(R4:R31,\">=3,5\")","v":0},null,{"$f":"IFERROR(O36/O$38,\"\")","v":""},null,{"$f":"COUNTIF(V4:V31,\">=2,7\")-COUNTIF(V4:V31,\">=3,5\")","v":0},null,{"$f":"IFERROR(S36/S$38,\"\")","v":""},null,{"$f":"COUNTIF(Z4:Z31,\">=2,7\")-COUNTIF(Z4:Z31,\">=3,5\")","v":0},null,{"$f":"IFERROR(W36/W$38,\"\")","v":""},null,{"$f":"COUNTIF(AD4:AD31,\">=2,7\")-COUNTIF(AD4:AD31,\">=3,5\")","v":0},null,{"$f":"IFERROR(AA36/AA$38,\"\")","v":""},null,{"$f":"COUNTIF(AH4:AH31,\">=2,7\")-COUNTIF(AH4:AH31,\">=3,5\")","v":0},null,{"$f":"IFERROR(AE36/AE$38,\"\")","v":""},null,{"$f":"COUNTIF(AL4:AL31,\">=2,7\")-COUNTIF(AL4:AL31,\">=3,5\")","v":0},null,{"$f":"IFERROR(AI36/AI$38,\"\")","v":""},null,{"$f":"COUNTIF(AP4:AP31,\">=2,7\")-COUNTIF(AP4:AP31,\">=3,5\")","v":0},null,{"$f":"IFERROR(AM36/AM$38,\"\")","v":""},null,{"$f":"COUNTIF(AT4:AT31,\">=2,7\")-COUNTIF(AT4:AT31,\">=3,5\")","v":0},null,{"$f":"IFERROR(AQ36/AQ$38,\"\")","v":""},null,{"$f":"COUNTIF(AX4:AX31,\">=2,7\")-COUNTIF(AX4:AX31,\">=3,5\")","v":0},null,{"$f":"IFERROR(AU36/AU$38,\"\")","v":""},null,{"$f":"COUNTIF(BB4:BB31,\">=2,7\")-COUNTIF(BB4:BB31,\">=3,5\")","v":0},null,{"$f":"IFERROR(AY36/AY$38,\"\")","v":""},null,{"$f":"COUNTIF(BF4:BF31,\">=2,7\")-COUNTIF(BF4:BF31,\">=3,5\")","v":0},null,{"$f":"IFERROR(BC36/BC$38,\"\")","v":""},null,{"$f":"COUNTIF(BJ4:BJ31,\">=2,7\")-COUNTIF(BJ4:BJ31,\">=3,5\")","v":0},null,{"$f":"IFERROR(BG36/BG$38,\"\")","v":""},null,{"$f":"COUNTIF(BN4:BN31,\">=2,7\")-COUNTIF(BN4:BN31,\">=3,5\")","v":0},null,{"$f":"IFERROR(BK36/BK$38,\"\")","v":""},null,null,"Notable"]
[null,"Sobresaliente",{"$f":"COUNTIF(F4:F31,\">8,5\")","v":0},null,{"$f":"IFERROR(C37/C$38,\"\")","v":""},null,{"$f":"COUNTIF(J4:J31,\">=3,5\")","v":0},null,{"$f":"IFERROR(G37/G$38,\"\")","v":""},null,{"$f":"COUNTIF(N4:N31,\">=3,5\")","v":0},null,{"$f":"IFERROR(K37/K$38,\"\")","v":""},null,{"$f":"COUNTIF(R4:R31,\">=3,5\")","v":0},null,{"$f":"IFERROR(O37/O$38,\"\")","v":""},null,{"$f":"COUNTIF(V4:V31,\">=3,5\")","v":0},null,{"$f":"IFERROR(S37/S$38,\"\")","v":""},null,{"$f":"COUNTIF(Z4:Z31,\">=3,5\")","v":0},null,{"$f":"IFERROR(W37/W$38,\"\")","v":""},null,{"$f":"COUNTIF(AD4:AD31,\">=3,5\")","v":0},null,{"$f":"IFERROR(AA37/AA$38,\"\")","v":""},null,{"$f":"COUNTIF(AH4:AH31,\">=3,5\")","v":0},null,{"$f":"IFERROR(AE37/AE$38,\"\")","v":""},null,{"$f":"COUNTIF(AL4:AL31,\">=3,5\")","v":0},null,{"$f":"IFERROR(AI37/AI$38,\"\")","v":""},null,{"$f":"COUNTIF(AP4:AP31,\">=3,5\")","v":0},null,{"$f":"IFERROR(AM37/AM$38,\"\")","v":""},null,{"$f":"COUNTIF(AT4:AT31,\">=3,5\")","v":0},null,{"$f":"IFERROR(AQ37/AQ$38,\"\")","v":""},null,{"$f":"COUNTIF(AX4:AX31,\">=3,5\")","v":0},null,{"$f":"IFERROR(AU37/AU$38,\"\")","v":""},null,{"$f":"COUNTIF(BB4:BB31,\">=3,5\")","v":0},null,{"$f":"IFERROR(AY37/AY$38,\"\")","v":""},null,{"$f":"COUNTIF(BF4:BF31,\">=3,5\")","v":0},null,{"$f":"IFERROR(BC37/BC$38,\"\")","v":""},null,{"$f":"COUNTIF(BJ4:BJ31,\">=3,5\")","v":0},null,{"$f":"IFERROR(BG37/BG$38,\"\")","v":""},null,{"$f":"COUNTIF(BN4:BN31,\">=3,5\")","v":0},null,{"$f":"IFERROR(BK37/BK$38,\"\")","v":""},null,null,"Sobresaliente"]
[null,"Evaluados",{"$f":"SUM(C34:D37)","v":0},null,{"$f":"SUM(E34:F37)","v":0},null,{"$f":"SUM(G34:H37)","v":0},null,{"$f":"SUM(I34:J37)","v":0},null,{"$f":"SUM(K34:L37)","v":0},null,{"$f":"SUM(M34:N37)","v":0},null,{"$f":"SUM(O34:P37)","v":0},null,{"$f":"SUM(Q34:R37)","v":0},null,{"$f":"SUM(S34:T37)","v":0},null,{"$f":"SUM(U34:V37)","v":0},null,{"$f":"SUM(W34:X37)","v":0},null,{"$f":"SUM(Y34:Z37)","v":0},null,{"$f":"SUM(AA34:AB37)","v":0},null,{"$f":"SUM(AC34:AD37)","v":0},null,{"$f":"SUM(AE34:AF37)","v":0},null,{"$f":"SUM(AG34:AH37)","v":0},null,{"$f":"SUM(AI34:AJ37)","v":0},null,{"$f":"SUM(AK34:AL37)","v":0},null,{"$f":"SUM(AM34:AN37)","v":0},null,{"$f":"SUM(AO34:AP37)","v":0},null,{"$f":"SUM(AQ34:AR37)","v":0},null,{"$f":"SUM(AS34:AT37)","v":0},null,{"$f":"SUM(AU34:AV37)","v":0},null,{"$f":"SUM(AW34:AX37)","v":0},null,{"$f":"SUM(AY34:AZ37)","v":0},null,{"$f":"SUM(BA34:BB37)","v":0},null,{"$f":"SUM(BC34:BD37)","v":0},null,{"$f":"SUM(BE34:BF37)","v":0},null,{"$f":"SUM(BG34:BH37)","v":0},null,{"$f":"SUM(BI34:BJ37)","v":0},null,{"$f":"SUM(BK34:BL37)","v":0},null,{"$f":"SUM(BM34:BN37)","v":0},null,null,"Evaluados"]
[]
[]
[null,2,null,null,null,null,10,14,18,22,26,30,34,38,42,46,50,54,58,62,66,null,null,null,null,null,null,null,null,null,null,null,null,null,null,null,null,null,null,null,null,null,null,null,null,null,null,null,null,null,null,null,null,null,null,null,null,null,null,null,null,null,null,null,null,null,null,2]
["G","CLASE",null,null,null,{"$f":"IFERROR(VLOOKUP($A$42,$A$4:$AT$31,F41),\"\")","v":""},{"$f":"IFERROR(VLOOKUP(clase,todo,G41),\"\")","v":0},0,0,0,0,0,0,0,0,0,0,0,0,0,0,{"$f":"IFERROR(VLOOKUP($A$42,$A$4:$AT$31,V41),\"\")","v":""},{"$f":"IFERROR(VLOOKUP($A$42,$A$4:$AT$31,W41),\"\")","v":""},{"$f":"IFERROR(VLOOKUP($A$42,$A$4:$AT$31,X41),\"\")","v":""}]
[1,{"$f":"IFERROR(VLOOKUP($A$43,$A$4:$AT$31,B$41),\"\")","v":""},null,null,null,null,{"$f":"IFERROR(VLOOKUP(alumno,todo,G41),\"\")","v":""},"","","","","","","","","","","","","",""]
[null,"(Comparar con la clase)",null,null,null,null,{"$f":"IF(J3=0,\"\",J3)","v":""},{"$f":"IF(N3=0,\"\",N3)","v":""},{"$f":"IF(R3=0,\"\",R3)","v":""},{"$f":"IF(V3=0,\"\",V3)","v":""},{"$f":"IF(Z3=0,\"\",Z3)","v":""},{"$f":"IF(AD3=0,\"\",AD3)","v":""},{"$f":"IF(AH3=0,\"\",AH3)","v":""},{"$f":"IF(AL3=0,\"\",AL3)","v":""},{"$f":"IF(AP3=0,\"\",AP3)","v":""},{"$f":"IF(AT3=0,\"\",AT3)","v":""},{"$f":"IF(AX3=0,\"\",AX3)","v":""},{"$f":"IF(BB3=0,\"\",BB3)","v":""},{"$f":"IF(BF3=0,\"\",BF3)","v":""},{"$f":"IF(BJ3=0,\"\",BJ3)","v":""},{"$f":"IF(BN3=0,\"\",BN3)","v":""}]
[]
[]
[]
[]
[]
[]
[]
[]
[]
[]
[]
[]
[]
[]
[]
[null,".",null,null,null,null,null,null,null,null,null,null,null,null,null,null,null,null,null,null,null,null,null,null,null,null,null,null,null,null,null,null,null,null,null,null,null,null,null,null,null,null,null,null,null,null,null,null,null,null,null,null,null,null,null,null,null,null,null,null,null,null,null,null,null,null,null,"."]

{"sheet":"E9","index":9,"n_rows":60,"n_cols":68,"rows_kept":60,"cut":false,"hidden":false,"merged":[[1,62,1,65],[1,66,1,67],[2,0,2,1],[2,66,2,67],[1,26,1,29],[1,30,1,33],[1,34,1,37],[1,38,1,41],[1,42,1,45],[1,46,1,49],[1,0,1,1],[1,6,1,9],[1,10,1,13],[1,14,1,17],[1,18,1,21],[1,22,1,25],[33,2,33,3],[33,4,33,5],[33,6,33,7],[33,8,33,9],[33,10,33,11],[33,12,33,13],[1,50,1,53],[1,54,1,57],[1,58,1,61],[33,30,33,31],[33,32,33,33],[33,34,33,35],[33,36,33,37],[33,14,33,15],[33,16,33,17],[33,18,33,19],[33,20,33,21],[33,22,33,23],[33,24,33,25],[33,62,33,63],[33,64,33,65],[34,2,34,3],[34,4,34,5],[34,6,34,7],[34,8,34,9],[34,10,34,11],[34,12,34,13],[34,14,34,15],[34,16,34,17],[33,50,33,51],[33,52,33,53],[33,54,33,55],[33,56,33,57],[33,58,33,59],[33,60,33,61],[33,38,33,39],[33,40,33,41],[33,42,33,43],[33,44,33,45],[33,46,33,47],[33,48,33,49],[33,26,33,27],[33,28,33,29],[34,60,34,61],[34,62,34,63],[34,64,34,65],[34,42,34,43],[34,44,34,45],[34,46,34,47],[34,48,34,49],[34,50,34,51],[34,52,34,53],[35,2,35,3],[35,4,35,5],[35,6,35,7],[35,8,35,9],[35,10,35,11],[35,12,35,13],[34,54,34,55],[34,56,34,57],[34,58,34,59],[34,30,34,31],[34,32,34,33],[34,34,34,35],[34,36,34,37],[34,38,34,39],[34,40,34,41],[34,18,34,19],[34,20,34,21],[34,22,34,23],[34,24,34,25],[34,26,34,27],[34,28,34,29],[35,30,35,31],[35,32,35,33],[35,34,35,35],[35,14,35,15],[35,16,35,17],[35,18,35,19],[35,20,35,21],[35,22,35,23],[35,24,35,25],[35,62,35,63],[35,64,35,65],[35,52,35,53],[35,54,35,55],[35,56,35,57],[35,58,35,59],[35,60,35,61],[35,50,35,51],[35,38,35,39],[35,40,35,41],[35,42,35,43],[35,44,35,45],[35,46,35,47],[35,48,35,49],[35,26,35,27],[35,28,35,29],[35,36,35,37],[36,28,36,29],[36,54,36,55],[36,56,36,57],[36,58,36,59],[36,60,36,61],[36,2,36,3],[36,4,36,5],[36,6,36,7],[36,8,36,9],[36,10,36,11],[36,12,36,13],[36,14,36,15],[36,16,36,17],[36,30,36,31],[36,32,36,33],[36,34,36,35],[36,36,36,37],[36,38,36,39],[36,40,36,41],[36,18,36,19],[36,62,36,63],[36,64,36,65],[36,42,36,43],[36,44,36,45],[36,46,36,47],[36,48,36,49],[36,50,36,51],[36,52,36,53],[37,14,37,15],[37,16,37,17],[37,18,37,19],[37,20,37,21],[37,22,37,23],[37,24,37,25],[37,26,37,27],[37,28,37,29],[37,30,37,31],[37,32,37,33],[37,34,37,35],[37,36,37,37],[36,20,36,21],[36,22,36,23],[36,24,36,25],[36,26,36,27],[37,2,37,3],[37,4,37,5],[37,6,37,7],[37,8,37,9],[37,10,37,11],[37,12,37,13],[37,62,37,63],[37,64,37,65],[38,2,38,5],[38,38,38,41],[38,42,38,45],[38,62,38,65],[37,50,37,51],[37,52,37,53],[37,54,37,55],[37,56,37,57],[37,58,37,59],[37,60,37,61],[37,38,37,39],[37,40,37,41],[37,42,37,43],[37,44,37,45],[37,46,37,47],[37,48,37,49]]}
[null,null,null,null,null,null,{"$f":"IF(J3=\"\",0,IF(J32>0,J1,0))","v":0},null,null,{"$f":"IF(J3=\"\",\"\",VLOOKUP(J3,Indicadores,2,FALSE))","v":""},{"$f":"IF(N3=\"\",0,IF(N32>0,N1,0))","v":0},null,null,{"$f":"IF(N3=\"\",\"\",VLOOKUP(N3,Indicadores,2,FALSE))","v":""},{"$f":"IF(R3=\"\",0,IF(R32>0,R1,0))","v":0},null,null,{"$f":"IF(R3=\"\",\"\",VLOOKUP(R3,Indicadores,2,FALSE))","v":""},{"$f":"IF(V3=\"\",0,IF(V32>0,V1,0))","v":0},null,null,{"$f":"IF(V3=\"\",\"\",VLOOKUP(V3,Indicadores,2,FALSE))","v":""},{"$f":"IF(Z3=\"\",0,IF(Z32>0,Z1,0))","v":0},null,null,{"$f":"IF(Z3=\"\",\"\",VLOOKUP(Z3,Indicadores,2,FALSE))","v":""},{"$f":"IF(AD3=\"\",0,IF(AD32>0,AD1,0))","v":0},null,null,{"$f":"IF(AD3=\"\",\"\",VLOOKUP(AD3,Indicadores,2,FALSE))","v":""},{"$f":"IF(AH3=\"\",0,IF(AH32>0,AH1,0))","v":0},null,null,{"$f":"IF(AH3=\"\",\"\",VLOOKUP(AH3,Indicadores,2,FALSE))","v":""},{"$f":"IF(AL3=\"\",0,IF(AL32>0,AL1,0))","v":0},null,null,{"$f":"IF(AL3=\"\",\"\",VLOOKUP(AL3,Indicadores,2,FALSE))","v":""},{"$f":"IF(AP3=\"\",0,IF(AP32>0,AP1,0))","v":0},null,null,{"$f":"IF(AP3=\"\",\"\",VLOOKUP(AP3,Indicadores,2,FALSE))","v":""},{"$f":"IF(AT3=\"\",0,IF(AT32>0,AT1,0))","v":0},null,null,{"$f":"IF(AT3=\"\",\"\",VLOOKUP(AT3,Indicadores,2,FALSE))","v":""},{"$f":"IF(AX3=\"\",0,IF(AX32>0,AX1,0))","v":0},null,null,{"$f":"IF(AX3=\"\",\"\",VLOOKUP(AX3,Indicadores,2,FALSE))","v":""},{"$f":"IF(BB3=\"\",0,IF(BB32>0,BB1,0))","v":0},null,null,{"$f":"IF(BB3=\"\",\"\",VLOOKUP(BB3,Indicadores,2,FALSE))","v":""},{"$f":"IF(BF3=\"\",0,IF(BF32>0,BF1,0))","v":0},null,null,{"$f":"IF(BF3=\"\",\"\",VLOOKUP(BF3,Indicadores,2,FALSE))","v":""},{"$f":"IF(BJ3=\"\",0,IF(BJ32>0,BJ1,0))","v":0},null,null,{"$f":"IF(BJ3=\"\",\"\",VLOOKUP(BJ3,Indicadores,2,FALSE))","v":""},{"$f":"IF(BN3=\"\",0,IF(BN32>0,BN1,0))","v":0},null,null,{"$f":"IF(BN3=\"\",\"\",VLOOKUP(BN3,Indicadores,2,FALSE))","v":""}]
[{"$f":"Al!D2 & CHAR(10)  & Al!D5  & CHAR(32) & Al!B5","v":"AVE MARÍA ALBOLOTE\nRÚBRICAS LENGUA 1º"},null,null,"Total puntos","Puntuación sobre 4","Puntuación sobre 10",{"$f":"IF(J3=\"\",\"\",VLOOKUP(J3,Indicadores,3,FALSE))","v":""},null,null,null,{"$f":"IF(N3=\"\",\"\",VLOOKUP(N3,Indicadores,3,FALSE))","v":""},null,null,null,{"$f":"IF(R3=\"\",\"\",VLOOKUP(R3,Indicadores,3,FALSE))","v":""},null,null,null,{"$f":"IF(V3=\"\",\"\",VLOOKUP(V3,Indicadores,3,FALSE))","v":""},null,null,null,{"$f":"IF(Z3=\"\",\"\",VLOOKUP(Z3,Indicadores,3,FALSE))","v":""},null,null,null,{"$f":"IF(AD3=\"\",\"\",VLOOKUP(AD3,Indicadores,3,FALSE))","v":""},null,null,null,{"$f":"IF(AH3=\"\",\"\",VLOOKUP(AH3,Indicadores,3,FALSE))","v":""},null,null,null,{"$f":"IF(AL3=\"\",\"\",VLOOKUP(AL3,Indicadores,3,FALSE))","v":""},null,null,null,{"$f":"IF(AP3=\"\",\"\",VLOOKUP(AP3,Indicadores,3,FALSE))","v":""},null,null,null,{"$f":"IF(AT3=\"\",\"\",VLOOKUP(AT3,Indicadores,3,FALSE))","v":""},null,null,null,{"$f":"IF(AX3=\"\",\"\",VLOOKUP(AX3,Indicadores,3,FALSE))","v":""},null,null,null,{"$f":"IF(BB3=\"\",\"\",VLOOKUP(BB3,Indicadores,3,FALSE))","v":""},null,null,null,{"$f":"IF(BF3=\"\",\"\",VLOOKUP(BF3,Indicadores,3,FALSE))","v":""},null,null,null,{"$f":"IF(BJ3=\"\",\"\",VLOOKUP(BJ3,Indicadores,3,FALSE))","v":""},null,null,null,{"$f":"IF(BN3=\"\",\"\",VLOOKUP(BN3,Indicadores,3,FALSE))","v":""}]
[null,null,null,{"$f":"SUM(Valores)*4","v":0},4,10,null,null,null,null,null,null,null,null,null,null,null,null,null,null,null,null,null,null,null,null,null,null,null,null,null,null,null,null,null,null,null,null,null,null,null,null,null,null,null,null,null,null,null,null,null,null,null,null,null,null,null,null,null,null,null,null,null,null,null,null,{"$f":"A3","v":0}]
[{"$f":"IF(Al!D9=\"\",\"\",Al!C9)","v":""},{"$f":"IF(Al!D9=\"\",\"\",Al!D9)","v":""},null,{"$f":"IF((J4*V.01+N4*V.02+R4*V.03+V4*V.04+Z4*V.05+AD4*V.06+AH4*V.07+AL4*V.08+AP4*V.09+AT4*V.10+AX4*V.11+BB4*V.12+BF4*V.13+BJ4*V.14+BN4*V.15)=0,\"\",J4*V.01+N4*V.02+R4*V.03+V4*V.04+Z4*V.05+AD4*V.06+AH4*V.07+AL4*V.08+AP4*V.09+AT4*V.10+AX4*V.11+BB4*V.12+BF4*V.13+BJ4*V.14+BN4*V.15)","v":""},{"$f":"IF(D4=\"\",\"\",D4*Punt4/total)","v":""},{"$f":"IF(D4=\"\",\"\",D4*Punt10/total)","v":""},null,null,null,{"$f":"IFERROR(AVERAGE(G4:I4),0)","v":0},null,null,null,{"$f":"IFERROR(AVERAGE(K4:M4),0)","v":0},null,null,null,{"$f":"IFERROR(AVERAGE(O4:Q4),0)","v":0},null,null,null,{"$f":"IFERROR(AVERAGE(S4:U4),0)","v":0},null,null,null,{"$f":"IFERROR(AVERAGE(W4:Y4),0)","v":0},null,null,null,{"$f":"IFERROR(AVERAGE(AA4:AC4),0)","v":0},null,null,null,{"$f":"IFERROR(AVERAGE(AE4:AG4),0)","v":0},null,null,null,{"$f":"IFERROR(AVERAGE(AI4:AK4),0)","v":0},null,null,null,{"$f":"IFERROR(AVERAGE(AM4:AO4),0)","v":0},null,null,null,{"$f":"IFERROR(AVERAGE(AQ4:AS4),0)","v":0},null,null,null,{"$f":"IFERROR(AVERAGE(AU4:AW4),0)","v":0},null,null,null,{"$f":"IFERROR(AVERAGE(AY4:BA4),0)","v":0},null,null,null,{"$f":"IFERROR(AVERAGE(BC4:BE4),0)","v":0},null,null,null,{"$f":"IFERROR(AVERAGE(BG4:BI4),0)","v":0},null,null,null,{"$f":"IFERROR(AVERAGE(BK4:BM4),0)","v":0},{"$f":"A4","v":""},{"$f":"B4","v":""}]
[{"$f":"IF(Al!D10=\"\",\"\",Al!C10)","v":""},{"$f":"IF(Al!D10=\"\",\"\",Al!D10)","v":""},null,"","","",null,null,null,0,null,null,null,0,null,null,null,0,null,null,null,0,null,null,null,0,null,null,null,0,null,null,null,0,null,null,null,0,null,null,null,0,null,null,null,0,null,null,null,0,null,null,null,0,null,null,null,0,null,null,null,0,null,null,null,0,{"$f":"A5","v":""},""]
[{"$f":"IF(Al!D11=\"\",\"\",Al!C11)","v":""},{"$f":"IF(Al!D11=\"\",\"\",Al!D11)","v":""},null,"","","",null,null,null,0,null,null,null,0,null,null,null,0,null,null,null,0,null,null,null,0,null,null,null,0,null,null,null,0,null,null,null,0,null,null,null,0,null,null,null,0,null,null,null,0,null,null,null,0,null,null,null,0,null,null,null,0,null,null,null,0,"",""]
[{"$f":"IF(Al!D12=\"\",\"\",Al!C12)","v":""},{"$f":"IF(Al!D12=\"\",\"\",Al!D12)","v":""},null,"","","",null,null,null,0,null,null,null,0,null,null,null,0,null,null,null,0,null,null,null,0,null,null,null,0,null,null,null,0,null,null,null,0,null,null,null,0,null,null,null,0,null,null,null,0,null,null,null,0,null,null,null,0,null,null,null,0,null,null,null,0,"",""]
[{"$f":"IF(Al!D13=\"\",\"\",Al!C13)","v":""},{"$f":"IF(Al!D13=\"\",\"\",Al!D13)","v":""},null,"","","",null,null,null,0,null,null,null,0,null,null,null,0,null,null,null,0,null,null,null,0,null,null,null,0,null,null,null,0,null,null,null,0,null,null,null,0,null,null,null,0,null,null,null,0,null,null,null,0,null,null,null,0,null,null,null,0,null,null,null,0,"",""]
[{"$f":"IF(Al!D14=\"\",\"\",Al!C14)","v":""},{"$f":"IF(Al!D14=\"\",\"\",Al!D14)","v":""},null,"","","",null,null,null,0,null,null,null,0,null,null,null,0,null,null,null,0,null,null,null,0,null,null,null,0,null,null,null,0,null,null,null,0,null,null,null,0,null,null,null,0,null,null,null,0,null,null,null,0,null,null,null,0,null,null,null,0,null,null,null,0,"",""]
[{"$f":"IF(Al!D15=\"\",\"\",Al!C15)","v":""},{"$f":"IF(Al!D15=\"\",\"\",Al!D15)","v":""},null,"","","",null,null,null,0,null,null,null,0,null,null,null,0,null,null,null,0,null,null,null,0,null,null,null,0,null,null,null,0,null,null,null,0,null,null,null,0,null,null,null,0,null,null,null,0,null,null,null,0,null,null,null,0,null,null,null,0,null,null,null,0,"",""]
[{"$f":"IF(Al!D16=\"\",\"\",Al!C16)","v":""},{"$f":"IF(Al!D16=\"\",\"\",Al!D16)","v":""},null,"","","",null,null,null,0,null,null,null,0,null,null,null,0,null,null,null,0,null,null,null,0,null,null,null,0,null,null,null,0,null,null,null,0,null,null,null,0,null,null,null,0,null,null,null,0,null,null,null,0,null,null,null,0,null,null,null,0,null,null,null,0,"",""]
[{"$f":"IF(Al!D17=\"\",\"\",Al!C17)","v":""},{"$f":"IF(Al!D17=\"\",\"\",Al!D17)","v":""},null,"","","",null,null,null,0,null,null,null,0,null,null,null,0,null,null,null,0,null,null,null,0,null,null,null,0,null,null,null,0,null,null,null,0,null,null,null,0,null,null,null,0,null,null,null,0,null,null,null,0,null,null,null,0,null,null,null,0,null,null,null,0,"",""]
[{"$f":"IF(Al!D18=\"\",\"\",Al!C18)","v":""},{"$f":"IF(Al!D18=\"\",\"\",Al!D18)","v":""},null,"","","",null,null,null,0,null,null,null,0,null,null,null,0,null,null,null,0,null,null,null,0,null,null,null,0,null,null,null,0,null,null,null,0,null,null,null,0,null,null,null,0,null,null,null,0,null,null,null,0,null,null,null,0,null,null,null,0,null,null,null,0,"",""]
[{"$f":"IF(Al!D19=\"\",\"\",Al!C19)","v":""},{"$f":"IF(Al!D19=\"\",\"\",Al!D19)","v":""},null,"","","",null,null,null,0,null,null,null,0,null,null,null,0,null,null,null,0,null,null,null,0,null,null,null,0,null,null,null,0,null,null,null,0,null,null,null,0,null,null,null,0,null,null,null,0,null,null,null,0,null,null,null,0,null,null,null,0,null,null,null,0,"",""]
[{"$f":"IF(Al!D20=\"\",\"\",Al!C20)","v":""},{"$f":"IF(Al!D20=\"\",\"\",Al!D20)","v":""},null,"","","",null,null,null,0,null,null,null,0,null,null,null,0,null,null,null,0,null,null,null,0,null,null,null,0,null,null,null,0,null,null,null,0,null,null,null,0,null,null,null,0,null,null,null,0,null,null,null,0,null,null,null,0,null,null,null,0,null,null,null,0,"",""]
[{"$f":"IF(Al!D21=\"\",\"\",Al!C21)","v":""},{"$f":"IF(Al!D21=\"\",\"\",Al!D21)","v":""},null,"","","",null,null,null,0,null,null,null,0,null,null,null,0,null,null,null,0,null,null,null,0,null,null,null,0,null,null,null,0,null,null,null,0,null,null,null,0,null,null,null,0,null,null,null,0,null,null,null,0,null,null,null,0,null,null,null,0,null,null,null,0,"",""]
[{"$f":"IF(Al!D22=\"\",\"\",Al!C22)","v":""},{"$f":"IF(Al!D22=\"\",\"\",Al!D22)","v":""},null,"","","",null,null,null,0,null,null,null,0,null,null,null,0,null,null,null,0,null,null,null,0,null,null,null,0,null,null,null,0,null,null,null,0,null,null,null,0,null,null,null,0,null,null,null,0,null,null,null,0,null,null,null,0,null,null,null,0,null,null,null,0,"",""]
[{"$f":"IF(Al!D23=\"\",\"\",Al!C23)","v":""},{"$f":"IF(Al!D23=\"\",\"\",Al!D23)","v":""},null,"","","",null,null,null,0,null,null,null,0,null,null,null,0,null,null,null,0,null,null,null,0,null,null,null,0,null,null,null,0,null,null,null,0,null,null,null,0,null,null,null,0,null,null,null,0,null,null,null,0,null,null,null,0,null,null,null,0,null,null,null,0,"",""]
[{"$f":"IF(Al!D24=\"\",\"\",Al!C24)","v":""},{"$f":"IF(Al!D24=\"\",\"\",Al!D24)","v":""},null,"","","",null,null,null,0,null,null,null,0,null,null,null,0,null,null,null,0,null,null,null,0,null,null,null,0,null,null,null,0,null,null,null,0,null,null,null,0,null,null,null,0,null,null,null,0,null,null,null,0,null,null,null,0,null,null,null,0,null,null,null,0,"",""]
[{"$f":"IF(Al!D25=\"\",\"\",Al!C25)","v":""},{"$f":"IF(Al!D25=\"\",\"\",Al!D25)","v":""},null,"","","",null,null,null,0,null,null,null,0,null,null,null,0,null,null,null,0,null,null,null,0,null,null,null,0,null,null,null,0,null,null,null,0,null,null,null,0,null,null,null,0,null,null,null,0,null,null,null,0,null,null,null,0,null,null,null,0,null,null,null,0,"",""]
[{"$f":"IF(Al!D26=\"\",\"\",Al!C26)","v":""},{"$f":"IF(Al!D26=\"\",\"\",Al!D26)","v":""},null,"","","",null,null,null,0,null,null,null,0,null,null,null,0,null,null,null,0,null,null,null,0,null,null,null,0,null,null,null,0,null,null,null,0,null,null,null,0,null,null,null,0,null,null,null,0,null,null,null,0,null,null,null,0,null,null,null,0,null,null,null,0,"",""]
[{"$f":"IF(Al!D27=\"\",\"\",Al!C27)","v":""},{"$f":"IF(Al!D27=\"\",\"\",Al!D27)","v":""},null,"","","",null,null,null,0,null,null,null,0,null,null,null,0,null,null,null,0,null,null,null,0,null,null,null,0,null,null,null,0,null,null,null,0,null,null,null,0,null,null,null,0,null,null,null,0,null,null,null,0,null,null,null,0,null,null,null,0,null,null,null,0,"",""]
[{"$f":"IF(Al!D28=\"\",\"\",Al!C28)","v":""},{"$f":"IF(Al!D28=\"\",\"\",Al!D28)","v":""},null,"","","",null,null,null,0,null,null,null,0,null,null,null,0,null,null,null,0,null,null,null,0,null,null,null,0,null,null,null,0,null,null,null,0,null,null,null,0,null,null,null,0,null,null,null,0,null,null,null,0,null,null,null,0,null,null,null,0,null,null,null,0,"",""]
[{"$f":"IF(Al!D29=\"\",\"\",Al!C29)","v":""},{"$f":"IF(Al!D29=\"\",\"\",Al!D29)","v":""},null,"","","",null,null,null,0,null,null,null,0,null,null,null,0,null,null,null,0,null,null,null,0,null,null,null,0,null,null,null,0,null,null,null,0,null,null,null,0,null,null,null,0,null,null,null,0,null,null,null,0,null,null,null,0,null,null,null,0,null,null,null,0,"",""]
[{"$f":"IF(Al!D30=\"\",\"\",Al!C30)","v":""},{"$f":"IF(Al!D30=\"\",\"\",Al!D30)","v":""},null,"","","",null,null,null,0,null,null,null,0,null,null,null,0,null,null,null,0,null,null,null,0,null,null,null,0,null,null,null,0,null,null,null,0,null,null,null,0,null,null,null,0,null,null,null,0,null,null,null,0,null,null,null,0,null,null,null,0,null,null,null,0,"",""]
[{"$f":"IF(Al!D31=\"\",\"\",Al!C31)","v":""},{"$f":"IF(Al!D31=\"\",\"\",Al!D31)","v":""},null,"","","",null,null,null,0,null,null,null,0,null,null,null,0,null,null,null,0,null,null,null,0,null,null,null,0,null,null,null,0,null,null,null,0,null,null,null,0,null,null,null,0,null,null,null,0,null,null,null,0,null,null,null,0,null,null,null,0,null,null,null,0,"",""]
[{"$f":"IF(Al!D32=\"\",\"\",Al!C32)","v":""},{"$f":"IF(Al!D32=\"\",\"\",Al!D32)","v":""},null,"","","",null,null,null,0,null,null,null,0,null,null,null,0,null,null,null,0,null,null,null,0,null,null,null,0,null,null,null,0,null,null,null,0,null,null,null,0,null,null,null,0,null,null,null,0,null,null,null,0,null,null,null,0,null,null,null,0,null,null,null,0,"",""]
[{"$f":"IF(Al!D33=\"\",\"\",Al!C33)","v":""},{"$f":"IF(Al!D33=\"\",\"\",Al!D33)","v":""},null,"","","",null,null,null,0,null,null,null,0,null,null,null,0,null,null,null,0,null,null,null,0,null,null,null,0,null,null,null,0,null,null,null,0,null,null,null,0,null,null,null,0,null,null,null,0,null,null,null,0,null,null,null,0,null,null,null,0,null,null,null,0,"",""]
[{"$f":"IF(Al!D34=\"\",\"\",Al!C34)","v":""},{"$f":"IF(Al!D34=\"\",\"\",Al!D34)","v":""},null,"","","",null,null,null,0,null,null,null,0,null,null,null,0,null,null,null,0,null,null,null,0,null,null,null,0,null,null,null,0,null,null,null,0,null,null,null,0,null,null,null,0,null,null,null,0,null,null,null,0,null,null,null,0,null,null,null,0,null,null,null,0,"",""]
[{"$f":"IF(Al!D35=\"\",\"\",Al!C35)","v":""},{"$f":"IF(Al!D35=\"\",\"\",Al!D35)","v":""},null,"","","",null,null,null,0,null,null,null,0,null,null,null,0,null,null,null,0,null,null,null,0,null,null,null,0,null,null,null,0,null,null,null,0,null,null,null,0,null,null,null,0,null,null,null,0,null,null,null,0,null,null,null,0,null,null,null,0,null,null,null,0,"",""]
[{"$f":"IF(Al!D36=\"\",\"\",Al!C36)","v":""},{"$f":"IF(Al!D36=\"\",\"\",Al!D36)","v":""},null,"","","",null,null,null,0,null,null,null,0,null,null,null,0,null,null,null,0,null,null,null,0,null,null,null,0,null,null,null,0,null,null,null,0,null,null,null,0,null,null,null,0,null,null,null,0,null,null,null,0,null,null,null,0,null,null,null,0,null,null,null,0,"",""]
["G","GLOBAL",null,null,{"$f":"IFERROR(AVERAGEIF(E4:E31,\">0\"),0)","v":0},{"$f":"IFERROR(AVERAGEIF(F4:F31,\">0\"),0)","v":0},null,null,null,{"$f":"IFERROR(AVERAGEIF(J4:J31,\">0\"),0)","v":0},null,null,null,{"$f":"IFERROR(AVERAGEIF(N4:N31,\">0\"),0)","v":0},null,null,null,{"$f":"IFERROR(AVERAGEIF(R4:R31,\">0\"),0)","v":0},null,null,null,{"$f":"IFERROR(AVERAGEIF(V4:V31,\">0\"),0)","v":0},null,null,null,{"$f":"IFERROR(AVERAGEIF(Z4:Z31,\">0\"),0)","v":0},null,null,null,{"$f":"IFERROR(AVERAGEIF(AD4:AD31,\">0\"),0)","v":0},null,null,null,{"$f":"IFERROR(AVERAGEIF(AH4:AH31,\">0\"),0)","v":0},null,null,null,{"$f":"IFERROR(AVERAGEIF(AL4:AL31,\">0\"),0)","v":0},null,null,null,{"$f":"IFERROR(AVERAGEIF(AP4:AP31,\">0\"),0)","v":0},null,null,null,{"$f":"IFERROR(AVERAGEIF(AT4:AT31,\">0\"),0)","v":0},null,null,null,{"$f":"IFERROR(AVERAGEIF(AX4:AX31,\">0\"),0)","v":0},null,null,null,{"$f":"IFERROR(AVERAGEIF(BB4:BB31,\">0\"),0)","v":0},null,null,null,{"$f":"IFERROR(AVERAGEIF(BF4:BF31,\">0\"),0)","v":0},null,null,null,{"$f":"IFERROR(AVERAGEIF(BJ4:BJ31,\">0\"),0)","v":0},null,null,null,{"$f":"IFERROR(AVERAGEIF(BN4:BN31,\">0\"),0)","v":0}]
[]
[null,"Insuficiente",{"$f":"COUNTIF(F4:F31,\"<4,5\")-COUNTIF(F4:F31,\"=0\")","v":0},null,{"$f":"IFERROR(C34/C$38,\"\")","v":""},null,{"$f":"COUNTIF(J4:J31,\"<1,9\")-COUNTIF(J4:J31,\"=0\")","v":0},null,{"$f":"IFERROR(G34/G$38,\"\")","v":""},null,{"$f":"COUNTIF(N4:N31,\"<1,9\")-COUNTIF(N4:N31,\"=0\")","v":0},null,{"$f":"IFERROR(K34/K$38,\"\")","v":""},null,{"$f":"COUNTIF(R4:R31,\"<1,9\")-COUNTIF(R4:R31,\"=0\")","v":0},null,{"$f":"IFERROR(O34/O$38,\"\")","v":""},null,{"$f":"COUNTIF(V4:V31,\"<1,9\")-COUNTIF(V4:V31,\"=0\")","v":0},null,{"$f":"IFERROR(S34/S$38,\"\")","v":""},null,{"$f":"COUNTIF(Z4:Z31,\"<1,9\")-COUNTIF(Z4:Z31,\"=0\")","v":0},null,{"$f":"IFERROR(W34/W$38,\"\")","v":""},null,{"$f":"COUNTIF(AD4:AD31,\"<1,9\")-COUNTIF(AD4:AD31,\"=0\")","v":0},null,{"$f":"IFERROR(AA34/AA$38,\"\")","v":""},null,{"$f":"COUNTIF(AH4:AH31,\"<1,9\")-COUNTIF(AH4:AH31,\"=0\")","v":0},null,{"$f":"IFERROR(AE34/AE$38,\"\")","v":""},null,{"$f":"COUNTIF(AL4:AL31,\"<1,9\")-COUNTIF(AL4:AL31,\"=0\")","v":0},null,{"$f":"IFERROR(AI34/AI$38,\"\")","v":""},null,{"$f":"COUNTIF(AP4:AP31,\"<1,9\")-COUNTIF(AP4:AP31,\"=0\")","v":0},null,{"$f":"IFERROR(AM34/AM$38,\"\")","v":""},null,{"$f":"COUNTIF(AT4:AT31,\"<1,9\")-COUNTIF(AT4:AT31,\"=0\")","v":0},null,{"$f":"IFERROR(AQ34/AQ$38,\"\")","v":""},null,{"$f":"COUNTIF(AX4:AX31,\"<1,9\")-COUNTIF(AX4:AX31,\"=0\")","v":0},null,{"$f":"IFERROR(AU34/AU$38,\"\")","v":""},null,{"$f":"COUNTIF(BB4:BB31,\"<1,9\")-COUNTIF(BB4:BB31,\"=0\")","v":0},null,{"$f":"IFERROR(AY34/AY$38,\"\")","v":""},null,{"$f":"COUNTIF(BF4:BF31,\"<1,9\")-COUNTIF(BF4:BF31,\"=0\")","v":0},null,{"$f":"IFERROR(BC34/BC$38,\"\")","v":""},null,{"$f":"COUNTIF(BJ4:BJ31,\"<1,9\")-COUNTIF(BJ4:BJ31,\"=0\")","v":0},null,{"$f":"IFERROR(BG34/BG$38,\"\")","v":""},null,{"$f":"COUNTIF(BN4:BN31,\"<1,9\")-COUNTIF(BN4:BN31,\"=0\")","v":0},null,{"$f":"IFERROR(BK34/BK$38,\"\")","v":""},null,null,"Insuficiente"]
[null,"Bien",{"$f":"COUNTIF(F4:F31,\">4,5\")-COUNTIF(F4:F31,\">=6,5\")","v":0},null,{"$f":"IFERROR(C35/C$38,\"\")","v":""},null,{"$f":"COUNTIF(J4:J31,\">=1,9\")-COUNTIF(J4:J31,\">=2,7\")","v":0},null,{"$f":"IFERROR(G35/G$38,\"\")","v":""},null,{"$f":"COUNTIF(N4:N31,\">=1,9\")-COUNTIF(N4:N31,\">=2,7\")","v":0},null,{"$f":"IFERROR(K35/K$38,\"\")","v":""},null,{"$f":"COUNTIF(R4:R31,\">=1,9\")-COUNTIF(R4:R31,\">=2,7\")","v":0},null,{"$f":"IFERROR(O35/O$38,\"\")","v":""},null,{"$f":"COUNTIF(V4:V31,\">=1,9\")-COUNTIF(V4:V31,\">=2,7\")","v":0},null,{"$f":"IFERROR(S35/S$38,\"\")","v":""},null,{"$f":"COUNTIF(Z4:Z31,\">=1,9\")-COUNTIF(Z4:Z31,\">=2,7\")","v":0},null,{"$f":"IFERROR(W35/W$38,\"\")","v":""},null,{"$f":"COUNTIF(AD4:AD31,\">=1,9\")-COUNTIF(AD4:AD31,\">=2,7\")","v":0},null,{"$f":"IFERROR(AA35/AA$38,\"\")","v":""},null,{"$f":"COUNTIF(AH4:AH31,\">=1,9\")-COUNTIF(AH4:AH31,\">=2,7\")","v":0},null,{"$f":"IFERROR(AE35/AE$38,\"\")","v":""},null,{"$f":"COUNTIF(AL4:AL31,\">=1,9\")-COUNTIF(AL4:AL31,\">=2,7\")","v":0},null,{"$f":"IFERROR(AI35/AI$38,\"\")","v":""},null,{"$f":"COUNTIF(AP4:AP31,\">=1,9\")-COUNTIF(AP4:AP31,\">=2,7\")","v":0},null,{"$f":"IFERROR(AM35/AM$38,\"\")","v":""},null,{"$f":"COUNTIF(AT4:AT31,\">=1,9\")-COUNTIF(AT4:AT31,\">=2,7\")","v":0},null,{"$f":"IFERROR(AQ35/AQ$38,\"\")","v":""},null,{"$f":"COUNTIF(AX4:AX31,\">=1,9\")-COUNTIF(AX4:AX31,\">=2,7\")","v":0},null,{"$f":"IFERROR(AU35/AU$38,\"\")","v":""},null,{"$f":"COUNTIF(BB4:BB31,\">=1,9\")-COUNTIF(BB4:BB31,\">=2,7\")","v":0},null,{"$f":"IFERROR(AY35/AY$38,\"\")","v":""},null,{"$f":"COUNTIF(BF4:BF31,\">=1,9\")-COUNTIF(BF4:BF31,\">=2,7\")","v":0},null,{"$f":"IFERROR(BC35/BC$38,\"\")","v":""},null,{"$f":"COUNTIF(BJ4:BJ31,\">=1,9\")-COUNTIF(BJ4:BJ31,\">=2,7\")","v":0},null,{"$f":"IFERROR(BG35/BG$38,\"\")","v":""},null,{"$f":"COUNTIF(BN4:BN31,\">=1,9\")-COUNTIF(BN4:BN31,\">=2,7\")","v":0},null,{"$f":"IFERROR(BK35/BK$38,\"\")","v":""},null,null,"Bien"]
[null,"Notable",{"$f":"COUNTIF(F4:F31,\">6,5\")-COUNTIF(F4:F31,\">8,5\")","v":0},null,{"$f":"IFERROR(C36/C$38,\"\")","v":""},null,{"$f":"COUNTIF(J4:J31,\">=2,7\")-COUNTIF(J4:J31,\">=3,5\")","v":0},null,{"$f":"IFERROR(G36/G$38,\"\")","v":""},null,{"$f":"COUNTIF(N4:N31,\">=2,7\")-COUNTIF(N4:N31,\">=3,5\")","v":0},null,{"$f":"IFERROR(K36/K$38,\"\")","v":""},null,{"$f":"COUNTIF(R4:R31,\">=2,7\")-COUNTIF(R4:R31,\">=3,5\")","v":0},null,{"$f":"IFERROR(O36/O$38,\"\")","v":""},null,{"$f":"COUNTIF(V4:V31,\">=2,7\")-COUNTIF(V4:V31,\">=3,5\")","v":0},null,{"$f":"IFERROR(S36/S$38,\"\")","v":""},null,{"$f":"COUNTIF(Z4:Z31,\">=2,7\")-COUNTIF(Z4:Z31,\">=3,5\")","v":0},null,{"$f":"IFERROR(W36/W$38,\"\")","v":""},null,{"$f":"COUNTIF(AD4:AD31,\">=2,7\")-COUNTIF(AD4:AD31,\">=3,5\")","v":0},null,{"$f":"IFERROR(AA36/AA$38,\"\")","v":""},null,{"$f":"COUNTIF(AH4:AH31,\">=2,7\")-COUNTIF(AH4:AH31,\">=3,5\")","v":0},null,{"$f":"IFERROR(AE36/AE$38,\"\")","v":""},null,{"$f":"COUNTIF(AL4:AL31,\">=2,7\")-COUNTIF(AL4:AL31,\">=3,5\")","v":0},null,{"$f":"IFERROR(AI36/AI$38,\"\")","v":""},null,{"$f":"COUNTIF(AP4:AP31,\">=2,7\")-COUNTIF(AP4:AP31,\">=3,5\")","v":0},null,{"$f":"IFERROR(AM36/AM$38,\"\")","v":""},null,{"$f":"COUNTIF(AT4:AT31,\">=2,7\")-COUNTIF(AT4:AT31,\">=3,5\")","v":0},null,{"$f":"IFERROR(AQ36/AQ$38,\"\")","v":""},null,{"$f":"COUNTIF(AX4:AX31,\">=2,7\")-COUNTIF(AX4:AX31,\">=3,5\")","v":0},null,{"$f":"IFERROR(AU36/AU$38,\"\")","v":""},null,{"$f":"COUNTIF(BB4:BB31,\">=2,7\")-COUNTIF(BB4:BB31,\">=3,5\")","v":0},null,{"$f":"IFERROR(AY36/AY$38,\"\")","v":""},null,{"$f":"COUNTIF(BF4:BF31,\">=2,7\")-COUNTIF(BF4:BF31,\">=3,5\")","v":0},null,{"$f":"IFERROR(BC36/BC$38,\"\")","v":""},null,{"$f":"COUNTIF(BJ4:BJ31,\">=2,7\")-COUNTIF(BJ4:BJ31,\">=3,5\")","v":0},null,{"$f":"IFERROR(BG36/BG$38,\"\")","v":""},null,{"$f":"COUNTIF(BN4:BN31,\">=2,7\")-COUNTIF(BN4:BN31,\">=3,5\")","v":0},null,{"$f":"IFERROR(BK36/BK$38,\"\")","v":""},null,null,"Notable"]
[null,"Sobresaliente",{"$f":"COUNTIF(F4:F31,\">8,5\")","v":0},null,{"$f":"IFERROR(C37/C$38,\"\")","v":""},null,{"$f":"COUNTIF(J4:J31,\">=3,5\")","v":0},null,{"$f":"IFERROR(G37/G$38,\"\")","v":""},null,{"$f":"COUNTIF(N4:N31,\">=3,5\")","v":0},null,{"$f":"IFERROR(K37/K$38,\"\")","v":""},null,{"$f":"COUNTIF(R4:R31,\">=3,5\")","v":0},null,{"$f":"IFERROR(O37/O$38,\"\")","v":""},null,{"$f":"COUNTIF(V4:V31,\">=3,5\")","v":0},null,{"$f":"IFERROR(S37/S$38,\"\")","v":""},null,{"$f":"COUNTIF(Z4:Z31,\">=3,5\")","v":0},null,{"$f":"IFERROR(W37/W$38,\"\")","v":""},null,{"$f":"COUNTIF(AD4:AD31,\">=3,5\")","v":0},null,{"$f":"IFERROR(AA37/AA$38,\"\")","v":""},null,{"$f":"COUNTIF(AH4:AH31,\">=3,5\")","v":0},null,{"$f":"IFERROR(AE37/AE$38,\"\")","v":""},null,{"$f":"COUNTIF(AL4:AL31,\">=3,5\")","v":0},null,{"$f":"IFERROR(AI37/AI$38,\"\")","v":""},null,{"$f":"COUNTIF(AP4:AP31,\">=3,5\")","v":0},null,{"$f":"IFERROR(AM37/AM$38,\"\")","v":""},null,{"$f":"COUNTIF(AT4:AT31,\">=3,5\")","v":0},null,{"$f":"IFERROR(AQ37/AQ$38,\"\")","v":""},null,{"$f":"COUNTIF(AX4:AX31,\">=3,5\")","v":0},null,{"$f":"IFERROR(AU37/AU$38,\"\")","v":""},null,{"$f":"COUNTIF(BB4:BB31,\">=3,5\")","v":0},null,{"$f":"IFERROR(AY37/AY$38,\"\")","v":""},null,{"$f":"COUNTIF(BF4:BF31,\">=3,5\")","v":0},null,{"$f":"IFERROR(BC37/BC$38,\"\")","v":""},null,{"$f":"COUNTIF(BJ4:BJ31,\">=3,5\")","v":0},null,{"$f":"IFERROR(BG37/BG$38,\"\")","v":""},null,{"$f":"COUNTIF(BN4:BN31,\">=3,5\")","v":0},null,{"$f":"IFERROR(BK37/BK$38,\"\")","v":""},null,null,"Sobresaliente"]
[null,"Evaluados",{"$f":"SUM(C34:D37)","v":0},null,{"$f":"SUM(E34:F37)","v":0},null,{"$f":"SUM(G34:H37)","v":0},null,{"$f":"SUM(I34:J37)","v":0},null,{"$f":"SUM(K34:L37)","v":0},null,{"$f":"SUM(M34:N37)","v":0},null,{"$f":"SUM(O34:P37)","v":0},null,{"$f":"SUM(Q34:R37)","v":0},null,{"$f":"SUM(S34:T37)","v":0},null,{"$f":"SUM(U34:V37)","v":0},null,{"$f":"SUM(W34:X37)","v":0},null,{"$f":"SUM(Y34:Z37)","v":0},null,{"$f":"SUM(AA34:AB37)","v":0},null,{"$f":"SUM(AC34:AD37)","v":0},null,{"$f":"SUM(AE34:AF37)","v":0},null,{"$f":"SUM(AG34:AH37)","v":0},null,{"$f":"SUM(AI34:AJ37)","v":0},null,{"$f":"SUM(AK34:AL37)","v":0},null,{"$f":"SUM(AM34:AN37)","v":0},null,{"$f":"SUM(AO34:AP37)","v":0},null,{"$f":"SUM(AQ34:AR37)","v":0},null,{"$f":"SUM(AS34:AT37)","v":0},null,{"$f":"SUM(AU34:AV37)","v":0},null,{"$f":"SUM(AW34:AX37)","v":0},null,{"$f":"SUM(AY34:AZ37)","v":0},null,{"$f":"SUM(BA34:BB37)","v":0},null,{"$f":"SUM(BC34:BD37)","v":0},null,{"$f":"SUM(BE34:BF37)","v":0},null,{"$f":"SUM(BG34:BH37)","v":0},null,{"$f":"SUM(BI34:BJ37)","v":0},null,{"$f":"SUM(BK34:BL37)","v":0},null,{"$f":"SUM(BM34:BN37)","v":0},null,null,"Evaluados"]
[]
[]
[null,2,null,null,null,null,10,14,18,22,26,30,34,38,42,46,50,54,58,62,66,null,null,null,null,null,null,null,null,null,null,null,null,null,null,null,null,null,null,null,null,null,null,null,null,null,null,null,null,null,null,null,null,null,null,null,null,null,null,null,null,null,null,null,null,null,null,2]
["G","CLASE",null,null,null,{"$f":"IFERROR(VLOOKUP($A$42,$A$4:$AT$32,F41),\"\")","v":""},{"$f":"IFERROR(VLOOKUP(clase,todo,G41),\"\")","v":0},0,0,0,0,0,0,0,0,0,0,0,0,0,0,{"$f":"IFERROR(VLOOKUP($A$42,$A$4:$AT$32,V41),\"\")","v":""},{"$f":"IFERROR(VLOOKUP($A$42,$A$4:$AT$32,W41),\"\")","v":""},{"$f":"IFERROR(VLOOKUP($A$42,$A$4:$AT$32,X41),\"\")","v":""}]
[1,{"$f":"IFERROR(VLOOKUP($A$43,$A$4:$AT$32,B$41),\"\")","v":""},null,null,null,null,{"$f":"IFERROR(VLOOKUP(alumno,todo,G41),\"\")","v":""},"","","","","","","","","","","","","",""]
[null,"(Comparar con la clase)",null,null,null,null,{"$f":"IF(J3=0,\"\",J3)","v":""},{"$f":"IF(N3=0,\"\",N3)","v":""},{"$f":"IF(R3=0,\"\",R3)","v":""},{"$f":"IF(V3=0,\"\",V3)","v":""},{"$f":"IF(Z3=0,\"\",Z3)","v":""},{"$f":"IF(AD3=0,\"\",AD3)","v":""},{"$f":"IF(AH3=0,\"\",AH3)","v":""},{"$f":"IF(AL3=0,\"\",AL3)","v":""},{"$f":"IF(AP3=0,\"\",AP3)","v":""},{"$f":"IF(AT3=0,\"\",AT3)","v":""},{"$f":"IF(AX3=0,\"\",AX3)","v":""},{"$f":"IF(BB3=0,\"\",BB3)","v":""},{"$f":"IF(BF3=0,\"\",BF3)","v":""},{"$f":"IF(BJ3=0,\"\",BJ3)","v":""},{"$f":"IF(BN3=0,\"\",BN3)","v":""}]
[]
[]
[]
[]
[]
[]
[]
[]
[]
[]
[]
[]
[]
[]
[]
[null,".",null,null,null,null,null,null,null,null,null,null,null,null,null,null,null,null,null,null,null,null,null,null,null,null,null,null,null,null,null,null,null,null,null,null,null,null,null,null,null,null,null,null,null,null,null,null,null,null,null,null,null,null,null,null,null,null,null,null,null,null,null,null,null,null,null,"."]

{"sheet":"E10","index":10,"n_rows":60,"n_cols":68,"rows_kept":60,"cut":false,"hidden":false,"merged":[[38,38,38,41],[37,64,37,65],[38,2,38,5],[38,42,38,45],[38,62,38,65],[37,52,37,53],[37,54,37,55],[37,56,37,57],[37,58,37,59],[37,60,37,61],[37,62,37,63],[37,40,37,41],[37,42,37,43],[37,44,37,45],[37,46,37,47],[37,48,37,49],[37,50,37,51],[37,28,37,29],[37,30,37,31],[37,32,37,33],[37,34,37,35],[37,36,37,37],[37,38,37,39],[37,16,37,17],[37,18,37,19],[37,20,37,21],[37,22,37,23],[37,24,37,25],[37,26,37,27],[36,60,36,61],[36,62,36,63],[36,64,36,65],[37,2,37,3],[37,4,37,5],[37,6,37,7],[37,8,37,9],[37,10,37,11],[37,12,37,13],[37,14,37,15],[36,48,36,49],[36,50,36,51],[36,52,36,53],[36,54,36,55],[36,56,36,57],[36,58,36,59],[36,36,36,37],[36,38,36,39],[36,40,36,41],[36,12,36,13],[36,14,36,15],[36,16,36,17],[36,18,36,19],[36,20,36,21],[36,22,36,23],[35,56,35,57],[35,58,35,59],[35,60,35,61],[35,30,35,31],[36,42,36,43],[36,44,36,45],[36,46,36,47],[36,24,36,25],[36,26,36,27],[36,28,36,29],[36,30,36,31],[36,32,36,33],[36,34,36,35],[35,62,35,63],[35,64,35,65],[36,2,36,3],[36,4,36,5],[36,6,36,7],[36,8,36,9],[36,10,36,11],[35,44,35,45],[35,46,35,47],[35,48,35,49],[35,50,35,51],[35,52,35,53],[35,54,35,55],[35,32,35,33],[35,34,35,35],[35,36,35,37],[35,38,35,39],[35,40,35,41],[35,42,35,43],[35,20,35,21],[35,22,35,23],[35,24,35,25],[35,26,35,27],[35,28,35,29],[34,64,34,65],[35,2,35,3],[35,4,35,5],[35,6,35,7],[35,8,35,9],[35,10,35,11],[35,12,35,13],[35,14,35,15],[35,16,35,17],[35,18,35,19],[34,52,34,53],[34,54,34,55],[34,56,34,57],[34,58,34,59],[34,60,34,61],[34,62,34,63],[34,40,34,41],[34,42,34,43],[34,44,34,45],[34,46,34,47],[34,48,34,49],[34,50,34,51],[34,28,34,29],[34,30,34,31],[34,32,34,33],[34,34,34,35],[34,36,34,37],[34,38,34,39],[34,16,34,17],[34,18,34,19],[34,20,34,21],[34,22,34,23],[34,24,34,25],[34,26,34,27],[33,60,33,61],[33,62,33,63],[33,64,33,65],[34,2,34,3],[34,4,34,5],[34,6,34,7],[34,8,34,9],[34,10,34,11],[34,12,34,13],[34,14,34,15],[33,48,33,49],[33,50,33,51],[33,52,33,53],[33,54,33,55],[33,56,33,57],[33,58,33,59],[33,36,33,37],[33,38,33,39],[33,40,33,41],[33,42,33,43],[33,44,33,45],[33,46,33,47],[33,24,33,25],[33,26,33,27],[33,2,33,3],[33,4,33,5],[33,6,33,7],[33,8,33,9],[33,10,33,11],[1,26,1,29],[1,30,1,33],[1,34,1,37],[1,38,1,41],[33,28,33,29],[33,30,33,31],[33,32,33,33],[33,34,33,35],[33,12,33,13],[33,14,33,15],[33,16,33,17],[33,18,33,19],[33,20,33,21],[33,22,33,23],[2,0,2,1],[2,66,2,67],[1,0,1,1],[1,6,1,9],[1,10,1,13],[1,14,1,17],[1,18,1,21],[1,22,1,25],[1,50,1,53],[1,54,1,57],[1,58,1,61],[1,62,1,65],[1,66,1,67],[1,42,1,45],[1,46,1,49]]}
[null,null,null,null,null,null,{"$f":"IF(J3=\"\",0,IF(J32>0,J1,0))","v":0},null,null,{"$f":"IF(J3=\"\",\"\",VLOOKUP(J3,Indicadores,2,FALSE))","v":""},{"$f":"IF(N3=\"\",0,IF(N32>0,N1,0))","v":0},null,null,{"$f":"IF(N3=\"\",\"\",VLOOKUP(N3,Indicadores,2,FALSE))","v":""},{"$f":"IF(R3=\"\",0,IF(R32>0,R1,0))","v":0},null,null,{"$f":"IF(R3=\"\",\"\",VLOOKUP(R3,Indicadores,2,FALSE))","v":""},{"$f":"IF(V3=\"\",0,IF(V32>0,V1,0))","v":0},null,null,{"$f":"IF(V3=\"\",\"\",VLOOKUP(V3,Indicadores,2,FALSE))","v":""},{"$f":"IF(Z3=\"\",0,IF(Z32>0,Z1,0))","v":0},null,null,{"$f":"IF(Z3=\"\",\"\",VLOOKUP(Z3,Indicadores,2,FALSE))","v":""},{"$f":"IF(AD3=\"\",0,IF(AD32>0,AD1,0))","v":0},null,null,{"$f":"IF(AD3=\"\",\"\",VLOOKUP(AD3,Indicadores,2,FALSE))","v":""},{"$f":"IF(AH3=\"\",0,IF(AH32>0,AH1,0))","v":0},null,null,{"$f":"IF(AH3=\"\",\"\",VLOOKUP(AH3,Indicadores,2,FALSE))","v":""},{"$f":"IF(AL3=\"\",0,IF(AL32>0,AL1,0))","v":0},null,null,{"$f":"IF(AL3=\"\",\"\",VLOOKUP(AL3,Indicadores,2,FALSE))","v":""},{"$f":"IF(AP3=\"\",0,IF(AP32>0,AP1,0))","v":0},null,null,{"$f":"IF(AP3=\"\",\"\",VLOOKUP(AP3,Indicadores,2,FALSE))","v":""},{"$f":"IF(AT3=\"\",0,IF(AT32>0,AT1,0))","v":0},null,null,{"$f":"IF(AT3=\"\",\"\",VLOOKUP(AT3,Indicadores,2,FALSE))","v":""},{"$f":"IF(AX3=\"\",0,IF(AX32>0,AX1,0))","v":0},null,null,{"$f":"IF(AX3=\"\",\"\",VLOOKUP(AX3,Indicadores,2,FALSE))","v":""},{"$f":"IF(BB3=\"\",0,IF(BB32>0,BB1,0))","v":0},null,null,{"$f":"IF(BB3=\"\",\"\",VLOOKUP(BB3,Indicadores,2,FALSE))","v":""},{"$f":"IF(BF3=\"\",0,IF(BF32>0,BF1,0))","v":0},null,null,{"$f":"IF(BF3=\"\",\"\",VLOOKUP(BF3,Indicadores,2,FALSE))","v":""},{"$f":"IF(BJ3=\"\",0,IF(BJ32>0,BJ1,0))","v":0},null,null,{"$f":"IF(BJ3=\"\",\"\",VLOOKUP(BJ3,Indicadores,2,FALSE))","v":""},{"$f":"IF(BN3=\"\",0,IF(BN32>0,BN1,0))","v":0},null,null,{"$f":"IF(BN3=\"\",\"\",VLOOKUP(BN3,Indicadores,2,FALSE))","v":""}]
[{"$f":"Al!D2 & CHAR(10)  & Al!D5  & CHAR(32) & Al!B5","v":"AVE MARÍA ALBOLOTE\nRÚBRICAS LENGUA 1º"},null,null,"Total puntos","Puntuación sobre 4","Puntuación sobre 10",{"$f":"IF(J3=\"\",\"\",VLOOKUP(J3,Indicadores,3,FALSE))","v":""},null,null,null,{"$f":"IF(N3=\"\",\"\",VLOOKUP(N3,Indicadores,3,FALSE))","v":""},null,null,null,{"$f":"IF(R3=\"\",\"\",VLOOKUP(R3,Indicadores,3,FALSE))","v":""},null,null,null,{"$f":"IF(V3=\"\",\"\",VLOOKUP(V3,Indicadores,3,FALSE))","v":""},null,null,null,{"$f":"IF(Z3=\"\",\"\",VLOOKUP(Z3,Indicadores,3,FALSE))","v":""},null,null,null,{"$f":"IF(AD3=\"\",\"\",VLOOKUP(AD3,Indicadores,3,FALSE))","v":""},null,null,null,{"$f":"IF(AH3=\"\",\"\",VLOOKUP(AH3,Indicadores,3,FALSE))","v":""},null,null,null,{"$f":"IF(AL3=\"\",\"\",VLOOKUP(AL3,Indicadores,3,FALSE))","v":""},null,null,null,{"$f":"IF(AP3=\"\",\"\",VLOOKUP(AP3,Indicadores,3,FALSE))","v":""},null,null,null,{"$f":"IF(AT3=\"\",\"\",VLOOKUP(AT3,Indicadores,3,FALSE))","v":""},null,null,null,{"$f":"IF(AX3=\"\",\"\",VLOOKUP(AX3,Indicadores,3,FALSE))","v":""},null,null,null,{"$f":"IF(BB3=\"\",\"\",VLOOKUP(BB3,Indicadores,3,FALSE))","v":""},null,null,null,{"$f":"IF(BF3=\"\",\"\",VLOOKUP(BF3,Indicadores,3,FALSE))","v":""},null,null,null,{"$f":"IF(BJ3=\"\",\"\",VLOOKUP(BJ3,Indicadores,3,FALSE))","v":""},null,null,null,{"$f":"IF(BN3=\"\",\"\",VLOOKUP(BN3,Indicadores,3,FALSE))","v":""}]
[null,null,null,{"$f":"SUM(Valores)*4","v":0},4,10,null,null,null,null,null,null,null,null,null,null,null,null,null,null,null,null,null,null,null,null,null,null,null,null,null,null,null,null,null,null,null,null,null,null,null,null,null,null,null,null,null,null,null,null,null,null,null,null,null,null,null,null,null,null,null,null,null,null,null,null,{"$f":"A3","v":0}]
[{"$f":"IF(Al!D9=\"\",\"\",Al!C9)","v":""},{"$f":"IF(Al!D9=\"\",\"\",Al!D9)","v":""},null,{"$f":"IF((J4*V.01+N4*V.02+R4*V.03+V4*V.04+Z4*V.05+AD4*V.06+AH4*V.07+AL4*V.08+AP4*V.09+AT4*V.10+AX4*V.11+BB4*V.12+BF4*V.13+BJ4*V.14+BN4*V.15)=0,\"\",J4*V.01+N4*V.02+R4*V.03+V4*V.04+Z4*V.05+AD4*V.06+AH4*V.07+AL4*V.08+AP4*V.09+AT4*V.10+AX4*V.11+BB4*V.12+BF4*V.13+BJ4*V.14+BN4*V.15)","v":""},{"$f":"IF(D4=\"\",\"\",D4*Punt4/total)","v":""},{"$f":"IF(D4=\"\",\"\",D4*Punt10/total)","v":""},null,null,null,{"$f":"IFERROR(AVERAGE(G4:I4),0)","v":0},null,null,null,{"$f":"IFERROR(AVERAGE(K4:M4),0)","v":0},null,null,null,{"$f":"IFERROR(AVERAGE(O4:Q4),0)","v":0},null,null,null,{"$f":"IFERROR(AVERAGE(S4:U4),0)","v":0},null,null,null,{"$f":"IFERROR(AVERAGE(W4:Y4),0)","v":0},null,null,null,{"$f":"IFERROR(AVERAGE(AA4:AC4),0)","v":0},null,null,null,{"$f":"IFERROR(AVERAGE(AE4:AG4),0)","v":0},null,null,null,{"$f":"IFERROR(AVERAGE(AI4:AK4),0)","v":0},null,null,null,{"$f":"IFERROR(AVERAGE(AM4:AO4),0)","v":0},null,null,null,{"$f":"IFERROR(AVERAGE(AQ4:AS4),0)","v":0},null,null,null,{"$f":"IFERROR(AVERAGE(AU4:AW4),0)","v":0},null,null,null,{"$f":"IFERROR(AVERAGE(AY4:BA4),0)","v":0},null,null,null,{"$f":"IFERROR(AVERAGE(BC4:BE4),0)","v":0},null,null,null,{"$f":"IFERROR(AVERAGE(BG4:BI4),0)","v":0},null,null,null,{"$f":"IFERROR(AVERAGE(BK4:BM4),0)","v":0},{"$f":"A4","v":""},{"$f":"B4","v":""}]
[{"$f":"IF(Al!D10=\"\",\"\",Al!C10)","v":""},{"$f":"IF(Al!D10=\"\",\"\",Al!D10)","v":""},null,"","","",null,null,null,0,null,null,null,0,null,null,null,0,null,null,null,0,null,null,null,0,null,null,null,0,null,null,null,0,null,null,null,0,null,null,null,0,null,null,null,0,null,null,null,0,null,null,null,0,null,null,null,0,null,null,null,0,null,null,null,0,{"$f":"A5","v":""},""]
[{"$f":"IF(Al!D11=\"\",\"\",Al!C11)","v":""},{"$f":"IF(Al!D11=\"\",\"\",Al!D11)","v":""},null,"","","",null,null,null,0,null,null,null,0,null,null,null,0,null,null,null,0,null,null,null,0,null,null,null,0,null,null,null,0,null,null,null,0,null,null,null,0,null,null,null,0,null,null,null,0,null,null,null,0,null,null,null,0,null,null,null,0,null,null,null,0,"",""]
[{"$f":"IF(Al!D12=\"\",\"\",Al!C12)","v":""},{"$f":"IF(Al!D12=\"\",\"\",Al!D12)","v":""},null,"","","",null,null,null,0,null,null,null,0,null,null,null,0,null,null,null,0,null,null,null,0,null,null,null,0,null,null,null,0,null,null,null,0,null,null,null,0,null,null,null,0,null,null,null,0,null,null,null,0,null,null,null,0,null,null,null,0,null,null,null,0,"",""]
[{"$f":"IF(Al!D13=\"\",\"\",Al!C13)","v":""},{"$f":"IF(Al!D13=\"\",\"\",Al!D13)","v":""},null,"","","",null,null,null,0,null,null,null,0,null,null,null,0,null,null,null,0,null,null,null,0,null,null,null,0,null,null,null,0,null,null,null,0,null,null,null,0,null,null,null,0,null,null,null,0,null,null,null,0,null,null,null,0,null,null,null,0,null,null,null,0,"",""]
[{"$f":"IF(Al!D14=\"\",\"\",Al!C14)","v":""},{"$f":"IF(Al!D14=\"\",\"\",Al!D14)","v":""},null,"","","",null,null,null,0,null,null,null,0,null,null,null,0,null,null,null,0,null,null,null,0,null,null,null,0,null,null,null,0,null,null,null,0,null,null,null,0,null,null,null,0,null,null,null,0,null,null,null,0,null,null,null,0,null,null,null,0,null,null,null,0,"",""]
[{"$f":"IF(Al!D15=\"\",\"\",Al!C15)","v":""},{"$f":"IF(Al!D15=\"\",\"\",Al!D15)","v":""},null,"","","",null,null,null,0,null,null,null,0,null,null,null,0,null,null,null,0,null,null,null,0,null,null,null,0,null,null,null,0,null,null,null,0,null,null,null,0,null,null,null,0,null,null,null,0,null,null,null,0,null,null,null,0,null,null,null,0,null,null,null,0,"",""]
[{"$f":"IF(Al!D16=\"\",\"\",Al!C16)","v":""},{"$f":"IF(Al!D16=\"\",\"\",Al!D16)","v":""},null,"","","",null,null,null,0,null,null,null,0,null,null,null,0,null,null,null,0,null,null,null,0,null,null,null,0,null,null,null,0,null,null,null,0,null,null,null,0,null,null,null,0,null,null,null,0,null,null,null,0,null,null,null,0,null,null,null,0,null,null,null,0,"",""]
[{"$f":"IF(Al!D17=\"\",\"\",Al!C17)","v":""},{"$f":"IF(Al!D17=\"\",\"\",Al!D17)","v":""},null,"","","",null,null,null,0,null,null,null,0,null,null,null,0,null,null,null,0,null,null,null,0,null,null,null,0,null,null,null,0,null,null,null,0,null,null,null,0,null,null,null,0,null,null,null,0,null,null,null,0,null,null,null,0,null,null,null,0,null,null,null,0,"",""]
[{"$f":"IF(Al!D18=\"\",\"\",Al!C18)","v":""},{"$f":"IF(Al!D18=\"\",\"\",Al!D18)","v":""},null,"","","",null,null,null,0,null,null,null,0,null,null,null,0,null,null,null,0,null,null,null,0,null,null,null,0,null,null,null,0,null,null,null,0,null,null,null,0,null,null,null,0,null,null,null,0,null,null,null,0,null,null,null,0,null,null,null,0,null,null,null,0,"",""]
[{"$f":"IF(Al!D19=\"\",\"\",Al!C19)","v":""},{"$f":"IF(Al!D19=\"\",\"\",Al!D19)","v":""},null,"","","",null,null,null,0,null,null,null,0,null,null,null,0,null,null,null,0,null,null,null,0,null,null,null,0,null,null,null,0,null,null,null,0,null,null,null,0,null,null,null,0,null,null,null,0,null,null,null,0,null,null,null,0,null,null,null,0,null,null,null,0,"",""]
[{"$f":"IF(Al!D20=\"\",\"\",Al!C20)","v":""},{"$f":"IF(Al!D20=\"\",\"\",Al!D20)","v":""},null,"","","",null,null,null,0,null,null,null,0,null,null,null,0,null,null,null,0,null,null,null,0,null,null,null,0,null,null,null,0,null,null,null,0,null,null,null,0,null,null,null,0,null,null,null,0,null,null,null,0,null,null,null,0,null,null,null,0,null,null,null,0,"",""]
[{"$f":"IF(Al!D21=\"\",\"\",Al!C21)","v":""},{"$f":"IF(Al!D21=\"\",\"\",Al!D21)","v":""},null,"","","",null,null,null,0,null,null,null,0,null,null,null,0,null,null,null,0,null,null,null,0,null,null,null,0,null,null,null,0,null,null,null,0,null,null,null,0,null,null,null,0,null,null,null,0,null,null,null,0,null,null,null,0,null,null,null,0,null,null,null,0,"",""]
[{"$f":"IF(Al!D22=\"\",\"\",Al!C22)","v":""},{"$f":"IF(Al!D22=\"\",\"\",Al!D22)","v":""},null,"","","",null,null,null,0,null,null,null,0,null,null,null,0,null,null,null,0,null,null,null,0,null,null,null,0,null,null,null,0,null,null,null,0,null,null,null,0,null,null,null,0,null,null,null,0,null,null,null,0,null,null,null,0,null,null,null,0,null,null,null,0,"",""]
[{"$f":"IF(Al!D23=\"\",\"\",Al!C23)","v":""},{"$f":"IF(Al!D23=\"\",\"\",Al!D23)","v":""},null,"","","",null,null,null,0,null,null,null,0,null,null,null,0,null,null,null,0,null,null,null,0,null,null,null,0,null,null,null,0,null,null,null,0,null,null,null,0,null,null,null,0,null,null,null,0,null,null,null,0,null,null,null,0,null,null,null,0,null,null,null,0,"",""]
[{"$f":"IF(Al!D24=\"\",\"\",Al!C24)","v":""},{"$f":"IF(Al!D24=\"\",\"\",Al!D24)","v":""},null,"","","",null,null,null,0,null,null,null,0,null,null,null,0,null,null,null,0,null,null,null,0,null,null,null,0,null,null,null,0,null,null,null,0,null,null,null,0,null,null,null,0,null,null,null,0,null,null,null,0,null,null,null,0,null,null,null,0,null,null,null,0,"",""]
[{"$f":"IF(Al!D25=\"\",\"\",Al!C25)","v":""},{"$f":"IF(Al!D25=\"\",\"\",Al!D25)","v":""},null,"","","",null,null,null,0,null,null,null,0,null,null,null,0,null,null,null,0,null,null,null,0,null,null,null,0,null,null,null,0,null,null,null,0,null,null,null,0,null,null,null,0,null,null,null,0,null,null,null,0,null,null,null,0,null,null,null,0,null,null,null,0,"",""]
[{"$f":"IF(Al!D26=\"\",\"\",Al!C26)","v":""},{"$f":"IF(Al!D26=\"\",\"\",Al!D26)","v":""},null,"","","",null,null,null,0,null,null,null,0,null,null,null,0,null,null,null,0,null,null,null,0,null,null,null,0,null,null,null,0,null,null,null,0,null,null,null,0,null,null,null,0,null,null,null,0,null,null,null,0,null,null,null,0,null,null,null,0,null,null,null,0,"",""]
[{"$f":"IF(Al!D27=\"\",\"\",Al!C27)","v":""},{"$f":"IF(Al!D27=\"\",\"\",Al!D27)","v":""},null,"","","",null,null,null,0,null,null,null,0,null,null,null,0,null,null,null,0,null,null,null,0,null,null,null,0,null,null,null,0,null,null,null,0,null,null,null,0,null,null,null,0,null,null,null,0,null,null,null,0,null,null,null,0,null,null,null,0,null,null,null,0,"",""]
[{"$f":"IF(Al!D28=\"\",\"\",Al!C28)","v":""},{"$f":"IF(Al!D28=\"\",\"\",Al!D28)","v":""},null,"","","",null,null,null,0,null,null,null,0,null,null,null,0,null,null,null,0,null,null,null,0,null,null,null,0,null,null,null,0,null,null,null,0,null,null,null,0,null,null,null,0,null,null,null,0,null,null,null,0,null,null,null,0,null,null,null,0,null,null,null,0,"",""]
[{"$f":"IF(Al!D29=\"\",\"\",Al!C29)","v":""},{"$f":"IF(Al!D29=\"\",\"\",Al!D29)","v":""},null,"","","",null,null,null,0,null,null,null,0,null,null,null,0,null,null,null,0,null,null,null,0,null,null,null,0,null,null,null,0,null,null,null,0,null,null,null,0,null,null,null,0,null,null,null,0,null,null,null,0,null,null,null,0,null,null,null,0,null,null,null,0,"",""]
[{"$f":"IF(Al!D30=\"\",\"\",Al!C30)","v":""},{"$f":"IF(Al!D30=\"\",\"\",Al!D30)","v":""},null,"","","",null,null,null,0,null,null,null,0,null,null,null,0,null,null,null,0,null,null,null,0,null,null,null,0,null,null,null,0,null,null,null,0,null,null,null,0,null,null,null,0,null,null,null,0,null,null,null,0,null,null,null,0,null,null,null,0,null,null,null,0,"",""]
[{"$f":"IF(Al!D31=\"\",\"\",Al!C31)","v":""},{"$f":"IF(Al!D31=\"\",\"\",Al!D31)","v":""},null,"","","",null,null,null,0,null,null,null,0,null,null,null,0,null,null,null,0,null,null,null,0,null,null,null,0,null,null,null,0,null,null,null,0,null,null,null,0,null,null,null,0,null,null,null,0,null,null,null,0,null,null,null,0,null,null,null,0,null,null,null,0,"",""]
[{"$f":"IF(Al!D32=\"\",\"\",Al!C32)","v":""},{"$f":"IF(Al!D32=\"\",\"\",Al!D32)","v":""},null,"","","",null,null,null,0,null,null,null,0,null,null,null,0,null,null,null,0,null,null,null,0,null,null,null,0,null,null,null,0,null,null,null,0,null,null,null,0,null,null,null,0,null,null,null,0,null,null,null,0,null,null,null,0,null,null,null,0,null,null,null,0,"",""]
[{"$f":"IF(Al!D33=\"\",\"\",Al!C33)","v":""},{"$f":"IF(Al!D33=\"\",\"\",Al!D33)","v":""},null,"","","",null,null,null,0,null,null,null,0,null,null,null,0,null,null,null,0,null,null,null,0,null,null,null,0,null,null,null,0,null,null,null,0,null,null,null,0,null,null,null,0,null,null,null,0,null,null,null,0,null,null,null,0,null,null,null,0,null,null,null,0,"",""]
[{"$f":"IF(Al!D34=\"\",\"\",Al!C34)","v":""},{"$f":"IF(Al!D34=\"\",\"\",Al!D34)","v":""},null,"","","",null,null,null,0,null,null,null,0,null,null,null,0,null,null,null,0,null,null,null,0,null,null,null,0,null,null,null,0,null,null,null,0,null,null,null,0,null,null,null,0,null,null,null,0,null,null,null,0,null,null,null,0,null,null,null,0,null,null,null,0,"",""]
[{"$f":"IF(Al!D35=\"\",\"\",Al!C35)","v":""},{"$f":"IF(Al!D35=\"\",\"\",Al!D35)","v":""},null,"","","",null,null,null,0,null,null,null,0,null,null,null,0,null,null,null,0,null,null,null,0,null,null,null,0,null,null,null,0,null,null,null,0,null,null,null,0,null,null,null,0,null,null,null,0,null,null,null,0,null,null,null,0,null,null,null,0,null,null,null,0,"",""]
[{"$f":"IF(Al!D36=\"\",\"\",Al!C36)","v":""},{"$f":"IF(Al!D36=\"\",\"\",Al!D36)","v":""},null,"","","",null,null,null,0,null,null,null,0,null,null,null,0,null,null,null,0,null,null,null,0,null,null,null,0,null,null,null,0,null,null,null,0,null,null,null,0,null,null,null,0,null,null,null,0,null,null,null,0,null,null,null,0,null,null,null,0,null,null,null,0,"",""]
["G","GLOBAL",null,null,{"$f":"IFERROR(AVERAGEIF(E4:E31,\">0\"),0)","v":0},{"$f":"IFERROR(AVERAGEIF(F4:F31,\">0\"),0)","v":0},null,null,null,{"$f":"IFERROR(AVERAGEIF(J4:J31,\">0\"),0)","v":0},null,null,null,{"$f":"IFERROR(AVERAGEIF(N4:N31,\">0\"),0)","v":0},null,null,null,{"$f":"IFERROR(AVERAGEIF(R4:R31,\">0\"),0)","v":0},null,null,null,{"$f":"IFERROR(AVERAGEIF(V4:V31,\">0\"),0)","v":0},null,null,null,{"$f":"IFERROR(AVERAGEIF(Z4:Z31,\">0\"),0)","v":0},null,null,null,{"$f":"IFERROR(AVERAGEIF(AD4:AD31,\">0\"),0)","v":0},null,null,null,{"$f":"IFERROR(AVERAGEIF(AH4:AH31,\">0\"),0)","v":0},null,null,null,{"$f":"IFERROR(AVERAGEIF(AL4:AL31,\">0\"),0)","v":0},null,null,null,{"$f":"IFERROR(AVERAGEIF(AP4:AP31,\">0\"),0)","v":0},null,null,null,{"$f":"IFERROR(AVERAGEIF(AT4:AT31,\">0\"),0)","v":0},null,null,null,{"$f":"IFERROR(AVERAGEIF(AX4:AX31,\">0\"),0)","v":0},null,null,null,{"$f":"IFERROR(AVERAGEIF(BB4:BB31,\">0\"),0)","v":0},null,null,null,{"$f":"IFERROR(AVERAGEIF(BF4:BF31,\">0\"),0)","v":0},null,null,null,{"$f":"IFERROR(AVERAGEIF(BJ4:BJ31,\">0\"),0)","v":0},null,null,null,{"$f":"IFERROR(AVERAGEIF(BN4:BN31,\">0\"),0)","v":0}]
[]
[null,"Insuficiente",{"$f":"COUNTIF(F4:F31,\"<4,5\")-COUNTIF(F4:F31,\"=0\")","v":0},null,{"$f":"IFERROR(C34/C$38,\"\")","v":""},null,{"$f":"COUNTIF(J4:J31,\"<1,9\")-COUNTIF(J4:J31,\"=0\")","v":0},null,{"$f":"IFERROR(G34/G$38,\"\")","v":""},null,{"$f":"COUNTIF(N4:N31,\"<1,9\")-COUNTIF(N4:N31,\"=0\")","v":0},null,{"$f":"IFERROR(K34/K$38,\"\")","v":""},null,{"$f":"COUNTIF(R4:R31,\"<1,9\")-COUNTIF(R4:R31,\"=0\")","v":0},null,{"$f":"IFERROR(O34/O$38,\"\")","v":""},null,{"$f":"COUNTIF(V4:V31,\"<1,9\")-COUNTIF(V4:V31,\"=0\")","v":0},null,{"$f":"IFERROR(S34/S$38,\"\")","v":""},null,{"$f":"COUNTIF(Z4:Z31,\"<1,9\")-COUNTIF(Z4:Z31,\"=0\")","v":0},null,{"$f":"IFERROR(W34/W$38,\"\")","v":""},null,{"$f":"COUNTIF(AD4:AD31,\"<1,9\")-COUNTIF(AD4:AD31,\"=0\")","v":0},null,{"$f":"IFERROR(AA34/AA$38,\"\")","v":""},null,{"$f":"COUNTIF(AH4:AH31,\"<1,9\")-COUNTIF(AH4:AH31,\"=0\")","v":0},null,{"$f":"IFERROR(AE34/AE$38,\"\")","v":""},null,{"$f":"COUNTIF(AL4:AL31,\"<1,9\")-COUNTIF(AL4:AL31,\"=0\")","v":0},null,{"$f":"IFERROR(AI34/AI$38,\"\")","v":""},null,{"$f":"COUNTIF(AP4:AP31,\"<1,9\")-COUNTIF(AP4:AP31,\"=0\")","v":0},null,{"$f":"IFERROR(AM34/AM$38,\"\")","v":""},null,{"$f":"COUNTIF(AT4:AT31,\"<1,9\")-COUNTIF(AT4:AT31,\"=0\")","v":0},null,{"$f":"IFERROR(AQ34/AQ$38,\"\")","v":""},null,{"$f":"COUNTIF(AX4:AX31,\"<1,9\")-COUNTIF(AX4:AX31,\"=0\")","v":0},null,{"$f":"IFERROR(AU34/AU$38,\"\")","v":""},null,{"$f":"COUNTIF(BB4:BB31,\"<1,9\")-COUNTIF(BB4:BB31,\"=0\")","v":0},null,{"$f":"IFERROR(AY34/AY$38,\"\")","v":""},null,{"$f":"COUNTIF(BF4:BF31,\"<1,9\")-COUNTIF(BF4:BF31,\"=0\")","v":0},null,{"$f":"IFERROR(BC34/BC$38,\"\")","v":""},null,{"$f":"COUNTIF(BJ4:BJ31,\"<1,9\")-COUNTIF(BJ4:BJ31,\"=0\")","v":0},null,{"$f":"IFERROR(BG34/BG$38,\"\")","v":""},null,{"$f":"COUNTIF(BN4:BN31,\"<1,9\")-COUNTIF(BN4:BN31,\"=0\")","v":0},null,{"$f":"IFERROR(BK34/BK$38,\"\")","v":""},null,null,"Insuficiente"]
[null,"Bien",{"$f":"COUNTIF(F4:F31,\">4,5\")-COUNTIF(F4:F31,\">=6,5\")","v":0},null,{"$f":"IFERROR(C35/C$38,\"\")","v":""},null,{"$f":"COUNTIF(J4:J31,\">=1,9\")-COUNTIF(J4:J31,\">=2,7\")","v":0},null,{"$f":"IFERROR(G35/G$38,\"\")","v":""},null,{"$f":"COUNTIF(N4:N31,\">=1,9\")-COUNTIF(N4:N31,\">=2,7\")","v":0},null,{"$f":"IFERROR(K35/K$38,\"\")","v":""},null,{"$f":"COUNTIF(R4:R31,\">=1,9\")-COUNTIF(R4:R31,\">=2,7\")","v":0},null,{"$f":"IFERROR(O35/O$38,\"\")","v":""},null,{"$f":"COUNTIF(V4:V31,\">=1,9\")-COUNTIF(V4:V31,\">=2,7\")","v":0},null,{"$f":"IFERROR(S35/S$38,\"\")","v":""},null,{"$f":"COUNTIF(Z4:Z31,\">=1,9\")-COUNTIF(Z4:Z31,\">=2,7\")","v":0},null,{"$f":"IFERROR(W35/W$38,\"\")","v":""},null,{"$f":"COUNTIF(AD4:AD31,\">=1,9\")-COUNTIF(AD4:AD31,\">=2,7\")","v":0},null,{"$f":"IFERROR(AA35/AA$38,\"\")","v":""},null,{"$f":"COUNTIF(AH4:AH31,\">=1,9\")-COUNTIF(AH4:AH31,\">=2,7\")","v":0},null,{"$f":"IFERROR(AE35/AE$38,\"\")","v":""},null,{"$f":"COUNTIF(AL4:AL31,\">=1,9\")-COUNTIF(AL4:AL31,\">=2,7\")","v":0},null,{"$f":"IFERROR(AI35/AI$38,\"\")","v":""},null,{"$f":"COUNTIF(AP4:AP31,\">=1,9\")-COUNTIF(AP4:AP31,\">=2,7\")","v":0},null,{"$f":"IFERROR(AM35/AM$38,\"\")","v":""},null,{"$f":"COUNTIF(AT4:AT31,\">=1,9\")-COUNTIF(AT4:AT31,\">=2,7\")","v":0},null,{"$f":"IFERROR(AQ35/AQ$38,\"\")","v":""},null,{"$f":"COUNTIF(AX4:AX31,\">=1,9\")-COUNTIF(AX4:AX31,\">=2,7\")","v":0},null,{"$f":"IFERROR(AU35/AU$38,\"\")","v":""},null,{"$f":"COUNTIF(BB4:BB31,\">=1,9\")-COUNTIF(BB4:BB31,\">=2,7\")","v":0},null,{"$f":"IFERROR(AY35/AY$38,\"\")","v":""},null,{"$f":"COUNTIF(BF4:BF31,\">=1,9\")-COUNTIF(BF4:BF31,\">=2,7\")","v":0},null,{"$f":"IFERROR(BC35/BC$38,\"\")","v":""},null,{"$f":"COUNTIF(BJ4:BJ31,\">=1,9\")-COUNTIF(BJ4:BJ31,\">=2,7\")","v":0},null,{"$f":"IFERROR(BG35/BG$38,\"\")","v":""},null,{"$f":"COUNTIF(BN4:BN31,\">=1,9\")-COUNTIF(BN4:BN31,\">=2,7\")","v":0},null,{"$f":"IFERROR(BK35/BK$38,\"\")","v":""},null,null,"Bien"]
[null,"Notable",{"$f":"COUNTIF(F4:F31,\">6,5\")-COUNTIF(F4:F31,\">8,5\")","v":0},null,{"$f":"IFERROR(C36/C$38,\"\")","v":""},null,{"$f":"COUNTIF(J4:J31,\">=2,7\")-COUNTIF(J4:J31,\">=3,5\")","v":0},null,{"$f":"IFERROR(G36/G$38,\"\")","v":""},null,{"$f":"COUNTIF(N4:N31,\">=2,7\")-COUNTIF(N4:N31,\">=3,5\")","v":0},null,{"$f":"IFERROR(K36/K$38,\"\")","v":""},null,{"$f":"COUNTIF(R4:R31,\">=2,7\")-COUNTIF(R4:R31,\">=3,5\")","v":0},null,{"$f":"IFERROR(O36/O$38,\"\")","v":""},null,{"$f":"COUNTIF(V4:V31,\">=2,7\")-COUNTIF(V4:V31,\">=3,5\")","v":0},null,{"$f":"IFERROR(S36/S$38,\"\")","v":""},null,{"$f":"COUNTIF(Z4:Z31,\">=2,7\")-COUNTIF(Z4:Z31,\">=3,5\")","v":0},null,{"$f":"IFERROR(W36/W$38,\"\")","v":""},null,{"$f":"COUNTIF(AD4:AD31,\">=2,7\")-COUNTIF(AD4:AD31,\">=3,5\")","v":0},null,{"$f":"IFERROR(AA36/AA$38,\"\")","v":""},null,{"$f":"COUNTIF(AH4:AH31,\">=2,7\")-COUNTIF(AH4:AH31,\">=3,5\")","v":0},null,{"$f":"IFERROR(AE36/AE$38,\"\")","v":""},null,{"$f":"COUNTIF(AL4:AL31,\">=2,7\")-COUNTIF(AL4:AL31,\">=3,5\")","v":0},null,{"$f":"IFERROR(AI36/AI$38,\"\")","v":""},null,{"$f":"COUNTIF(AP4:AP31,\">=2,7\")-COUNTIF(AP4:AP31,\">=3,5\")","v":0},null,{"$f":"IFERROR(AM36/AM$38,\"\")","v":""},null,{"$f":"COUNTIF(AT4:AT31,\">=2,7\")-COUNTIF(AT4:AT31,\">=3,5\")","v":0},null,{"$f":"IFERROR(AQ36/AQ$38,\"\")","v":""},null,{"$f":"COUNTIF(AX4:AX31,\">=2,7\")-COUNTIF(AX4:AX31,\">=3,5\")","v":0},null,{"$f":"IFERROR(AU36/AU$38,\"\")","v":""},null,{"$f":"COUNTIF(BB4:BB31,\">=2,7\")-COUNTIF(BB4:BB31,\">=3,5\")","v":0},null,{"$f":"IFERROR(AY36/AY$38,\"\")","v":""},null,{"$f":"COUNTIF(BF4:BF31,\">=2,7\")-COUNTIF(BF4:BF31,\">=3,5\")","v":0},null,{"$f":"IFERROR(BC36/BC$38,\"\")","v":""},null,{"$f":"COUNTIF(BJ4:BJ31,\">=2,7\")-COUNTIF(BJ4:BJ31,\">=3,5\")","v":0},null,{"$f":"IFERROR(BG36/BG$38,\"\")","v":""},null,{"$f":"COUNTIF(BN4:BN31,\">=2,7\")-COUNTIF(BN4:BN31,\">=3,5\")","v":0},null,{"$f":"IFERROR(BK36/BK$38,\"\")","v":""},null,null,"Notable"]
[null,"Sobresaliente",{"$f":"COUNTIF(F4:F31,\">8,5\")","v":0},null,{"$f":"IFERROR(C37/C$38,\"\")","v":""},null,{"$f":"COUNTIF(J4:J31,\">=3,5\")","v":0},null,{"$f":"IFERROR(G37/G$38,\"\")","v":""},null,{"$f":"COUNTIF(N4:N31,\">=3,5\")","v":0},null,{"$f":"IFERROR(K37/K$38,\"\")","v":""},null,{"$f":"COUNTIF(R4:R31,\">=3,5\")","v":0},null,{"$f":"IFERROR(O37/O$38,\"\")","v":""},null,{"$f":"COUNTIF(V4:V31,\">=3,5\")","v":0},null,{"$f":"IFERROR(S37/S$38,\"\")","v":""},null,{"$f":"COUNTIF(Z4:Z31,\">=3,5\")","v":0},null,{"$f":"IFERROR(W37/W$38,\"\")","v":""},null,{"$f":"COUNTIF(AD4:AD31,\">=3,5\")","v":0},null,{"$f":"IFERROR(AA37/AA$38,\"\")","v":""},null,{"$f":"COUNTIF(AH4:AH31,\">=3,5\")","v":0},null,{"$f":"IFERROR(AE37/AE$38,\"\")","v":""},null,{"$f":"COUNTIF(AL4:AL31,\">=3,5\")","v":0},null,{"$f":"IFERROR(AI37/AI$38,\"\")","v":""},null,{"$f":"COUNTIF(AP4:AP31,\">=3,5\")","v":0},null,{"$f":"IFERROR(AM37/AM$38,\"\")","v":""},null,{"$f":"COUNTIF(AT4:AT31,\">=3,5\")","v":0},null,{"$f":"IFERROR(AQ37/AQ$38,\"\")","v":""},null,{"$f":"COUNTIF(AX4:AX31,\">=3,5\")","v":0},null,{"$f":"IFERROR(AU37/AU$38,\"\")","v":""},null,{"$f":"COUNTIF(BB4:BB31,\">=3,5\")","v":0},null,{"$f":"IFERROR(AY37/AY$38,\"\")","v":""},null,{"$f":"COUNTIF(BF4:BF31,\">=3,5\")","v":0},null,{"$f":"IFERROR(BC37/BC$38,\"\")","v":""},null,{"$f":"COUNTIF(BJ4:BJ31,\">=3,5\")","v":0},null,{"$f":"IFERROR(BG37/BG$38,\"\")","v":""},null,{"$f":"COUNTIF(BN4:BN31,\">=3,5\")","v":0},null,{"$f":"IFERROR(BK37/BK$38,\"\")","v":""},null,null,"Sobresaliente"]
[null,"Evaluados",{"$f":"SUM(C34:D37)","v":0},null,{"$f":"SUM(E34:F37)","v":0},null,{"$f":"SUM(G34:H37)","v":0},null,{"$f":"SUM(I34:J37)","v":0},null,{"$f":"SUM(K34:L37)","v":0},null,{"$f":"SUM(M34:N37)","v":0},null,{"$f":"SUM(O34:P37)","v":0},null,{"$f":"SUM(Q34:R37)","v":0},null,{"$f":"SUM(S34:T37)","v":0},null,{"$f":"SUM(U34:V37)","v":0},null,{"$f":"SUM(W34:X37)","v":0},null,{"$f":"SUM(Y34:Z37)","v":0},null,{"$f":"SUM(AA34:AB37)","v":0},null,{"$f":"SUM(AC34:AD37)","v":0},null,{"$f":"SUM(AE34:AF37)","v":0},null,{"$f":"SUM(AG34:AH37)","v":0},null,{"$f":"SUM(AI34:AJ37)","v":0},null,{"$f":"SUM(AK34:AL37)","v":0},null,{"$f":"SUM(AM34:AN37)","v":0},null,{"$f":"SUM(AO34:AP37)","v":0},null,{"$f":"SUM(AQ34:AR37)","v":0},null,{"$f":"SUM(AS34:AT37)","v":0},null,{"$f":"SUM(AU34:AV37)","v":0},null,{"$f":"SUM(AW34:AX37)","v":0},null,{"$f":"SUM(AY34:AZ37)","v":0},null,{"$f":"SUM(BA34:BB37)","v":0},null,{"$f":"SUM(BC34:BD37)","v":0},null,{"$f":"SUM(BE34:BF37)","v":0},null,{"$f":"SUM(BG34:BH37)","v":0},null,{"$f":"SUM(BI34:BJ37)","v":0},null,{"$f":"SUM(BK34:BL37)","v":0},null,{"$f":"SUM(BM34:BN37)","v":0},null,null,"Evaluados"]
[]
[]
[null,2,null,null,null,null,10,14,18,22,26,30,34,38,42,46,50,54,58,62,66,null,null,null,null,null,null,null,null,null,null,null,null,null,null,null,null,null,null,null,null,null,null,null,null,null,null,null,null,null,null,null,null,null,null,null,null,null,null,null,null,null,null,null,null,null,null,2]
["G","CLASE",null,null,null,{"$f":"IFERROR(VLOOKUP($A$42,$A$4:$AT$32,F41),\"\")","v":""},{"$f":"IFERROR(VLOOKUP(clase,todo,G41),\"\")","v":0},0,0,0,0,0,0,0,0,0,0,0,0,0,0,{"$f":"IFERROR(VLOOKUP($A$42,$A$4:$AT$32,V41),\"\")","v":""},{"$f":"IFERROR(VLOOKUP($A$42,$A$4:$AT$32,W41),\"\")","v":""},{"$f":"IFERROR(VLOOKUP($A$42,$A$4:$AT$32,X41),\"\")","v":""}]
[1,{"$f":"IFERROR(VLOOKUP($A$43,$A$4:$AT$32,B$41),\"\")","v":""},null,null,null,null,{"$f":"IFERROR(VLOOKUP(alumno,todo,G41),\"\")","v":""},"","","","","","","","","","","","","",""]
[null,"(Comparar con la clase)",null,null,null,null,{"$f":"IF(J3=0,\"\",J3)","v":""},{"$f":"IF(N3=0,\"\",N3)","v":""},{"$f":"IF(R3=0,\"\",R3)","v":""},{"$f":"IF(V3=0,\"\",V3)","v":""},{"$f":"IF(Z3=0,\"\",Z3)","v":""},{"$f":"IF(AD3=0,\"\",AD3)","v":""},{"$f":"IF(AH3=0,\"\",AH3)","v":""},{"$f":"IF(AL3=0,\"\",AL3)","v":""},{"$f":"IF(AP3=0,\"\",AP3)","v":""},{"$f":"IF(AT3=0,\"\",AT3)","v":""},{"$f":"IF(AX3=0,\"\",AX3)","v":""},{"$f":"IF(BB3=0,\"\",BB3)","v":""},{"$f":"IF(BF3=0,\"\",BF3)","v":""},{"$f":"IF(BJ3=0,\"\",BJ3)","v":""},{"$f":"IF(BN3=0,\"\",BN3)","v":""}]
[]
[]
[]
[]
[]
[]
[]
[]
[]
[]
[]
[]
[]
[]
[]
[null,".",null,null,null,null,null,null,null,null,null,null,null,null,null,null,null,null,null,null,null,null,null,null,null,null,null,null,null,null,null,null,null,null,null,null,null,null,null,null,null,null,null,null,null,null,null,null,null,null,null,null,null,null,null,null,null,null,null,null,null,null,null,null,null,null,null,"."]

{"sheet":"Indicadores","index":11,"n_rows":104,"n_cols":4,"rows_kept":104,"cut":false,"hidden":false,"merged":[[1,0,1,1]]}
[]
["ÁREA",null,{"$f":"IF(Al!D5=\"\",\"\",Al!D5 & \" - \" & Al!B5)","v":"RÚBRICAS LENGUA - 1º"},"BÁS."]
[]
["N","POND","                                         INDICADORES                                 (Valor de ponderación)",2]
[1,{"$f":"IF(C5=\"\",0,IF(D5=\"\",1,$D$4))","v":1},"FLUIDEZ Y COMPRENSIÓN LECTORA"]
[2,{"$f":"IF(C7=\"\",0,IF(D6=\"\",1,$D$4))","v":1},"Fluidez"]
[3,{"$f":"IF(C8=\"\",0,IF(D7=\"\",1,$D$4))","v":1},"1.-Precisión"]
[4,{"$f":"IF(C9=\"\",0,IF(D8=\"\",1,$D$4))","v":1},"2.- Ritmo"]
[5,1,"3.- Expresividad"]
[6,1,"Comprensión"]
[7,1,"4.- Comprensión literal"]
[8,1,"5.- Comprensión inferencial"]
[9,1,"6.- Comprensión valorativa"]
[10,1]
[11,1,"EXPOSICIÓN ORAL"]
[12,1,"1.- Presentación"]
[13,1,"2.- Título "]
[14,1,"3.- Contenido del formato"]
[15,1,"4.- Contenido"]
[16,1,"5.- Interacción"]
[17,1,"6.- Postura"]
[18,1,"7.- Conclusión"]
[19,1,"8.- Mirar al público"]
[20,1,"9.- Lectura"]
[21,1,"10.- Tono de voz"]
[22,1,"11.- Duración "]
[23,1]
[24,1,"EXPRESIÓN ESCRITA"]
[25,1,"Escribimos palabras 1º ev"]
[26,{"$f":"IF(C30=\"\",0,IF(D30=\"\",1,$D$4))","v":1},"1. Relacionar un dibujo con su sustantivo"]
[27,{"$f":"IF(C31=\"\",0,IF(D31=\"\",1,$D$4))","v":1},"2. Escribir nombres propios"]
[28,{"$f":"IF(C32=\"\",0,IF(D32=\"\",1,$D$4))","v":1},"Escribimos palabras 2º ev"]
[29,1,"1. Relacionar cada dibujo con su adjetivo"]
[30,{"$f":"IF(C79=\"\",0,IF(D34=\"\",1,$D$4))","v":0},"2. Completar una frase con adjetivos"]
[31,0,"3. Responder a las preguntas usando verbos"]
[32,0,"Escribimos frases "]
[33,0,"1. Inventar una frase a partir de un dibujo."]
[34,0,"2. Ordena la frase correctamente."]
[35,0,"3. Alargar frases"]
[36,{"$f":"IF(C87=\"\",0,IF(D40=\"\",1,$D$4))","v":0},"4. Escribir tres frases sobre un tema propuesto"]
[37,0,"Escribimos historias"]
[38,0,"1. Ordenar viñetas y frases para escribir una historia"]
[39,0,"Describimos, decimos cómo son "]
[40,0,"1. Describir un dibujo"]
[41,0,"Escribimos notas "]
[42,0,"1. Escribir o redactar una nota"]
[43,{"$f":"IF(C34=\"\",0,IF(D47=\"\",1,$D$4))","v":1}]
[44,{"$f":"IF(C35=\"\",0,IF(D48=\"\",1,$D$4))","v":1}]
[45,{"$f":"IF(C36=\"\",0,IF(D49=\"\",1,$D$4))","v":1}]
[46,{"$f":"IF(C37=\"\",0,IF(D50=\"\",1,$D$4))","v":1}]
[47,{"$f":"IF(C38=\"\",0,IF(D51=\"\",1,$D$4))","v":1}]
[48,1]
[49,{"$f":"IF(C40=\"\",0,IF(D53=\"\",1,$D$4))","v":1}]
[50,1]
[51,1]
[52,1]
[53,1]
[54,1]
[55,1]
[56,0]
[57,0]
[58,0]
[59,0]
[60,0]
[61,0]
[62,0]
[63,0]
[64,0]
[65,0]
[66,0]
[67,0]
[68,0]
[69,0]
[70,0]
[71,0]
[72,0]
[73,0]
[74,0]
[75,0]
[76,0]
[77,0]
[78,0]
[79,0]
[80,0]
[81,0]
[82,0]
[83,0]
[84,0]
[85,0]
[86,0]
[87,0]
[88,0]
[89,0]
[90,0]
[91,0]
[92,0]
[93,0]
[94,0]
[95,0]
[96,0]
[97,0]
[98,0]
[99,{"$f":"IF(C103=\"\",0,IF(D103=\"\",1,$D$4))","v":0}]
[100,0]